BEGIN:VCALENDAR
VERSION:2.0
PRODID:-//Rippey News - ECPv6.13.2.1//NONSGML v1.0//EN
CALSCALE:GREGORIAN
METHOD:PUBLISH
X-WR-CALNAME:Rippey News
X-ORIGINAL-URL:https://www.rippeynews.com
X-WR-CALDESC:Events for Rippey News
REFRESH-INTERVAL;VALUE=DURATION:PT1H
X-Robots-Tag:noindex
X-PUBLISHED-TTL:PT1H
BEGIN:VTIMEZONE
TZID:UTC
BEGIN:STANDARD
TZOFFSETFROM:+0000
TZOFFSETTO:+0000
TZNAME:UTC
DTSTART:20230101T000000
END:STANDARD
END:VTIMEZONE
BEGIN:VEVENT
DTSTART;TZID=UTC:20230816T190000
DTEND;TZID=UTC:20230816T200000
DTSTAMP:20260425T220156
CREATED:20230803T171247Z
LAST-MODIFIED:20230803T171250Z
UID:8428-1692212400-1692216000@www.rippeynews.com
SUMMARY:UMC Reunion Choir Rehearsals
DESCRIPTION:The Rippey UMC Sesquicentennial plans for Sunday\, August 27 are being finalized.We hope to put together a reunion choir for the Sesquicentennial on Sunday\, August 27. Rehearsals will be August 16 and 23 at 7:00 at the church. Anyone who likes to sing is welcome to join us.
URL:https://www.rippeynews.com/event/umc-reunion-choir-rehearsals/
LOCATION:Rippey United Methodist Church\, 103 Main St.\, Rippey\, IA\, 50235
END:VEVENT
END:VCALENDAR