BEGIN:VCALENDAR
VERSION:2.0
PRODID:-//Rippey News - ECPv6.13.2.1//NONSGML v1.0//EN
CALSCALE:GREGORIAN
METHOD:PUBLISH
X-ORIGINAL-URL:https://www.rippeynews.com
X-WR-CALDESC:Events for Rippey News
REFRESH-INTERVAL;VALUE=DURATION:PT1H
X-Robots-Tag:noindex
X-PUBLISHED-TTL:PT1H
BEGIN:VTIMEZONE
TZID:UTC
BEGIN:STANDARD
TZOFFSETFROM:+0000
TZOFFSETTO:+0000
TZNAME:UTC
DTSTART:20230101T000000
END:STANDARD
END:VTIMEZONE
BEGIN:VEVENT
DTSTART;TZID=UTC:20231216T180000
DTEND;TZID=UTC:20231216T193000
DTSTAMP:20260425T160038
CREATED:20231214T002430Z
LAST-MODIFIED:20231214T002431Z
UID:8563-1702749600-1702755000@www.rippeynews.com
SUMMARY:Music Recital
DESCRIPTION:Janice Johnston & Students
URL:https://www.rippeynews.com/event/music-recital-2/
LOCATION:Rippey Community Center\, 224 Main St.\, Rippey\, IA
END:VEVENT
END:VCALENDAR