BEGIN:VCALENDAR
VERSION:2.0
PRODID:-//Rippey News - ECPv6.13.2.1//NONSGML v1.0//EN
CALSCALE:GREGORIAN
METHOD:PUBLISH
X-ORIGINAL-URL:https://www.rippeynews.com
X-WR-CALDESC:Events for Rippey News
REFRESH-INTERVAL;VALUE=DURATION:PT1H
X-Robots-Tag:noindex
X-PUBLISHED-TTL:PT1H
BEGIN:VTIMEZONE
TZID:UTC
BEGIN:STANDARD
TZOFFSETFROM:+0000
TZOFFSETTO:+0000
TZNAME:UTC
DTSTART:20250101T000000
END:STANDARD
END:VTIMEZONE
BEGIN:VEVENT
DTSTART;TZID=UTC:20251010T000000
DTEND;TZID=UTC:20251012T235959
DTSTAMP:20260424T043453
CREATED:20251009T030454Z
LAST-MODIFIED:20251009T030642Z
UID:9469-1760054400-1760313599@www.rippeynews.com
SUMMARY:Boys of Summer
DESCRIPTION:Last chance to catch the Boys of Summer at Walt Anderson Field. \n\n\n\nhttps://www.facebook.com/share/p/1BtZubYXgi
URL:https://www.rippeynews.com/event/boys-of-summer/
LOCATION:Walt Anderson Field\, Rippey\, IA
END:VEVENT
END:VCALENDAR