BEGIN:VCALENDAR
VERSION:2.0
PRODID:-//Rippey News - ECPv6.13.2.1//NONSGML v1.0//EN
CALSCALE:GREGORIAN
METHOD:PUBLISH
X-WR-CALNAME:Rippey News
X-ORIGINAL-URL:https://www.rippeynews.com
X-WR-CALDESC:Events for Rippey News
REFRESH-INTERVAL;VALUE=DURATION:PT1H
X-Robots-Tag:noindex
X-PUBLISHED-TTL:PT1H
BEGIN:VTIMEZONE
TZID:UTC
BEGIN:STANDARD
TZOFFSETFROM:+0000
TZOFFSETTO:+0000
TZNAME:UTC
DTSTART:20260101T000000
END:STANDARD
END:VTIMEZONE
BEGIN:VEVENT
DTSTART;TZID=UTC:20260525T000000
DTEND;TZID=UTC:20260525T235959
DTSTAMP:20260423T194115
CREATED:20260415T194203Z
LAST-MODIFIED:20260415T194348Z
UID:9704-1779667200-1779753599@www.rippeynews.com
SUMMARY:Memorial Day Service
DESCRIPTION:Memorial Day Service. More information to come.
URL:https://www.rippeynews.com/event/memorial-day-services-4/
LOCATION:IA
END:VEVENT
END:VCALENDAR