BEGIN:VCALENDAR
VERSION:2.0
PRODID:-//Rippey News - ECPv6.13.2.1//NONSGML v1.0//EN
CALSCALE:GREGORIAN
METHOD:PUBLISH
X-ORIGINAL-URL:https://www.rippeynews.com
X-WR-CALDESC:Events for Rippey News
REFRESH-INTERVAL;VALUE=DURATION:PT1H
X-Robots-Tag:noindex
X-PUBLISHED-TTL:PT1H
BEGIN:VTIMEZONE
TZID:UTC
BEGIN:STANDARD
TZOFFSETFROM:+0000
TZOFFSETTO:+0000
TZNAME:UTC
DTSTART:20260101T000000
END:STANDARD
END:VTIMEZONE
BEGIN:VEVENT
DTSTART;TZID=UTC:20260104T173000
DTEND;TZID=UTC:20260104T183000
DTSTAMP:20260423T233205
CREATED:20251231T143007Z
LAST-MODIFIED:20251231T143008Z
UID:9587-1767547800-1767551400@www.rippeynews.com
SUMMARY:Friends of Rippey Meeting
DESCRIPTION:Friends of Rippey Meeting. All are welcome!
URL:https://www.rippeynews.com/event/friends-of-rippey-meeting-23/
LOCATION:Rippey Community Center\, 224 Main St.\, Rippey\, IA
END:VEVENT
BEGIN:VEVENT
DTSTART;TZID=UTC:20260122T180000
DTEND;TZID=UTC:20260122T193000
DTSTAMP:20260423T233205
CREATED:20260102T181618Z
LAST-MODIFIED:20260102T181922Z
UID:9589-1769104800-1769110200@www.rippeynews.com
SUMMARY:Greene County Reads
DESCRIPTION:
URL:https://www.rippeynews.com/event/greene-county-reads-6/
LOCATION:Rippey Public Library\, 224 Main St.\, Rippey\, IA
END:VEVENT
BEGIN:VEVENT
DTSTART;TZID=UTC:20260207T000000
DTEND;TZID=UTC:20260207T235959
DTSTAMP:20260423T233205
CREATED:20250924T215457Z
LAST-MODIFIED:20250924T215458Z
UID:9455-1770422400-1770508799@www.rippeynews.com
SUMMARY:BRR Ride
DESCRIPTION:49th Annual Bike Ride to Rippey. More information to come. \n\n\n\nhttps://www.facebook.com/share/17A2nuYqFJ
URL:https://www.rippeynews.com/event/brr-ride-9/
LOCATION:IA
END:VEVENT
BEGIN:VEVENT
DTSTART;TZID=UTC:20260207T083000
DTEND;TZID=UTC:20260207T083000
DTSTAMP:20260423T233205
CREATED:20251003T191115Z
LAST-MODIFIED:20251003T191248Z
UID:9462-1770453000-1770453000@www.rippeynews.com
SUMMARY:PBR Half Marathon
DESCRIPTION:Perry – Berkley – Rippey half marathon. \n\n\n\nhttps://www.facebook.com/share/1Bb4vGh9EZ
URL:https://www.rippeynews.com/event/pbr-half-marathon-3/
LOCATION:IA
END:VEVENT
BEGIN:VEVENT
DTSTART;TZID=UTC:20260305T183000
DTEND;TZID=UTC:20260305T200000
DTSTAMP:20260423T233205
CREATED:20260303T211106Z
LAST-MODIFIED:20260303T211107Z
UID:9645-1772735400-1772740800@www.rippeynews.com
SUMMARY:Lions Club Meeting
DESCRIPTION:
URL:https://www.rippeynews.com/event/lions-club-meeting-75/
LOCATION:Rippey United Methodist Church\, 103 Main St.\, Rippey\, IA\, 50235
END:VEVENT
BEGIN:VEVENT
DTSTART;TZID=UTC:20260308T173000
DTEND;TZID=UTC:20260308T183000
DTSTAMP:20260423T233205
CREATED:20260223T203844Z
LAST-MODIFIED:20260303T211605Z
UID:9641-1772991000-1772994600@www.rippeynews.com
SUMMARY:Friends Of Rippey Meeting
DESCRIPTION:
URL:https://www.rippeynews.com/event/friends-of-rippey-meeting-24/
LOCATION:IA
END:VEVENT
BEGIN:VEVENT
DTSTART;TZID=UTC:20260318T183000
DTEND;TZID=UTC:20260318T200000
DTSTAMP:20260423T233205
CREATED:20260316T190104Z
LAST-MODIFIED:20260316T190105Z
UID:9659-1773858600-1773864000@www.rippeynews.com
SUMMARY:Lions Club Meeting
DESCRIPTION:
URL:https://www.rippeynews.com/event/lions-club-meeting-76/
LOCATION:IA
END:VEVENT
BEGIN:VEVENT
DTSTART;TZID=UTC:20260328T100000
DTEND;TZID=UTC:20260328T123000
DTSTAMP:20260423T233205
CREATED:20260112T180045Z
LAST-MODIFIED:20260316T190418Z
UID:9605-1774692000-1774701000@www.rippeynews.com
SUMMARY:Easter Egg Hunt
DESCRIPTION:
URL:https://www.rippeynews.com/event/easter-egg-hunt-3/
LOCATION:Rippey Community Center\, 224 Main St.\, Rippey\, IA
END:VEVENT
BEGIN:VEVENT
DTSTART;TZID=UTC:20260412T173000
DTEND;TZID=UTC:20260412T183000
DTSTAMP:20260423T233205
CREATED:20260407T161240Z
LAST-MODIFIED:20260407T161539Z
UID:9680-1776015000-1776018600@www.rippeynews.com
SUMMARY:Friends of Rippey Meeting
DESCRIPTION:
URL:https://www.rippeynews.com/event/friends-of-rippey-meeting-25/
LOCATION:Rippey Community Center\, 224 Main St.\, Rippey\, IA
END:VEVENT
BEGIN:VEVENT
DTSTART;TZID=UTC:20260416T183000
DTEND;TZID=UTC:20260416T200000
DTSTAMP:20260423T233205
CREATED:20260414T190714Z
LAST-MODIFIED:20260414T201230Z
UID:9697-1776364200-1776369600@www.rippeynews.com
SUMMARY:Schoolboy Soldiers of Rippey
DESCRIPTION:
URL:https://www.rippeynews.com/event/lions-club-meeting-77/
LOCATION:Rippey United Methodist Church\, 103 Main St.\, Rippey\, IA\, 50235
END:VEVENT
BEGIN:VEVENT
DTSTART;TZID=UTC:20260503T173000
DTEND;TZID=UTC:20260503T190000
DTSTAMP:20260423T233205
CREATED:20260422T184221Z
LAST-MODIFIED:20260422T184222Z
UID:9716-1777829400-1777834800@www.rippeynews.com
SUMMARY:Springtime Musical Performance
DESCRIPTION:
URL:https://www.rippeynews.com/event/springtime-musical-performance/
LOCATION:Rippey Community Center\, 224 Main St.\, Rippey\, IA
END:VEVENT
BEGIN:VEVENT
DTSTART;TZID=UTC:20260525T000000
DTEND;TZID=UTC:20260525T235959
DTSTAMP:20260423T233205
CREATED:20260415T194203Z
LAST-MODIFIED:20260415T194348Z
UID:9704-1779667200-1779753599@www.rippeynews.com
SUMMARY:Memorial Day Service
DESCRIPTION:Memorial Day Service. More information to come.
URL:https://www.rippeynews.com/event/memorial-day-services-4/
LOCATION:IA
END:VEVENT
BEGIN:VEVENT
DTSTART;TZID=UTC:20260620T000000
DTEND;TZID=UTC:20260620T235959
DTSTAMP:20260423T233205
CREATED:20260112T180201Z
LAST-MODIFIED:20260415T194113Z
UID:9607-1781913600-1781999999@www.rippeynews.com
SUMMARY:Golf Tournament
DESCRIPTION:Golf Tournament. More information to come.
URL:https://www.rippeynews.com/event/golf-tournament-2/
LOCATION:The Hill Golf Course\, 1949 220th St.\, Grand Junction\, IA\, 50107
END:VEVENT
BEGIN:VEVENT
DTSTART;TZID=UTC:20260717T000000
DTEND;TZID=UTC:20260718T235959
DTSTAMP:20260423T233205
CREATED:20260212T203912Z
LAST-MODIFIED:20260415T194249Z
UID:9626-1784246400-1784419199@www.rippeynews.com
SUMMARY:Rippey Fun Days
DESCRIPTION:Rippey Fun Days. More information to come.
URL:https://www.rippeynews.com/event/rippey-fun-day-2/
LOCATION:Rippey\, IA
END:VEVENT
END:VCALENDAR