BEGIN:VCALENDAR
VERSION:2.0
PRODID:-//Rippey News - ECPv6.13.2.1//NONSGML v1.0//EN
CALSCALE:GREGORIAN
METHOD:PUBLISH
X-WR-CALNAME:Rippey News
X-ORIGINAL-URL:https://www.rippeynews.com
X-WR-CALDESC:Events for Rippey News
REFRESH-INTERVAL;VALUE=DURATION:PT1H
X-Robots-Tag:noindex
X-PUBLISHED-TTL:PT1H
BEGIN:VTIMEZONE
TZID:UTC
BEGIN:STANDARD
TZOFFSETFROM:+0000
TZOFFSETTO:+0000
TZNAME:UTC
DTSTART:20190101T000000
END:STANDARD
END:VTIMEZONE
BEGIN:VEVENT
DTSTART;TZID=UTC:20200503T183000
DTEND;TZID=UTC:20200503T193000
DTSTAMP:20260425T151248
CREATED:20200502T183132Z
LAST-MODIFIED:20200502T183336Z
UID:5355-1588530600-1588534200@www.rippeynews.com
SUMMARY:Important Sesquicentennial Planning Meeting
DESCRIPTION:Please wear a face mask. We will practice social distancing. \nThis is a very important meeting because a decision will be made on whether to continue with plans for the August 1 celebration in light of the pandemic. \n-Mary Weaver\, Friends of Rippey President \n. \nHi Everyone\,\nI have a box with paper antiviral masks and I will bring that to the meeting on May 3 and wait outside to hand out to anyone who needs one.\n-Nancy Hanaman
URL:https://www.rippeynews.com/event/important-sesquicentennial-planning-meeting/
LOCATION:Rippey Community Center\, 224 Main St.\, Rippey\, IA
END:VEVENT
BEGIN:VEVENT
DTSTART;TZID=UTC:20200427T180000
DTEND;TZID=UTC:20200427T190000
DTSTAMP:20260425T151248
CREATED:20200404T164711Z
LAST-MODIFIED:20200404T164711Z
UID:5242-1588010400-1588014000@www.rippeynews.com
SUMMARY:Library Board Meeting
DESCRIPTION:
URL:https://www.rippeynews.com/event/library-board-meeting-32/
LOCATION:Rippey Public Library\, 224 Main St.\, Rippey\, IA
END:VEVENT
BEGIN:VEVENT
DTSTART;TZID=UTC:20200406T190000
DTEND;TZID=UTC:20200406T200000
DTSTAMP:20260425T151248
CREATED:20200304T152554Z
LAST-MODIFIED:20200304T152554Z
UID:5123-1586199600-1586203200@www.rippeynews.com
SUMMARY:City Council Meeting
DESCRIPTION:
URL:https://www.rippeynews.com/event/city-council-meeting-34/
LOCATION:Rippey Community Center\, 224 Main St.\, Rippey\, IA
END:VEVENT
BEGIN:VEVENT
DTSTART;TZID=UTC:20200330T180000
DTEND;TZID=UTC:20200330T190000
DTSTAMP:20260425T151248
CREATED:20200225T145855Z
LAST-MODIFIED:20200309T164114Z
UID:5093-1585591200-1585594800@www.rippeynews.com
SUMMARY:Library Board Meeting
DESCRIPTION:
URL:https://www.rippeynews.com/event/library-board-meeting-31/
LOCATION:Rippey Public Library\, 224 Main St.\, Rippey\, IA
END:VEVENT
BEGIN:VEVENT
DTSTART;TZID=UTC:20200302T190000
DTEND;TZID=UTC:20200302T200000
DTSTAMP:20260425T151248
CREATED:20200204T162321Z
LAST-MODIFIED:20200204T162321Z
UID:5017-1583175600-1583179200@www.rippeynews.com
SUMMARY:City Council Meeting
DESCRIPTION:
URL:https://www.rippeynews.com/event/city-council-meeting-33/
LOCATION:Rippey Community Center\, 224 Main St.\, Rippey\, IA
END:VEVENT
BEGIN:VEVENT
DTSTART;TZID=UTC:20200224T180000
DTEND;TZID=UTC:20200224T190000
DTSTAMP:20260425T151248
CREATED:20200129T163322Z
LAST-MODIFIED:20200221T142515Z
UID:4985-1582567200-1582570800@www.rippeynews.com
SUMMARY:Library Board Meeting
DESCRIPTION:
URL:https://www.rippeynews.com/event/library-board-meeting-30/
LOCATION:Rippey Public Library\, 224 Main St.\, Rippey\, IA
END:VEVENT
BEGIN:VEVENT
DTSTART;TZID=UTC:20200220T190000
DTEND;TZID=UTC:20200220T200000
DTSTAMP:20260425T151248
CREATED:20200218T144245Z
LAST-MODIFIED:20200218T144245Z
UID:5058-1582225200-1582228800@www.rippeynews.com
SUMMARY:Lions Club Meeting
DESCRIPTION:
URL:https://www.rippeynews.com/event/lions-club-meeting-30/
LOCATION:Rippey United Methodist Church\, 103 Main St.\, Rippey\, IA\, 50235
END:VEVENT
BEGIN:VEVENT
DTSTART;TZID=UTC:20200203T190000
DTEND;TZID=UTC:20200203T200000
DTSTAMP:20260425T151248
CREATED:20200108T192708Z
LAST-MODIFIED:20200108T192708Z
UID:4913-1580756400-1580760000@www.rippeynews.com
SUMMARY:City Council Meeting
DESCRIPTION:
URL:https://www.rippeynews.com/event/city-council-meeting-32/
LOCATION:Rippey Community Center\, 224 Main St.\, Rippey\, IA
END:VEVENT
BEGIN:VEVENT
DTSTART;TZID=UTC:20200202T183000
DTEND;TZID=UTC:20200202T193000
DTSTAMP:20260425T151248
CREATED:20200120T153705Z
LAST-MODIFIED:20200120T153705Z
UID:4948-1580668200-1580671800@www.rippeynews.com
SUMMARY:Sesquicentennial Planning Meeting
DESCRIPTION:
URL:https://www.rippeynews.com/event/sesquicentennial-planning-meeting-6/
LOCATION:Rippey Community Center\, 224 Main St.\, Rippey\, IA
END:VEVENT
BEGIN:VEVENT
DTSTART;VALUE=DATE:20200201
DTEND;VALUE=DATE:20200202
DTSTAMP:20260425T151248
CREATED:20191223T142335Z
LAST-MODIFIED:20200123T153811Z
UID:4871-1580515200-1580601599@www.rippeynews.com
SUMMARY:Brr Ride
DESCRIPTION:https://www.facebook.com/BikeRidetoRippey/ \nhttps://www.perryia.org/brr.html \n 
URL:https://www.rippeynews.com/event/brr-ride-3/
LOCATION:IA
ATTACH;FMTTYPE=image/jpeg:https://www.rippeynews.com/wp-content/uploads/2020/01/Brr-Rippey-F-copy-e1579884418821.jpg
END:VEVENT
BEGIN:VEVENT
DTSTART;TZID=UTC:20200127T173000
DTEND;TZID=UTC:20200127T183000
DTSTAMP:20260425T151248
CREATED:20191221T162747Z
LAST-MODIFIED:20191221T162747Z
UID:4857-1580146200-1580149800@www.rippeynews.com
SUMMARY:Library Board Meeting
DESCRIPTION:
URL:https://www.rippeynews.com/event/library-board-meeting-29/
LOCATION:Rippey Public Library\, 224 Main St.\, Rippey\, IA
END:VEVENT
BEGIN:VEVENT
DTSTART;TZID=UTC:20200125T173000
DTEND;TZID=UTC:20200125T183000
DTSTAMP:20260425T151248
CREATED:20200120T153611Z
LAST-MODIFIED:20200120T153611Z
UID:4946-1579973400-1579977000@www.rippeynews.com
SUMMARY:Cabin Fever Night
DESCRIPTION:Food\, Fellowship and Games!
URL:https://www.rippeynews.com/event/cabin-fever-night/
LOCATION:Rippey United Methodist Church\, 103 Main St.\, Rippey\, IA\, 50235
END:VEVENT
BEGIN:VEVENT
DTSTART;TZID=UTC:20200106T190000
DTEND;TZID=UTC:20200106T200000
DTSTAMP:20260425T151248
CREATED:20191203T174747Z
LAST-MODIFIED:20191203T174747Z
UID:4782-1578337200-1578340800@www.rippeynews.com
SUMMARY:City Council Meeting
DESCRIPTION:
URL:https://www.rippeynews.com/event/city-council-meeting-31/
LOCATION:Rippey Community Center\, 224 Main St.\, Rippey\, IA
END:VEVENT
BEGIN:VEVENT
DTSTART;TZID=UTC:20200105T183000
DTEND;TZID=UTC:20200105T193000
DTSTAMP:20260425T151248
CREATED:20191209T165401Z
LAST-MODIFIED:20191209T165401Z
UID:4827-1578249000-1578252600@www.rippeynews.com
SUMMARY:Sesquicentennial Planning Meeting
DESCRIPTION:
URL:https://www.rippeynews.com/event/sesquicentennial-planning-meeting-5/
LOCATION:Rippey Community Center\, 224 Main St.\, Rippey\, IA
END:VEVENT
BEGIN:VEVENT
DTSTART;VALUE=DATE:20200102
DTEND;VALUE=DATE:20200103
DTSTAMP:20260425T151248
CREATED:20191208T170413Z
LAST-MODIFIED:20191208T170414Z
UID:4796-1577923200-1578009599@www.rippeynews.com
SUMMARY:Ladies Aid Meeting
DESCRIPTION:
URL:https://www.rippeynews.com/event/ladies-aid-meeting-14/
LOCATION:Rippey United Methodist Church\, 103 Main St.\, Rippey\, IA\, 50235
END:VEVENT
BEGIN:VEVENT
DTSTART;TZID=UTC:20191218T140000
DTEND;TZID=UTC:20191218T150000
DTSTAMP:20260425T151248
CREATED:20191208T170057Z
LAST-MODIFIED:20191208T170057Z
UID:4792-1576677600-1576681200@www.rippeynews.com
SUMMARY:Christmas Party
DESCRIPTION:We’ll make some Christmas crafts and make a “trail mix” to take home. Hope to see you then. Parents are invited to come also.
URL:https://www.rippeynews.com/event/christmas-party/
LOCATION:Rippey Public Library\, 224 Main St.\, Rippey\, IA
END:VEVENT
BEGIN:VEVENT
DTSTART;TZID=UTC:20191216T173000
DTEND;TZID=UTC:20191216T183000
DTSTAMP:20260425T151248
CREATED:20191203T174830Z
LAST-MODIFIED:20191208T171253Z
UID:4784-1576517400-1576521000@www.rippeynews.com
SUMMARY:Library Board Meeting
DESCRIPTION:
URL:https://www.rippeynews.com/event/library-board-meeting-28/
LOCATION:IA
END:VEVENT
BEGIN:VEVENT
DTSTART;TZID=UTC:20191215T150000
DTEND;TZID=UTC:20191215T163000
DTSTAMP:20260425T151248
CREATED:20191208T170315Z
LAST-MODIFIED:20191208T170315Z
UID:4794-1576422000-1576427400@www.rippeynews.com
SUMMARY:Winter Piano Recital
DESCRIPTION:Janice Johnston will feature her piano and violin students at their winter recital. Everyone is invited to come listen to these young people.  There will be a light lunch served afterwards.
URL:https://www.rippeynews.com/event/winter-piano-recital/
LOCATION:Rippey Community Center\, 224 Main St.\, Rippey\, IA
END:VEVENT
BEGIN:VEVENT
DTSTART;TZID=UTC:20191207T070000
DTEND;TZID=UTC:20191207T100000
DTSTAMP:20260425T151248
CREATED:20191009T144552Z
LAST-MODIFIED:20191203T174936Z
UID:4590-1575702000-1575712800@www.rippeynews.com
SUMMARY:Sesquicentennial Breakfast Fundraiser
DESCRIPTION:
URL:https://www.rippeynews.com/event/sesq-breakfast-fundraiser/
LOCATION:Rippey Community Center\, 224 Main St.\, Rippey\, IA
END:VEVENT
BEGIN:VEVENT
DTSTART;TZID=UTC:20191202T190000
DTEND;TZID=UTC:20191202T200000
DTSTAMP:20260425T151248
CREATED:20191130T185821Z
LAST-MODIFIED:20191130T185821Z
UID:4770-1575313200-1575316800@www.rippeynews.com
SUMMARY:City Council Meeting
DESCRIPTION:
URL:https://www.rippeynews.com/event/city-council-meeting-30/
LOCATION:Rippey Community Center\, 224 Main St.\, Rippey\, IA
END:VEVENT
BEGIN:VEVENT
DTSTART;TZID=UTC:20191201T183000
DTEND;TZID=UTC:20191201T193000
DTSTAMP:20260425T151248
CREATED:20191130T185711Z
LAST-MODIFIED:20191130T185737Z
UID:4767-1575225000-1575228600@www.rippeynews.com
SUMMARY:Sesquicentennial Planning Meeting
DESCRIPTION:
URL:https://www.rippeynews.com/event/sesquicentennial-planning-meeting-4/
LOCATION:Rippey Community Center\, 224 Main St.\, Rippey\, IA
END:VEVENT
BEGIN:VEVENT
DTSTART;VALUE=DATE:20191130
DTEND;VALUE=DATE:20191201
DTSTAMP:20260425T151248
CREATED:20191104T175525Z
LAST-MODIFIED:20191104T175525Z
UID:4722-1575072000-1575158399@www.rippeynews.com
SUMMARY:Holiday Lighting
DESCRIPTION:Holiday Lighting \nThe Thomas Jefferson Education and Welcome Center Board is aiding in the promotion of the upcoming Holiday Community spirit by seeking the names and locations of exterior Christmas Lighting residences in Jefferson and Greene County. This is the second time the Gardens have sponsored this event. \nIt is not a contest\, there are no prizes. Rather it is an opportunity to publicly display to Greene County residents that you want to celebrate Christmas. \nIt is simple to participate. Call Beth at the Chamber Office\, 515-386-2155\, and provide your address prior to November 15th. Once collected the information will be transferred to a map showing the location all of the residences submitted. \nIf you have a neighbor or relative who has a colorful lighting display\, please nominate them. We will obtain permission to place their residence on the map so that others may enjoy the lights. \nThe maps will be available at the Chamber office\, and Greene County’s businesses and Greene County’s community libraries. The maps will be available throughout the Holiday Season beginning on November 30 thru December 24th. \nHost residents will be requested to have their lights on from 5:30 P.M. until 9:00P.M. There is no interior home visitations associated with this endeavor. \nHappy Holidays to all as we embrace the Christmas Season in Greene County.
URL:https://www.rippeynews.com/event/holiday-lighting/
LOCATION:IA
END:VEVENT
BEGIN:VEVENT
DTSTART;TZID=UTC:20191116T080000
DTEND;TZID=UTC:20191116T110000
DTSTAMP:20260425T151248
CREATED:20191021T163817Z
LAST-MODIFIED:20191111T165340Z
UID:4657-1573891200-1573902000@www.rippeynews.com
SUMMARY:Pancake Breakfast
DESCRIPTION:Enjoy pancakes\, sausage\, eggs and beverages. Free will offering.
URL:https://www.rippeynews.com/event/pancake-breakfast-2/
LOCATION:Rippey United Methodist Church\, 103 Main St.\, Rippey\, IA\, 50235
END:VEVENT
BEGIN:VEVENT
DTSTART;TZID=UTC:20191107T190000
DTEND;TZID=UTC:20191107T200000
DTSTAMP:20260425T151248
CREATED:20191021T163855Z
LAST-MODIFIED:20191101T174531Z
UID:4659-1573153200-1573156800@www.rippeynews.com
SUMMARY:Lions Club Meeting
DESCRIPTION:Potluck meal. Mary and Rick Liebich are coordinators for the potluck and Dick Bardole is in charge of the program.
URL:https://www.rippeynews.com/event/lions-club-meeting-29/
LOCATION:Rippey United Methodist Church\, 103 Main St.\, Rippey\, IA\, 50235
END:VEVENT
BEGIN:VEVENT
DTSTART;TZID=UTC:20191107T130000
DTEND;TZID=UTC:20191107T143000
DTSTAMP:20260425T151248
CREATED:20191101T174641Z
LAST-MODIFIED:20191101T174641Z
UID:4707-1573131600-1573137000@www.rippeynews.com
SUMMARY:Ladies Aid Meeting
DESCRIPTION:Phyllis Bardole is the hostess and Maralynn Rinker will present the program.
URL:https://www.rippeynews.com/event/ladies-aid-meeting-12/
LOCATION:Rippey Community Center\, 224 Main St.\, Rippey\, IA
END:VEVENT
BEGIN:VEVENT
DTSTART;TZID=UTC:20191104T190000
DTEND;TZID=UTC:20191104T200000
DTSTAMP:20260425T151248
CREATED:20191009T144648Z
LAST-MODIFIED:20191009T144648Z
UID:4592-1572894000-1572897600@www.rippeynews.com
SUMMARY:City Council Meeting
DESCRIPTION:
URL:https://www.rippeynews.com/event/city-council-meeting-29/
LOCATION:Rippey Community Center\, 224 Main St.\, Rippey\, IA
END:VEVENT
BEGIN:VEVENT
DTSTART;TZID=UTC:20191031T170000
DTEND;TZID=UTC:20191031T210000
DTSTAMP:20260425T151248
CREATED:20190926T163330Z
LAST-MODIFIED:20190926T163330Z
UID:4519-1572541200-1572555600@www.rippeynews.com
SUMMARY:Dinner & A Movie
DESCRIPTION:Sesquicentennial Fundraiser \nSoups\, chilis\, rolls\, desserts\, iced tea and lemonade \nFree-will donation \nThe movie Hocus Pocus starts at 7:15pm
URL:https://www.rippeynews.com/event/dinner-a-movie/
LOCATION:Rippey Community Center\, 224 Main St.\, Rippey\, IA
END:VEVENT
BEGIN:VEVENT
DTSTART;TZID=UTC:20191030T160000
DTEND;TZID=UTC:20191030T170000
DTSTAMP:20260425T151248
CREATED:20191007T184353Z
LAST-MODIFIED:20191021T161654Z
UID:4568-1572451200-1572454800@www.rippeynews.com
SUMMARY:Halloween Party
DESCRIPTION:The bus gets here early that day and the kids and their families can come back in costume at 4:00 to have a hot dog supper with costume judging.  They can practice for the next night which is beggar’s night in Rippey. Adults are always welcome at these events.  Last year we had several families come\, so I hope they do this year. \n– Phyllis Bardole\, Librarian
URL:https://www.rippeynews.com/event/halloween-party-2/
LOCATION:Rippey Public Library\, 224 Main St.\, Rippey\, IA
END:VEVENT
BEGIN:VEVENT
DTSTART;TZID=UTC:20191028T173000
DTEND;TZID=UTC:20191028T183000
DTSTAMP:20260425T151248
CREATED:20191004T160928Z
LAST-MODIFIED:20191004T160928Z
UID:4538-1572283800-1572287400@www.rippeynews.com
SUMMARY:Library Board Meeting
DESCRIPTION:
URL:https://www.rippeynews.com/event/library-board-meeting-27/
LOCATION:Rippey Public Library\, 224 Main St.\, Rippey\, IA
END:VEVENT
BEGIN:VEVENT
DTSTART;TZID=UTC:20191020T183000
DTEND;TZID=UTC:20191020T193000
DTSTAMP:20260425T151248
CREATED:20191009T144146Z
LAST-MODIFIED:20191011T164032Z
UID:4585-1571596200-1571599800@www.rippeynews.com
SUMMARY:Friends of Rippey Meeting
DESCRIPTION:
URL:https://www.rippeynews.com/event/friends-of-rippey-meeting-2/
LOCATION:Rippey Community Center\, 224 Main St.\, Rippey\, IA
END:VEVENT
END:VCALENDAR