BEGIN:VCALENDAR
VERSION:2.0
PRODID:-//Rippey News - ECPv6.13.2.1//NONSGML v1.0//EN
CALSCALE:GREGORIAN
METHOD:PUBLISH
X-WR-CALNAME:Rippey News
X-ORIGINAL-URL:https://www.rippeynews.com
X-WR-CALDESC:Events for Rippey News
REFRESH-INTERVAL;VALUE=DURATION:PT1H
X-Robots-Tag:noindex
X-PUBLISHED-TTL:PT1H
BEGIN:VTIMEZONE
TZID:UTC
BEGIN:STANDARD
TZOFFSETFROM:+0000
TZOFFSETTO:+0000
TZNAME:UTC
DTSTART:20190101T000000
END:STANDARD
END:VTIMEZONE
BEGIN:VEVENT
DTSTART;TZID=UTC:20190826T173000
DTEND;TZID=UTC:20190826T183000
DTSTAMP:20260425T120142
CREATED:20190731T164834Z
LAST-MODIFIED:20190731T164834Z
UID:4347-1566840600-1566844200@www.rippeynews.com
SUMMARY:Library Board Meeting
DESCRIPTION:
URL:https://www.rippeynews.com/event/library-board-meeting-25/
LOCATION:Rippey Public Library\, 224 Main St.\, Rippey\, IA
END:VEVENT
BEGIN:VEVENT
DTSTART;TZID=UTC:20190824T173000
DTEND;TZID=UTC:20190824T200000
DTSTAMP:20260425T120142
CREATED:20190803T163932Z
LAST-MODIFIED:20190803T164146Z
UID:4368-1566667800-1566676800@www.rippeynews.com
SUMMARY:Town & Country Band
DESCRIPTION:Free will offering. Donations will help fund Rippey’s Sesquicentennial. Bring your lawn chairs! Meal starts at 5:30pm. Concert is at 6:30pm. There will be a pie auction too!
URL:https://www.rippeynews.com/event/town-country-band/
LOCATION:Rippey Community Center\, 224 Main St.\, Rippey\, IA
END:VEVENT
BEGIN:VEVENT
DTSTART;TZID=UTC:20190805T190000
DTEND;TZID=UTC:20190805T200000
DTSTAMP:20260425T120142
CREATED:20190704T154839Z
LAST-MODIFIED:20190704T154839Z
UID:4309-1565031600-1565035200@www.rippeynews.com
SUMMARY:City Council Meeting
DESCRIPTION:
URL:https://www.rippeynews.com/event/city-council-meeting-26/
LOCATION:Rippey Community Center\, 224 Main St.\, Rippey\, IA
END:VEVENT
BEGIN:VEVENT
DTSTART;TZID=UTC:20190804T183000
DTEND;TZID=UTC:20190804T193000
DTSTAMP:20260425T120142
CREATED:20190803T163354Z
LAST-MODIFIED:20190803T163412Z
UID:4365-1564943400-1564947000@www.rippeynews.com
SUMMARY:Sesquicentennial Planning Meeting
DESCRIPTION:Updates will be given regarding events\, adjustments to the projected budget\, final design for the logo\, and ordering of t shirts\, etc.
URL:https://www.rippeynews.com/event/sesquicentennial-planning-meeting/
LOCATION:Rippey Community Center\, 224 Main St.\, Rippey\, IA
END:VEVENT
BEGIN:VEVENT
DTSTART;TZID=UTC:20190729T173000
DTEND;TZID=UTC:20190729T183000
DTSTAMP:20260425T120142
CREATED:20190701T152141Z
LAST-MODIFIED:20190701T152141Z
UID:4286-1564421400-1564425000@www.rippeynews.com
SUMMARY:Library Board Meeting
DESCRIPTION:
URL:https://www.rippeynews.com/event/library-board-meeting-24/
LOCATION:Rippey Public Library\, 224 Main St.\, Rippey\, IA
END:VEVENT
BEGIN:VEVENT
DTSTART;TZID=UTC:20190713T120000
DTEND;TZID=UTC:20190713T130000
DTSTAMP:20260425T120142
CREATED:20190506T155955Z
LAST-MODIFIED:20190708T184254Z
UID:4074-1563019200-1563022800@www.rippeynews.com
SUMMARY:Community Picnic
DESCRIPTION:Osborn Park\, 2 blocks south of Peoples Bank. Hot dogs\, chips\, dessert and beverages will be served.
URL:https://www.rippeynews.com/event/community-picnic-2/
LOCATION:IA
END:VEVENT
BEGIN:VEVENT
DTSTART;TZID=UTC:20190701T190000
DTEND;TZID=UTC:20190701T200000
DTSTAMP:20260425T120142
CREATED:20190610T162123Z
LAST-MODIFIED:20190610T162123Z
UID:4231-1562007600-1562011200@www.rippeynews.com
SUMMARY:City Council Meeting
DESCRIPTION:
URL:https://www.rippeynews.com/event/city-council-meeting-25/
LOCATION:Rippey Community Center\, 224 Main St.\, Rippey\, IA
END:VEVENT
BEGIN:VEVENT
DTSTART;TZID=UTC:20190627T163000
DTEND;TZID=UTC:20190627T173000
DTSTAMP:20260425T120142
CREATED:20190529T160620Z
LAST-MODIFIED:20190529T160620Z
UID:4185-1561653000-1561656600@www.rippeynews.com
SUMMARY:Insect Zoo Program
DESCRIPTION:The presenters are from Iowa State University and the program\, presented in each of the county libraries\, is funded by the Greene County Supervisors and the Greene County Library Association. The Public is encouraged to attend this event.
URL:https://www.rippeynews.com/event/insect-zoo-program/
LOCATION:Rippey Public Library\, 224 Main St.\, Rippey\, IA
END:VEVENT
BEGIN:VEVENT
DTSTART;TZID=UTC:20190625T140000
DTEND;TZID=UTC:20190625T150000
DTSTAMP:20260425T120142
CREATED:20190617T222553Z
LAST-MODIFIED:20190617T222553Z
UID:4278-1561471200-1561474800@www.rippeynews.com
SUMMARY:Summer Reading Program
DESCRIPTION:Tuesdays 2 – 3pm \nJune 25th  – July 16th \nAll ages Welcome
URL:https://www.rippeynews.com/event/summer-reading-program/
LOCATION:Rippey Public Library\, 224 Main St.\, Rippey\, IA
END:VEVENT
BEGIN:VEVENT
DTSTART;TZID=UTC:20190624T173000
DTEND;TZID=UTC:20190624T183000
DTSTAMP:20260425T120142
CREATED:20190522T164332Z
LAST-MODIFIED:20190522T164332Z
UID:4148-1561397400-1561401000@www.rippeynews.com
SUMMARY:Library Board Meeting
DESCRIPTION:
URL:https://www.rippeynews.com/event/library-board-meeting-22/
LOCATION:Rippey Public Library\, 224 Main St.\, Rippey\, IA
END:VEVENT
BEGIN:VEVENT
DTSTART;TZID=UTC:20190609T160000
DTEND;TZID=UTC:20190609T190000
DTSTAMP:20260425T120142
CREATED:20190603T181604Z
LAST-MODIFIED:20190603T181604Z
UID:4218-1560096000-1560106800@www.rippeynews.com
SUMMARY:Ice Cream Social
DESCRIPTION:
URL:https://www.rippeynews.com/event/ice-cream-social-4/
LOCATION:Rippey United Methodist Church\, 103 Main St.\, Rippey\, IA\, 50235
END:VEVENT
BEGIN:VEVENT
DTSTART;TZID=UTC:20190603T190000
DTEND;TZID=UTC:20190603T200000
DTSTAMP:20260425T120142
CREATED:20190513T164901Z
LAST-MODIFIED:20190513T164901Z
UID:4099-1559588400-1559592000@www.rippeynews.com
SUMMARY:City Council Meeting
DESCRIPTION:
URL:https://www.rippeynews.com/event/city-council-meeting-24/
LOCATION:Rippey Community Center\, 224 Main St.\, Rippey\, IA
END:VEVENT
BEGIN:VEVENT
DTSTART;TZID=UTC:20190602T170000
DTEND;TZID=UTC:20190602T183000
DTSTAMP:20260425T120142
CREATED:20190529T160749Z
LAST-MODIFIED:20190529T160918Z
UID:4187-1559494800-1559500200@www.rippeynews.com
SUMMARY:Spring Music Recital
DESCRIPTION:Led by Janice Johnston. Violinist are Ethan Hooper of Grand Junction and Summer South of Coon Rapids.\nPiano students are Brogan Groves of Rippey\, Daniel Cerveny\, Joshua Sparks\, and Kaitlyn Halterman\, all of Jefferson.\nA light meal to follow the performance.\nCome and enjoy the sounds
URL:https://www.rippeynews.com/event/spring-recital/
LOCATION:Rippey Community Center\, 224 Main St.\, Rippey\, IA
END:VEVENT
BEGIN:VEVENT
DTSTART;VALUE=DATE:20190526
DTEND;VALUE=DATE:20190527
DTSTAMP:20260425T120142
CREATED:20190513T164623Z
LAST-MODIFIED:20190524T162333Z
UID:4096-1558828800-1558915199@www.rippeynews.com
SUMMARY:Memorial Day Services
DESCRIPTION:On Memorial Day they will be participating at the Fairview church at 9:00 am for the service with Pastor Catherine Stokes delivering the message. They will continue to the Bowers-Angus Cemetery at 10:00\, then Old Rppey at 10:30. They will conclude the ceremony in the Rippey Cemetery at their services. Pastor Cat will give the message there\, also. The free-will lunch will be served as usual at the Rippey UMC after the ceremony at the cemetery. \nKinkead-Martin American Legion Post #583 will be performing their ceremony on Sunday\, May 26\, 2018 at the conclusion of the services at the Pleasant Hill Church.
URL:https://www.rippeynews.com/event/memorial-day-services/
LOCATION:Rippey Cemetary\, Rippey
ATTACH;FMTTYPE=image/jpeg:https://www.rippeynews.com/wp-content/uploads/2019/05/poppy.jpg
END:VEVENT
BEGIN:VEVENT
DTSTART;TZID=UTC:20190525T120000
DTEND;TZID=UTC:20190525T140000
DTSTAMP:20260425T120142
CREATED:20190513T164104Z
LAST-MODIFIED:20190524T162240Z
UID:4093-1558785600-1558792800@www.rippeynews.com
SUMMARY:Annual Alumni Gathering
DESCRIPTION:The dinner will be served to the alumni and guests at noon with a short business meeting to follow. Cookies and drinks will be served after\, for those who wish to stay and visit longer.
URL:https://www.rippeynews.com/event/annual-alumni-gathering/
LOCATION:Rippey United Methodist Church\, 103 Main St.\, Rippey\, IA\, 50235
END:VEVENT
BEGIN:VEVENT
DTSTART;TZID=UTC:20190520T173000
DTEND;TZID=UTC:20190520T183000
DTSTAMP:20260425T120142
CREATED:20190513T162853Z
LAST-MODIFIED:20190513T164923Z
UID:4084-1558373400-1558377000@www.rippeynews.com
SUMMARY:Library Board Meeting
DESCRIPTION:
URL:https://www.rippeynews.com/event/library-board-meeting-23/
LOCATION:IA
END:VEVENT
BEGIN:VEVENT
DTSTART;TZID=UTC:20190519T140000
DTEND;TZID=UTC:20190519T153000
DTSTAMP:20260425T120142
CREATED:20190506T160101Z
LAST-MODIFIED:20190506T160101Z
UID:4076-1558274400-1558279800@www.rippeynews.com
SUMMARY:Rippey's 150th Planning Meeting
DESCRIPTION:
URL:https://www.rippeynews.com/event/rippeys-150th-planning-meeting/
LOCATION:Rippey Community Center\, 224 Main St.\, Rippey\, IA
END:VEVENT
BEGIN:VEVENT
DTSTART;TZID=UTC:20190506T190000
DTEND;TZID=UTC:20190506T200000
DTSTAMP:20260425T120142
CREATED:20190406T001415Z
LAST-MODIFIED:20190406T001433Z
UID:3995-1557169200-1557172800@www.rippeynews.com
SUMMARY:City Council Meeting
DESCRIPTION:
URL:https://www.rippeynews.com/event/city-council-meeting-23/
LOCATION:Rippey Community Center\, 224 Main St.\, Rippey\, IA
END:VEVENT
BEGIN:VEVENT
DTSTART;TZID=UTC:20190502T190000
DTEND;TZID=UTC:20190502T203000
DTSTAMP:20260425T120142
CREATED:20190422T180417Z
LAST-MODIFIED:20190422T180417Z
UID:4042-1556823600-1556829000@www.rippeynews.com
SUMMARY:Lions Club Meeting
DESCRIPTION:Potluck meal
URL:https://www.rippeynews.com/event/lions-club-meeting-26/
LOCATION:Rippey United Methodist Church\, 103 Main St.\, Rippey\, IA\, 50235
END:VEVENT
BEGIN:VEVENT
DTSTART;TZID=UTC:20190429T173000
DTEND;TZID=UTC:20190429T183000
DTSTAMP:20260425T120142
CREATED:20190329T224654Z
LAST-MODIFIED:20190329T224654Z
UID:3973-1556559000-1556562600@www.rippeynews.com
SUMMARY:Library Board Meeting
DESCRIPTION:
URL:https://www.rippeynews.com/event/library-board-meeting-21/
LOCATION:Rippey Public Library\, 224 Main St.\, Rippey\, IA
END:VEVENT
BEGIN:VEVENT
DTSTART;TZID=UTC:20190428T140000
DTEND;TZID=UTC:20190428T153000
DTSTAMP:20260425T120142
CREATED:20190419T202817Z
LAST-MODIFIED:20190427T150442Z
UID:4024-1556460000-1556465400@www.rippeynews.com
SUMMARY:Planning Rippey's 150th Birthday Party
DESCRIPTION:In the year 2020\, Rippey will be celebrating its 150th birthday.\nThe Mayor\, Dan\, and the City Council will be hosting a planning event Sunday\, April 28\, at 2 PM at the Rippey Community Center.\nThis is an invitation for you to attend\, and become a part of planning for the sesquicentennial. A light lunch will be served in “trade” for ideas and volunteering to assist.
URL:https://www.rippeynews.com/event/planning-rippeys-150th-birthday-party/
LOCATION:Rippey Community Center\, 224 Main St.\, Rippey\, IA
ATTACH;FMTTYPE=image/jpeg:https://www.rippeynews.com/wp-content/uploads/2019/04/rippey-bday.jpg
END:VEVENT
BEGIN:VEVENT
DTSTART;TZID=UTC:20190427T090000
DTEND;TZID=UTC:20190427T140000
DTSTAMP:20260425T120142
CREATED:20190406T001327Z
LAST-MODIFIED:20190406T001327Z
UID:3993-1556355600-1556373600@www.rippeynews.com
SUMMARY:GC Relay For Life
DESCRIPTION:https://www.facebook.com/events/2140099122716578/
URL:https://www.rippeynews.com/event/gc-relay-for-life/
LOCATION:IA
END:VEVENT
BEGIN:VEVENT
DTSTART;VALUE=DATE:20190425
DTEND;VALUE=DATE:20190426
DTSTAMP:20260425T120142
CREATED:20190422T180249Z
LAST-MODIFIED:20190422T180314Z
UID:4039-1556150400-1556236799@www.rippeynews.com
SUMMARY:Lions Club Meeting
DESCRIPTION:Maralynn Rinker\, Bev Derry\, and Marilyn Millard will be serving the meal. Rick Fazel will provide the program.
URL:https://www.rippeynews.com/event/lions-club-meeting-25/
LOCATION:Rippey United Methodist Church\, 103 Main St.\, Rippey\, IA\, 50235
END:VEVENT
BEGIN:VEVENT
DTSTART;TZID=UTC:20190420T080000
DTEND;TZID=UTC:20190420T110000
DTSTAMP:20260425T120142
CREATED:20190406T012041Z
LAST-MODIFIED:20190415T171204Z
UID:3998-1555747200-1555758000@www.rippeynews.com
SUMMARY:Pancake Breakfast
DESCRIPTION:Pancakes\, sausage\, eggs and beverage. Free will offering.
URL:https://www.rippeynews.com/event/pancake-breakfast/
LOCATION:Rippey United Methodist Church\, 103 Main St.\, Rippey\, IA\, 50235
ATTACH;FMTTYPE=image/jpeg:https://www.rippeynews.com/wp-content/uploads/2019/04/pancakes.jpg
END:VEVENT
BEGIN:VEVENT
DTSTART;TZID=UTC:20190414T140000
DTEND;TZID=UTC:20190414T153000
DTSTAMP:20260425T120142
CREATED:20190408T154751Z
LAST-MODIFIED:20190408T154751Z
UID:4007-1555250400-1555255800@www.rippeynews.com
SUMMARY:Plans For Rippey's 150th
DESCRIPTION:The Mayor of Rippey and City Council will host a planning meeting. What should be included in this celebration? Past celebrations included visits from the Governor of the State of Iowa\, a parade\, fireworks\, a play\, strength contests\, a car show\, a ball game\, band concerts\, baby contests\, etc. Come and bring your thoughts and ideas of how to celebrate this historic milestone in our town’s history.
URL:https://www.rippeynews.com/event/plans-for-rippeys-150th/
LOCATION:Rippey Community Center\, 224 Main St.\, Rippey\, IA
END:VEVENT
BEGIN:VEVENT
DTSTART;TZID=UTC:20190411T140000
DTEND;TZID=UTC:20190411T160000
DTSTAMP:20260425T120142
CREATED:20190314T140408Z
LAST-MODIFIED:20190406T012324Z
UID:3939-1554991200-1554998400@www.rippeynews.com
SUMMARY:GC Reads
DESCRIPTION:Author Joanna Goodman will be at the discussions via Skype. \nGreene County Reads\, the annual county-wide book discussion\, will be held Thursday\, April 11. This year’s selection is The Home for Unwanted Girls by Joanna Goodman and the leader will be Jan Scharingson. For the reader’s convenience\, discussions will be held at the Churdan public library at 9 am\, the Rippey public library at 2 pm\, and Marchant Memorial Library in Scranton at 7 pm. \nThe annual book discussions are free and open to the public. They are a cooperative project of the Greene County libraries\, made possible by funding support from the Greene County board of supervisors. Light refreshments will be served. \nPersons who want more information can call their local library.
URL:https://www.rippeynews.com/event/gc-reads/
LOCATION:Rippey Public Library\, 224 Main St.\, Rippey\, IA
END:VEVENT
BEGIN:VEVENT
DTSTART;TZID=UTC:20190406T100000
DTEND;TZID=UTC:20190406T120000
DTSTAMP:20260425T120142
CREATED:20190329T224451Z
LAST-MODIFIED:20190329T224451Z
UID:3968-1554544800-1554552000@www.rippeynews.com
SUMMARY:GC Toddler Fest
DESCRIPTION:This is an annual\, free event sponsored by the Greene County Board of Supervisors and Greene County Libraries for children 2-5 years old and their families.
URL:https://www.rippeynews.com/event/gc-toddler-fest/
LOCATION:IA
END:VEVENT
BEGIN:VEVENT
DTSTART;TZID=UTC:20190404T190000
DTEND;TZID=UTC:20190404T203000
DTSTAMP:20260425T120142
CREATED:20190329T224545Z
LAST-MODIFIED:20190402T212754Z
UID:3971-1554404400-1554409800@www.rippeynews.com
SUMMARY:Lions Club Meeting
DESCRIPTION:There will be a potluck meal at 7 p. m.  Dale Hanaman is the coordinator and Pastor Paul Burrow will be presenting the program on a recent trip to Cuba.
URL:https://www.rippeynews.com/event/lions-club-meeting-24/
LOCATION:Rippey United Methodist Church\, 103 Main St.\, Rippey\, IA\, 50235
END:VEVENT
BEGIN:VEVENT
DTSTART;TZID=UTC:20190402T190000
DTEND;TZID=UTC:20190402T200000
DTSTAMP:20260425T120142
CREATED:20190402T191444Z
LAST-MODIFIED:20190402T191444Z
UID:3984-1554231600-1554235200@www.rippeynews.com
SUMMARY:City Council Meeting
DESCRIPTION:
URL:https://www.rippeynews.com/event/city-council-meeting-22/
LOCATION:Rippey Community Center\, 224 Main St.\, Rippey\, IA
END:VEVENT
BEGIN:VEVENT
DTSTART;TZID=UTC:20190401T190000
DTEND;TZID=UTC:20190401T200000
DTSTAMP:20260425T120142
CREATED:20190307T145421Z
LAST-MODIFIED:20190307T145421Z
UID:3923-1554145200-1554148800@www.rippeynews.com
SUMMARY:City Council Meeting
DESCRIPTION:
URL:https://www.rippeynews.com/event/city-council-meeting-21/
LOCATION:Rippey Community Center\, 224 Main St.\, Rippey\, IA
END:VEVENT
END:VCALENDAR