BEGIN:VCALENDAR
VERSION:2.0
PRODID:-//Rippey News - ECPv6.13.2.1//NONSGML v1.0//EN
CALSCALE:GREGORIAN
METHOD:PUBLISH
X-WR-CALNAME:Rippey News
X-ORIGINAL-URL:https://www.rippeynews.com
X-WR-CALDESC:Events for Rippey News
REFRESH-INTERVAL;VALUE=DURATION:PT1H
X-Robots-Tag:noindex
X-PUBLISHED-TTL:PT1H
BEGIN:VTIMEZONE
TZID:UTC
BEGIN:STANDARD
TZOFFSETFROM:+0000
TZOFFSETTO:+0000
TZNAME:UTC
DTSTART:20180101T000000
END:STANDARD
END:VTIMEZONE
BEGIN:VEVENT
DTSTART;TZID=UTC:20190411T140000
DTEND;TZID=UTC:20190411T160000
DTSTAMP:20260425T132749
CREATED:20190314T140408Z
LAST-MODIFIED:20190406T012324Z
UID:3939-1554991200-1554998400@www.rippeynews.com
SUMMARY:GC Reads
DESCRIPTION:Author Joanna Goodman will be at the discussions via Skype. \nGreene County Reads\, the annual county-wide book discussion\, will be held Thursday\, April 11. This year’s selection is The Home for Unwanted Girls by Joanna Goodman and the leader will be Jan Scharingson. For the reader’s convenience\, discussions will be held at the Churdan public library at 9 am\, the Rippey public library at 2 pm\, and Marchant Memorial Library in Scranton at 7 pm. \nThe annual book discussions are free and open to the public. They are a cooperative project of the Greene County libraries\, made possible by funding support from the Greene County board of supervisors. Light refreshments will be served. \nPersons who want more information can call their local library.
URL:https://www.rippeynews.com/event/gc-reads/
LOCATION:Rippey Public Library\, 224 Main St.\, Rippey\, IA
END:VEVENT
BEGIN:VEVENT
DTSTART;TZID=UTC:20190406T100000
DTEND;TZID=UTC:20190406T120000
DTSTAMP:20260425T132749
CREATED:20190329T224451Z
LAST-MODIFIED:20190329T224451Z
UID:3968-1554544800-1554552000@www.rippeynews.com
SUMMARY:GC Toddler Fest
DESCRIPTION:This is an annual\, free event sponsored by the Greene County Board of Supervisors and Greene County Libraries for children 2-5 years old and their families.
URL:https://www.rippeynews.com/event/gc-toddler-fest/
LOCATION:IA
END:VEVENT
BEGIN:VEVENT
DTSTART;TZID=UTC:20190404T190000
DTEND;TZID=UTC:20190404T203000
DTSTAMP:20260425T132749
CREATED:20190329T224545Z
LAST-MODIFIED:20190402T212754Z
UID:3971-1554404400-1554409800@www.rippeynews.com
SUMMARY:Lions Club Meeting
DESCRIPTION:There will be a potluck meal at 7 p. m.  Dale Hanaman is the coordinator and Pastor Paul Burrow will be presenting the program on a recent trip to Cuba.
URL:https://www.rippeynews.com/event/lions-club-meeting-24/
LOCATION:Rippey United Methodist Church\, 103 Main St.\, Rippey\, IA\, 50235
END:VEVENT
BEGIN:VEVENT
DTSTART;TZID=UTC:20190402T190000
DTEND;TZID=UTC:20190402T200000
DTSTAMP:20260425T132749
CREATED:20190402T191444Z
LAST-MODIFIED:20190402T191444Z
UID:3984-1554231600-1554235200@www.rippeynews.com
SUMMARY:City Council Meeting
DESCRIPTION:
URL:https://www.rippeynews.com/event/city-council-meeting-22/
LOCATION:Rippey Community Center\, 224 Main St.\, Rippey\, IA
END:VEVENT
BEGIN:VEVENT
DTSTART;TZID=UTC:20190401T190000
DTEND;TZID=UTC:20190401T200000
DTSTAMP:20260425T132749
CREATED:20190307T145421Z
LAST-MODIFIED:20190307T145421Z
UID:3923-1554145200-1554148800@www.rippeynews.com
SUMMARY:City Council Meeting
DESCRIPTION:
URL:https://www.rippeynews.com/event/city-council-meeting-21/
LOCATION:Rippey Community Center\, 224 Main St.\, Rippey\, IA
END:VEVENT
BEGIN:VEVENT
DTSTART;TZID=UTC:20190325T173000
DTEND;TZID=UTC:20190325T183000
DTSTAMP:20260425T132749
CREATED:20190227T163550Z
LAST-MODIFIED:20190227T163550Z
UID:3846-1553535000-1553538600@www.rippeynews.com
SUMMARY:Library Board Meeting
DESCRIPTION:
URL:https://www.rippeynews.com/event/library-board-meeting-20/
LOCATION:Rippey Public Library\, 224 Main St.\, Rippey\, IA
END:VEVENT
BEGIN:VEVENT
DTSTART;TZID=UTC:20190321T190000
DTEND;TZID=UTC:20190321T203000
DTSTAMP:20260425T132749
CREATED:20190320T133719Z
LAST-MODIFIED:20190320T133719Z
UID:3952-1553194800-1553200200@www.rippeynews.com
SUMMARY:Lions Club Meeting
DESCRIPTION:The meal will be served by Bev Derry and Marilyn Millard with Maralynn and Myron Rinker in charge of the program.
URL:https://www.rippeynews.com/event/lions-club-meeting-23/
LOCATION:Rippey United Methodist Church\, 103 Main St.\, Rippey\, IA\, 50235
END:VEVENT
BEGIN:VEVENT
DTSTART;TZID=UTC:20190307T190000
DTEND;TZID=UTC:20190307T203000
DTSTAMP:20260425T132749
CREATED:20190307T145233Z
LAST-MODIFIED:20190307T145233Z
UID:3919-1551985200-1551990600@www.rippeynews.com
SUMMARY:Lions Club Meeting
DESCRIPTION:The meeting will begin with a potluck meal at 7 pm at the Rippey United Methodist Church. Harlan DenBeste is coordinator for the potluck meal and Rick Liebich is in charge of the program.
URL:https://www.rippeynews.com/event/lions-club-meeting-22/
LOCATION:Rippey United Methodist Church\, 103 Main St.\, Rippey\, IA\, 50235
END:VEVENT
BEGIN:VEVENT
DTSTART;TZID=UTC:20190307T130000
DTEND;TZID=UTC:20190307T143000
DTSTAMP:20260425T132749
CREATED:20190307T145326Z
LAST-MODIFIED:20190307T150443Z
UID:3921-1551963600-1551969000@www.rippeynews.com
SUMMARY:Ladies Aid Meeting
DESCRIPTION:Jo Bardole will present the program. Nancy Burrow is hostess.
URL:https://www.rippeynews.com/event/ladies-aid-meeting-13/
LOCATION:Rippey United Methodist Church\, 103 Main St.\, Rippey\, IA\, 50235
END:VEVENT
BEGIN:VEVENT
DTSTART;TZID=UTC:20190304T190000
DTEND;TZID=UTC:20190304T200000
DTSTAMP:20260425T132749
CREATED:20190210T001439Z
LAST-MODIFIED:20190210T001439Z
UID:3820-1551726000-1551729600@www.rippeynews.com
SUMMARY:City Council Meeting
DESCRIPTION:
URL:https://www.rippeynews.com/event/city-council-meeting-20/
LOCATION:Rippey Community Center\, 224 Main St.\, Rippey\, IA
END:VEVENT
BEGIN:VEVENT
DTSTART;TZID=UTC:20190226T180000
DTEND;TZID=UTC:20190226T210000
DTSTAMP:20260425T132749
CREATED:20190121T183144Z
LAST-MODIFIED:20190210T001011Z
UID:3747-1551204000-1551214800@www.rippeynews.com
SUMMARY:Art On The Fly
DESCRIPTION:
URL:https://www.rippeynews.com/event/art-on-the-fly/
LOCATION:Rippey Community Center\, 224 Main St.\, Rippey\, IA
END:VEVENT
BEGIN:VEVENT
DTSTART;TZID=UTC:20190225T173000
DTEND;TZID=UTC:20190225T183000
DTSTAMP:20260425T132749
CREATED:20190129T164745Z
LAST-MODIFIED:20190129T164745Z
UID:3779-1551115800-1551119400@www.rippeynews.com
SUMMARY:Library Board Meeting
DESCRIPTION:
URL:https://www.rippeynews.com/event/library-board-meeting-18/
LOCATION:Rippey Public Library\, 224 Main St.\, Rippey\, IA
END:VEVENT
BEGIN:VEVENT
DTSTART;TZID=UTC:20190221T190000
DTEND;TZID=UTC:20190221T203000
DTSTAMP:20260425T132749
CREATED:20190210T001559Z
LAST-MODIFIED:20190220T163942Z
UID:3824-1550775600-1550781000@www.rippeynews.com
SUMMARY:Lions Club Meeting
DESCRIPTION:The meal will be served at 7:00 by Maralynn Rinker and Nancy Hanaman. Rick Fazel will be presenting the program.
URL:https://www.rippeynews.com/event/lions-club-meeting-21/
LOCATION:Rippey United Methodist Church\, 103 Main St.\, Rippey\, IA\, 50235
END:VEVENT
BEGIN:VEVENT
DTSTART;TZID=UTC:20190207T130000
DTEND;TZID=UTC:20190207T143000
DTSTAMP:20260425T132749
CREATED:20190104T215444Z
LAST-MODIFIED:20190104T215444Z
UID:3683-1549544400-1549549800@www.rippeynews.com
SUMMARY:Ladies Aid Meeting
DESCRIPTION:
URL:https://www.rippeynews.com/event/ladies-aid-meeting-11/
LOCATION:Rippey United Methodist Church\, 103 Main St.\, Rippey\, IA\, 50235
END:VEVENT
BEGIN:VEVENT
DTSTART;TZID=UTC:20190204T190000
DTEND;TZID=UTC:20190204T200000
DTSTAMP:20260425T132749
CREATED:20190101T211702Z
LAST-MODIFIED:20190101T211702Z
UID:3679-1549306800-1549310400@www.rippeynews.com
SUMMARY:City Council Meeting
DESCRIPTION:
URL:https://www.rippeynews.com/event/city-council-meeting-19/
LOCATION:Rippey Community Center\, 224 Main St.\, Rippey\, IA
END:VEVENT
BEGIN:VEVENT
DTSTART;VALUE=DATE:20190202
DTEND;VALUE=DATE:20190203
DTSTAMP:20260425T132749
CREATED:20180911T181311Z
LAST-MODIFIED:20180918T195759Z
UID:3393-1549065600-1549151999@www.rippeynews.com
SUMMARY:BRR Ride
DESCRIPTION:https://www.facebook.com/events/318637698692117/
URL:https://www.rippeynews.com/event/brr-ride-2/
LOCATION:Rippey\, IA
END:VEVENT
BEGIN:VEVENT
DTSTART;TZID=UTC:20190131T190000
DTEND;TZID=UTC:20190131T203000
DTSTAMP:20260425T132749
CREATED:20190131T181309Z
LAST-MODIFIED:20190131T181327Z
UID:3786-1548961200-1548966600@www.rippeynews.com
SUMMARY:Lions Club Potluck
DESCRIPTION:The Rippey Lions Club will hold a potluck on Jan. 31 at 7 p.m. and prepare for serving food at the BRR Ride during the program time. Pastor Paul and Nancy Burrow are the coordinators for the meal. There will not be a meeting on Feb. 7 with the next regular meeting on Feb. 21 with a meal served by women from the Rippey United Methodist Church.
URL:https://www.rippeynews.com/event/lions-club-meeting-20/
LOCATION:Rippey United Methodist Church\, 103 Main St.\, Rippey\, IA\, 50235
END:VEVENT
BEGIN:VEVENT
DTSTART;TZID=UTC:20190128T173000
DTEND;TZID=UTC:20190128T183000
DTSTAMP:20260425T132749
CREATED:20190121T183022Z
LAST-MODIFIED:20190121T183022Z
UID:3745-1548696600-1548700200@www.rippeynews.com
SUMMARY:Library Board Meeting
DESCRIPTION:
URL:https://www.rippeynews.com/event/library-board-meeting-19/
LOCATION:Rippey Public Library\, 224 Main St.\, Rippey\, IA
END:VEVENT
BEGIN:VEVENT
DTSTART;TZID=UTC:20190117T190000
DTEND;TZID=UTC:20190117T203000
DTSTAMP:20260425T132749
CREATED:20190115T134442Z
LAST-MODIFIED:20190115T134442Z
UID:3725-1547751600-1547757000@www.rippeynews.com
SUMMARY:Lions Club Meeting
DESCRIPTION:A meal will be served by women of the church. Roger Aegeter from Jefferson will present the program beginning at 8 p.m.\, sharing his recent trip to China.
URL:https://www.rippeynews.com/event/lions-club-meeting-19/
LOCATION:Rippey United Methodist Church\, 103 Main St.\, Rippey\, IA\, 50235
END:VEVENT
BEGIN:VEVENT
DTSTART;TZID=UTC:20190107T190000
DTEND;TZID=UTC:20190107T200000
DTSTAMP:20260425T132749
CREATED:20181205T220841Z
LAST-MODIFIED:20181205T220841Z
UID:3628-1546887600-1546891200@www.rippeynews.com
SUMMARY:City Council Meeting
DESCRIPTION:
URL:https://www.rippeynews.com/event/city-council-meeting-18/
LOCATION:Rippey Community Center\, 224 Main St.\, Rippey\, IA
END:VEVENT
BEGIN:VEVENT
DTSTART;VALUE=DATE:20190103
DTEND;VALUE=DATE:20190104
DTSTAMP:20260425T132749
CREATED:20181210T193021Z
LAST-MODIFIED:20181210T193021Z
UID:3636-1546473600-1546559999@www.rippeynews.com
SUMMARY:Lions Club Meeting
DESCRIPTION:
URL:https://www.rippeynews.com/event/lions-club-meeting-18/
LOCATION:Rippey United Methodist Church\, 103 Main St.\, Rippey\, IA\, 50235
END:VEVENT
BEGIN:VEVENT
DTSTART;TZID=UTC:20181219T143000
DTEND;TZID=UTC:20181219T163000
DTSTAMP:20260425T132749
CREATED:20181205T214832Z
LAST-MODIFIED:20181205T214832Z
UID:3621-1545229800-1545237000@www.rippeynews.com
SUMMARY:Library Christmas Party
DESCRIPTION:School is out early that day\, so we decided that they can make a gift jar to take home. Candies and jars will be provided. We’ll also have popcorn\, party mix\, and a drink while they watch a Christmas movie. I hope several students will take advantage of this. Parents are welcome to come if they want to watch and eat popcorn.
URL:https://www.rippeynews.com/event/library-christmas-party/
LOCATION:Rippey Public Library\, 224 Main St.\, Rippey\, IA
END:VEVENT
BEGIN:VEVENT
DTSTART;TZID=UTC:20181217T173000
DTEND;TZID=UTC:20181217T183000
DTSTAMP:20260425T132749
CREATED:20181126T201400Z
LAST-MODIFIED:20181126T201511Z
UID:3594-1545067800-1545071400@www.rippeynews.com
SUMMARY:Library Board Meeting
DESCRIPTION:
URL:https://www.rippeynews.com/event/library-board-meeting-17/
LOCATION:Rippey Public Library\, 224 Main St.\, Rippey\, IA
END:VEVENT
BEGIN:VEVENT
DTSTART;VALUE=DATE:20181216
DTEND;VALUE=DATE:20181217
DTSTAMP:20260425T132749
CREATED:20181210T192523Z
LAST-MODIFIED:20181210T192523Z
UID:3631-1544918400-1545004799@www.rippeynews.com
SUMMARY:UMC Christmas Program
DESCRIPTION:
URL:https://www.rippeynews.com/event/umc-christmas-program/
LOCATION:Rippey United Methodist Church\, 103 Main St.\, Rippey\, IA\, 50235
END:VEVENT
BEGIN:VEVENT
DTSTART;TZID=UTC:20181208T120000
DTEND;TZID=UTC:20181208T140000
DTSTAMP:20260425T132749
CREATED:20181125T194706Z
LAST-MODIFIED:20181125T194706Z
UID:3589-1544270400-1544277600@www.rippeynews.com
SUMMARY:GC Historical Society Meeting
DESCRIPTION:There will be a noon meal\, music provided by students from the Greene County Community High School under the leadership of Wes Anderson and the annual business meeting.
URL:https://www.rippeynews.com/event/gc-historical-society-meeting-3/
LOCATION:IA
END:VEVENT
BEGIN:VEVENT
DTSTART;TZID=UTC:20181207T190000
DTEND;TZID=UTC:20181207T203000
DTSTAMP:20260425T132749
CREATED:20181125T194843Z
LAST-MODIFIED:20181205T212553Z
UID:3592-1544209200-1544214600@www.rippeynews.com
SUMMARY:Lions Club Meeting
DESCRIPTION:Maralynn and Myron are in charge of the program and Cindy and Mark Devilbiss are coordinating the potluck.
URL:https://www.rippeynews.com/event/lions-club-meeting-17/
LOCATION:Rippey United Methodist Church\, 103 Main St.\, Rippey\, IA\, 50235
END:VEVENT
BEGIN:VEVENT
DTSTART;TZID=UTC:20181206T140000
DTEND;TZID=UTC:20181206T153000
DTSTAMP:20260425T132749
CREATED:20181108T224336Z
LAST-MODIFIED:20181108T224336Z
UID:3543-1544104800-1544110200@www.rippeynews.com
SUMMARY:Ladies Aid Meeting
DESCRIPTION:
URL:https://www.rippeynews.com/event/ladies-aid-meeting-10/
LOCATION:Rippey United Methodist Church\, 103 Main St.\, Rippey\, IA\, 50235
END:VEVENT
BEGIN:VEVENT
DTSTART;TZID=UTC:20181203T190000
DTEND;TZID=UTC:20181203T200000
DTSTAMP:20260425T132749
CREATED:20181108T233906Z
LAST-MODIFIED:20181108T233906Z
UID:3547-1543863600-1543867200@www.rippeynews.com
SUMMARY:City Council Meeting
DESCRIPTION:
URL:https://www.rippeynews.com/event/city-council-meeting-17/
LOCATION:Rippey Community Center\, 224 Main St.\, Rippey\, IA
END:VEVENT
BEGIN:VEVENT
DTSTART;TZID=UTC:20181119T173000
DTEND;TZID=UTC:20181119T183000
DTSTAMP:20260425T132749
CREATED:20181108T233742Z
LAST-MODIFIED:20181108T234712Z
UID:3545-1542648600-1542652200@www.rippeynews.com
SUMMARY:Library Board Meeting
DESCRIPTION:
URL:https://www.rippeynews.com/event/library-board-meeting-16/
LOCATION:Rippey Public Library\, 224 Main St.\, Rippey\, IA
END:VEVENT
BEGIN:VEVENT
DTSTART;TZID=UTC:20181115T190000
DTEND;TZID=UTC:20181115T203000
DTSTAMP:20260425T132749
CREATED:20181108T224135Z
LAST-MODIFIED:20181108T224135Z
UID:3541-1542308400-1542313800@www.rippeynews.com
SUMMARY:Lions Club Meeting
DESCRIPTION:A meal will be served by the women of the church.  The program will be presented by Jason Foley\, an award winning bee keeper.
URL:https://www.rippeynews.com/event/lions-club-meeting-16/
LOCATION:Rippey United Methodist Church\, 103 Main St.\, Rippey\, IA\, 50235
END:VEVENT
END:VCALENDAR