BEGIN:VCALENDAR
VERSION:2.0
PRODID:-//Rippey News - ECPv6.13.2.1//NONSGML v1.0//EN
CALSCALE:GREGORIAN
METHOD:PUBLISH
X-WR-CALNAME:Rippey News
X-ORIGINAL-URL:https://www.rippeynews.com
X-WR-CALDESC:Events for Rippey News
REFRESH-INTERVAL;VALUE=DURATION:PT1H
X-Robots-Tag:noindex
X-PUBLISHED-TTL:PT1H
BEGIN:VTIMEZONE
TZID:UTC
BEGIN:STANDARD
TZOFFSETFROM:+0000
TZOFFSETTO:+0000
TZNAME:UTC
DTSTART:20180101T000000
END:STANDARD
END:VTIMEZONE
BEGIN:VEVENT
DTSTART;TZID=UTC:20181004T140000
DTEND;TZID=UTC:20181004T153000
DTSTAMP:20260425T120108
CREATED:20180930T190809Z
LAST-MODIFIED:20181001T160108Z
UID:3449-1538661600-1538667000@www.rippeynews.com
SUMMARY:Ladies Aid Meeting
DESCRIPTION:Connie Neese will be sharing the program and Marilyn Heater will be serving as the hostess.
URL:https://www.rippeynews.com/event/ladies-aid-meeting-8/
LOCATION:Rippey United Methodist Church\, 103 Main St.\, Rippey\, IA\, 50235
END:VEVENT
BEGIN:VEVENT
DTSTART;TZID=UTC:20181001T190000
DTEND;TZID=UTC:20181001T200000
DTSTAMP:20260425T120108
CREATED:20180910T150913Z
LAST-MODIFIED:20180910T150913Z
UID:3383-1538420400-1538424000@www.rippeynews.com
SUMMARY:City Council Meeting
DESCRIPTION:
URL:https://www.rippeynews.com/event/city-council-meeting-15/
LOCATION:Rippey Community Center\, 224 Main St.\, Rippey\, IA
END:VEVENT
BEGIN:VEVENT
DTSTART;TZID=UTC:20180924T170000
DTEND;TZID=UTC:20180924T180000
DTSTAMP:20260425T120108
CREATED:20180910T150958Z
LAST-MODIFIED:20180910T151050Z
UID:3385-1537808400-1537812000@www.rippeynews.com
SUMMARY:Library Board Meeting
DESCRIPTION:
URL:https://www.rippeynews.com/event/library-board-meeting-14/
LOCATION:Rippey Public Library\, 224 Main St.\, Rippey\, IA
END:VEVENT
BEGIN:VEVENT
DTSTART;TZID=UTC:20180920T190000
DTEND;TZID=UTC:20180920T200000
DTSTAMP:20260425T120108
CREATED:20180913T173856Z
LAST-MODIFIED:20180919T155403Z
UID:3411-1537470000-1537473600@www.rippeynews.com
SUMMARY:Lions Club Meeting
DESCRIPTION:The meal will be served by the women of the church.
URL:https://www.rippeynews.com/event/lions-club-meeting-12/
LOCATION:Rippey United Methodist Church\, 103 Main St.\, Rippey\, IA\, 50235
END:VEVENT
BEGIN:VEVENT
DTSTART;TZID=UTC:20180909T160000
DTEND;TZID=UTC:20180909T190000
DTSTAMP:20260425T120108
CREATED:20180830T172206Z
LAST-MODIFIED:20180901T151130Z
UID:3353-1536508800-1536519600@www.rippeynews.com
SUMMARY:Ice Cream Social
DESCRIPTION:Loose meat sandwiches\, pie\, and homemade ice cream
URL:https://www.rippeynews.com/event/ice-cream-social-3/
LOCATION:Rippey United Methodist Church\, 103 Main St.\, Rippey\, IA\, 50235
END:VEVENT
BEGIN:VEVENT
DTSTART;TZID=UTC:20180906T170000
DTEND;TZID=UTC:20180906T190000
DTSTAMP:20260425T120108
CREATED:20180612T151033Z
LAST-MODIFIED:20180831T171412Z
UID:3118-1536253200-1536260400@www.rippeynews.com
SUMMARY:Lions Club Meeting
DESCRIPTION:Members are asked to bring meat to grill before that time and a dish to share. Dale Hanaman is in charge of the program.
URL:https://www.rippeynews.com/event/lions-club-meeting-11/
LOCATION:Rippey United Methodist Church\, 103 Main St.\, Rippey\, IA\, 50235
END:VEVENT
BEGIN:VEVENT
DTSTART;TZID=UTC:20180906T140000
DTEND;TZID=UTC:20180906T153000
DTSTAMP:20260425T120108
CREATED:20180628T214512Z
LAST-MODIFIED:20180628T214512Z
UID:3172-1536242400-1536247800@www.rippeynews.com
SUMMARY:Ladies Aid Meeting
DESCRIPTION:
URL:https://www.rippeynews.com/event/ladies-aid-meeting-7/
LOCATION:Rippey United Methodist Church\, 103 Main St.\, Rippey\, IA\, 50235
END:VEVENT
BEGIN:VEVENT
DTSTART;TZID=UTC:20180904T190000
DTEND;TZID=UTC:20180904T200000
DTSTAMP:20260425T120108
CREATED:20180810T154546Z
LAST-MODIFIED:20180829T152805Z
UID:3318-1536087600-1536091200@www.rippeynews.com
SUMMARY:City Council Meeting
DESCRIPTION:
URL:https://www.rippeynews.com/event/city-council-meeting-14/
LOCATION:Rippey Community Center\, 224 Main St.\, Rippey\, IA
END:VEVENT
BEGIN:VEVENT
DTSTART;TZID=UTC:20180830T180000
DTEND;TZID=UTC:20180830T200000
DTSTAMP:20260425T120108
CREATED:20180810T155154Z
LAST-MODIFIED:20180818T150231Z
UID:3322-1535652000-1535659200@www.rippeynews.com
SUMMARY:Canvas Painting With Jolene Peters
DESCRIPTION:https://www.facebook.com/events/261080821177003/
URL:https://www.rippeynews.com/event/canvas-painting-with-jolene-peters/
LOCATION:Rippey Public Library\, 224 Main St.\, Rippey\, IA
END:VEVENT
BEGIN:VEVENT
DTSTART;TZID=UTC:20180828T170000
DTEND;TZID=UTC:20180828T183000
DTSTAMP:20260425T120108
CREATED:20180810T154954Z
LAST-MODIFIED:20180818T150323Z
UID:3320-1535475600-1535481000@www.rippeynews.com
SUMMARY:Kids Canvas Painting
DESCRIPTION:https://www.facebook.com/events/560452537702523/
URL:https://www.rippeynews.com/event/kids-canvas-painting/
LOCATION:Rippey Public Library\, 224 Main St.\, Rippey\, IA
END:VEVENT
BEGIN:VEVENT
DTSTART;VALUE=DATE:20180828
DTEND;VALUE=DATE:20180831
DTSTAMP:20260425T120108
CREATED:20180629T185318Z
LAST-MODIFIED:20180702T210229Z
UID:3177-1535414400-1535673599@www.rippeynews.com
SUMMARY:Farm Progress Show
DESCRIPTION:
URL:https://www.rippeynews.com/event/farm-progress-show/
END:VEVENT
BEGIN:VEVENT
DTSTART;TZID=UTC:20180827T170000
DTEND;TZID=UTC:20180827T180000
DTSTAMP:20260425T120108
CREATED:20180802T153603Z
LAST-MODIFIED:20180802T153603Z
UID:3301-1535389200-1535392800@www.rippeynews.com
SUMMARY:Library Board Meeting
DESCRIPTION:
URL:https://www.rippeynews.com/event/library-board-meeting-13/
END:VEVENT
BEGIN:VEVENT
DTSTART;TZID=UTC:20180822T150000
DTEND;TZID=UTC:20180822T180000
DTSTAMP:20260425T120108
CREATED:20180818T150138Z
LAST-MODIFIED:20180818T150138Z
UID:3334-1534950000-1534960800@www.rippeynews.com
SUMMARY:Back To School Bash
DESCRIPTION:https://www.facebook.com/events/2119562704933415/
URL:https://www.rippeynews.com/event/back-to-school-bash/
LOCATION:Rippey Public Library\, 224 Main St.\, Rippey\, IA
END:VEVENT
BEGIN:VEVENT
DTSTART;TZID=UTC:20180806T190000
DTEND;TZID=UTC:20180806T200000
DTSTAMP:20260425T120108
CREATED:20180802T153520Z
LAST-MODIFIED:20180802T153520Z
UID:3299-1533582000-1533585600@www.rippeynews.com
SUMMARY:City Council Meeting
DESCRIPTION:
URL:https://www.rippeynews.com/event/city-council-meeting-13/
LOCATION:Rippey Community Center\, 224 Main St.\, Rippey\, IA
END:VEVENT
BEGIN:VEVENT
DTSTART;TZID=UTC:20180804T130000
DTEND;TZID=UTC:20180804T170000
DTSTAMP:20260425T120108
CREATED:20180722T162352Z
LAST-MODIFIED:20180722T162640Z
UID:3281-1533387600-1533402000@www.rippeynews.com
SUMMARY:GC Mini Con
DESCRIPTION:
URL:https://www.rippeynews.com/event/gc-mini-con/
END:VEVENT
BEGIN:VEVENT
DTSTART;TZID=UTC:20180802T190000
DTEND;TZID=UTC:20180802T200000
DTSTAMP:20260425T120108
CREATED:20180627T000530Z
LAST-MODIFIED:20180719T154220Z
UID:3143-1533236400-1533240000@www.rippeynews.com
SUMMARY:Library Board Meeting
DESCRIPTION:
URL:https://www.rippeynews.com/event/library-board-meeting-12/
LOCATION:Rippey Public Library\, 224 Main St.\, Rippey\, IA
END:VEVENT
BEGIN:VEVENT
DTSTART;TZID=UTC:20180716T130000
DTEND;TZID=UTC:20180716T140000
DTSTAMP:20260425T120108
CREATED:20180702T215141Z
LAST-MODIFIED:20180711T194205Z
UID:3209-1531746000-1531749600@www.rippeynews.com
SUMMARY:Jester Tells All
DESCRIPTION:https://www.facebook.com/events/573289119732930/
URL:https://www.rippeynews.com/event/jester-tells-all/
LOCATION:Rippey Public Library\, 224 Main St.\, Rippey\, IA
END:VEVENT
BEGIN:VEVENT
DTSTART;VALUE=DATE:20180710
DTEND;VALUE=DATE:20180717
DTSTAMP:20260425T120108
CREATED:20180702T205845Z
LAST-MODIFIED:20180702T205955Z
UID:3203-1531180800-1531785599@www.rippeynews.com
SUMMARY:Greene County Fair
DESCRIPTION:https://www.facebook.com/events/1004931469665947/
URL:https://www.rippeynews.com/event/greene-county-fair/
END:VEVENT
BEGIN:VEVENT
DTSTART;VALUE=DATE:20180709
DTEND;VALUE=DATE:20180710
DTSTAMP:20260425T120108
CREATED:20180705T201813Z
LAST-MODIFIED:20180705T201813Z
UID:3223-1531094400-1531180799@www.rippeynews.com
SUMMARY:GCLA Meeting
DESCRIPTION:
URL:https://www.rippeynews.com/event/gcla-meeting/
END:VEVENT
BEGIN:VEVENT
DTSTART;TZID=UTC:20180702T190000
DTEND;TZID=UTC:20180702T200000
DTSTAMP:20260425T120108
CREATED:20180609T182344Z
LAST-MODIFIED:20180609T182344Z
UID:3090-1530558000-1530561600@www.rippeynews.com
SUMMARY:City Council Meeting
DESCRIPTION:
URL:https://www.rippeynews.com/event/city-council-meeting-12/
LOCATION:Rippey Community Center\, 224 Main St.\, Rippey\, IA
END:VEVENT
BEGIN:VEVENT
DTSTART;TZID=UTC:20180625T170000
DTEND;TZID=UTC:20180625T180000
DTSTAMP:20260425T120108
CREATED:20180609T182435Z
LAST-MODIFIED:20180627T000457Z
UID:3092-1529946000-1529949600@www.rippeynews.com
SUMMARY:Library Board Meeting
DESCRIPTION:
URL:https://www.rippeynews.com/event/library-board-meeting-11/
END:VEVENT
BEGIN:VEVENT
DTSTART;TZID=UTC:20180610T160000
DTEND;TZID=UTC:20180610T190000
DTSTAMP:20260425T120108
CREATED:20180604T160335Z
LAST-MODIFIED:20180604T160335Z
UID:3045-1528646400-1528657200@www.rippeynews.com
SUMMARY:Ice Cream Social
DESCRIPTION:Work day for the ice cream social is Saturday\, June 9th at 8:00am
URL:https://www.rippeynews.com/event/ice-cream-social-2/
LOCATION:Rippey United Methodist Church\, 103 Main St.\, Rippey\, IA\, 50235
END:VEVENT
BEGIN:VEVENT
DTSTART;VALUE=DATE:20180608
DTEND;VALUE=DATE:20180609
DTSTAMP:20260425T120108
CREATED:20180604T160202Z
LAST-MODIFIED:20180604T160202Z
UID:3043-1528416000-1528502399@www.rippeynews.com
SUMMARY:Hanaman's 50th Anniversary
DESCRIPTION:Their children and families are planning a celebration later in the summer.
URL:https://www.rippeynews.com/event/hanamans-50th-anniversary/
END:VEVENT
BEGIN:VEVENT
DTSTART;TZID=UTC:20180607T190000
DTEND;TZID=UTC:20180607T200000
DTSTAMP:20260425T120108
CREATED:20180522T164928Z
LAST-MODIFIED:20180604T160002Z
UID:3018-1528398000-1528401600@www.rippeynews.com
SUMMARY:Lions Club Meeting
DESCRIPTION:We will meet in the home of Cindy and Mark Devilbiss.  For the potluck meal\, members may bring meat to grill and a dish to share.
URL:https://www.rippeynews.com/event/lions-club-meeting-10/
END:VEVENT
BEGIN:VEVENT
DTSTART;TZID=UTC:20180607T140000
DTEND;TZID=UTC:20180607T150000
DTSTAMP:20260425T120108
CREATED:20180607T175203Z
LAST-MODIFIED:20180607T175203Z
UID:3087-1528380000-1528383600@www.rippeynews.com
SUMMARY:Ladies Aid Meeting
DESCRIPTION:
URL:https://www.rippeynews.com/event/ladies-aid-meeting-6/
LOCATION:Rippey United Methodist Church\, 103 Main St.\, Rippey\, IA\, 50235
END:VEVENT
BEGIN:VEVENT
DTSTART;TZID=UTC:20180604T190000
DTEND;TZID=UTC:20180604T200000
DTSTAMP:20260425T120108
CREATED:20180509T221834Z
LAST-MODIFIED:20180509T221834Z
UID:2982-1528138800-1528142400@www.rippeynews.com
SUMMARY:City Council Meeting
DESCRIPTION:
URL:https://www.rippeynews.com/event/city-council-meeting-11/
LOCATION:Rippey Community Center\, 224 Main St.\, Rippey\, IA
END:VEVENT
BEGIN:VEVENT
DTSTART;TZID=UTC:20180526T120000
DTEND;TZID=UTC:20180526T140000
DTSTAMP:20260425T120108
CREATED:20180522T162813Z
LAST-MODIFIED:20180522T162813Z
UID:2998-1527336000-1527343200@www.rippeynews.com
SUMMARY:Rippey Alumni Party
DESCRIPTION:
URL:https://www.rippeynews.com/event/rippey-alumni-party-2/
LOCATION:Rippey United Methodist Church\, 103 Main St.\, Rippey\, IA\, 50235
END:VEVENT
BEGIN:VEVENT
DTSTART;TZID=UTC:20180523T170000
DTEND;TZID=UTC:20180523T180000
DTSTAMP:20260425T120108
CREATED:20180501T185039Z
LAST-MODIFIED:20180522T162720Z
UID:2930-1527094800-1527098400@www.rippeynews.com
SUMMARY:Library Board Meeting
DESCRIPTION:
URL:https://www.rippeynews.com/event/library-board-meeting-10/
LOCATION:Rippey Public Library\, 224 Main St.\, Rippey\, IA
END:VEVENT
BEGIN:VEVENT
DTSTART;TZID=UTC:20180507T190000
DTEND;TZID=UTC:20180507T200000
DTSTAMP:20260425T120108
CREATED:20180403T194724Z
LAST-MODIFIED:20180506T174726Z
UID:2808-1525719600-1525723200@www.rippeynews.com
SUMMARY:City Council Meeting
DESCRIPTION:
URL:https://www.rippeynews.com/event/city-council-meeting-10/
LOCATION:Rippey Community Center\, 224 Main St.\, Rippey\, IA
END:VEVENT
BEGIN:VEVENT
DTSTART;TZID=UTC:20180503T190000
DTEND;TZID=UTC:20180503T200000
DTSTAMP:20260425T120108
CREATED:20180501T185324Z
LAST-MODIFIED:20180501T185324Z
UID:2934-1525374000-1525377600@www.rippeynews.com
SUMMARY:Choir Practice
DESCRIPTION:
URL:https://www.rippeynews.com/event/choir-practice-3/
LOCATION:Rippey United Methodist Church\, 103 Main St.\, Rippey\, IA\, 50235
END:VEVENT
END:VCALENDAR