BEGIN:VCALENDAR
VERSION:2.0
PRODID:-//Rippey News - ECPv6.13.2.1//NONSGML v1.0//EN
CALSCALE:GREGORIAN
METHOD:PUBLISH
X-WR-CALNAME:Rippey News
X-ORIGINAL-URL:https://www.rippeynews.com
X-WR-CALDESC:Events for Rippey News
REFRESH-INTERVAL;VALUE=DURATION:PT1H
X-Robots-Tag:noindex
X-PUBLISHED-TTL:PT1H
BEGIN:VTIMEZONE
TZID:UTC
BEGIN:STANDARD
TZOFFSETFROM:+0000
TZOFFSETTO:+0000
TZNAME:UTC
DTSTART:20240101T000000
END:STANDARD
END:VTIMEZONE
BEGIN:VEVENT
DTSTART;TZID=UTC:20250615T160000
DTEND;TZID=UTC:20250615T190000
DTSTAMP:20260423T233420
CREATED:20250610T212145Z
LAST-MODIFIED:20250610T212146Z
UID:9276-1750003200-1750014000@www.rippeynews.com
SUMMARY:Ice Cream Social
DESCRIPTION:June 7th was make ice cream day at the church (and taste testing). Join us for the Ice Cream Social on Sunday.
URL:https://www.rippeynews.com/event/ice-cream-social-6/
LOCATION:Rippey United Methodist Church\, 103 Main St.\, Rippey\, IA\, 50235
END:VEVENT
BEGIN:VEVENT
DTSTART;TZID=UTC:20250608T173000
DTEND;TZID=UTC:20250608T183000
DTSTAMP:20260423T233420
CREATED:20250606T154757Z
LAST-MODIFIED:20250606T154758Z
UID:9263-1749403800-1749407400@www.rippeynews.com
SUMMARY:Friends of Rippey Meeting
DESCRIPTION:
URL:https://www.rippeynews.com/event/friends-of-rippey-meeting-18/
LOCATION:Rippey Community Center\, 224 Main St.\, Rippey\, IA
END:VEVENT
BEGIN:VEVENT
DTSTART;TZID=UTC:20250604T183000
DTEND;TZID=UTC:20250604T200000
DTSTAMP:20260423T233420
CREATED:20250602T202910Z
LAST-MODIFIED:20250602T202911Z
UID:9225-1749061800-1749067200@www.rippeynews.com
SUMMARY:Summer Barbecue
DESCRIPTION:
URL:https://www.rippeynews.com/event/summer-barbecue/
LOCATION:Dale & Nancy Hanaman\, 1956 U Ave\, Rippey\, IA
END:VEVENT
BEGIN:VEVENT
DTSTART;TZID=UTC:20250531T100000
DTEND;TZID=UTC:20250531T110000
DTSTAMP:20260423T233420
CREATED:20250512T193300Z
LAST-MODIFIED:20250512T193301Z
UID:9174-1748685600-1748689200@www.rippeynews.com
SUMMARY:Steve Dunn Author Visit
DESCRIPTION:
URL:https://www.rippeynews.com/event/steve-dunn-author-visit/
LOCATION:Rippey Public Library\, 224 Main St.\, Rippey\, IA
END:VEVENT
BEGIN:VEVENT
DTSTART;TZID=UTC:20250526T000000
DTEND;TZID=UTC:20250526T235959
DTSTAMP:20260423T233420
CREATED:20250205T182624Z
LAST-MODIFIED:20250512T192804Z
UID:9062-1748217600-1748303999@www.rippeynews.com
SUMMARY:Memorial Day Services
DESCRIPTION:
URL:https://www.rippeynews.com/event/memorial-day-services-3/
LOCATION:IA
END:VEVENT
BEGIN:VEVENT
DTSTART;TZID=UTC:20250524T120000
DTEND;TZID=UTC:20250524T140000
DTSTAMP:20260423T233420
CREATED:20250306T175416Z
LAST-MODIFIED:20250512T193348Z
UID:9089-1748088000-1748095200@www.rippeynews.com
SUMMARY:Rippey Alumni Meeting
DESCRIPTION:
URL:https://www.rippeynews.com/event/rippey-alumni-reunion/
LOCATION:Rippey United Methodist Church\, 103 Main St.\, Rippey\, IA\, 50235
END:VEVENT
BEGIN:VEVENT
DTSTART;TZID=UTC:20250515T183000
DTEND;TZID=UTC:20250515T200000
DTSTAMP:20260423T233420
CREATED:20250512T192620Z
LAST-MODIFIED:20250512T193328Z
UID:9165-1747333800-1747339200@www.rippeynews.com
SUMMARY:Lions Club Meeting
DESCRIPTION:
URL:https://www.rippeynews.com/event/lions-club-meeting-68/
LOCATION:Rippey United Methodist Church\, 103 Main St.\, Rippey\, IA\, 50235
END:VEVENT
BEGIN:VEVENT
DTSTART;TZID=UTC:20250510T090000
DTEND;TZID=UTC:20250510T090000
DTSTAMP:20260423T233420
CREATED:20250408T180203Z
LAST-MODIFIED:20250408T180507Z
UID:9109-1746867600-1746867600@www.rippeynews.com
SUMMARY:Golf Tournament
DESCRIPTION:
URL:https://www.rippeynews.com/event/golf-tournament/
LOCATION:The Hill Golf Course\, 1949 220th St.\, Grand Junction\, IA\, 50107
END:VEVENT
BEGIN:VEVENT
DTSTART;TZID=UTC:20250503T180000
DTEND;TZID=UTC:20250503T193000
DTSTAMP:20260423T233420
CREATED:20250416T171130Z
LAST-MODIFIED:20250416T171131Z
UID:9140-1746295200-1746300600@www.rippeynews.com
SUMMARY:Spring Recital
DESCRIPTION:
URL:https://www.rippeynews.com/event/spring-recital-2/
LOCATION:Rippey Community Center\, 224 Main St.\, Rippey\, IA
END:VEVENT
BEGIN:VEVENT
DTSTART;TZID=UTC:20250501T183000
DTEND;TZID=UTC:20250501T200000
DTSTAMP:20260423T233420
CREATED:20250428T164012Z
LAST-MODIFIED:20250428T174800Z
UID:9147-1746124200-1746129600@www.rippeynews.com
SUMMARY:Lions Club Meeting
DESCRIPTION:
URL:https://www.rippeynews.com/event/lions-club-meeting-67/
LOCATION:Rippey United Methodist Church\, 103 Main St.\, Rippey\, IA\, 50235
END:VEVENT
BEGIN:VEVENT
DTSTART;TZID=UTC:20250412T103000
DTEND;TZID=UTC:20250412T120000
DTSTAMP:20260423T233420
CREATED:20250205T182339Z
LAST-MODIFIED:20250318T155131Z
UID:9060-1744453800-1744459200@www.rippeynews.com
SUMMARY:Easter Egg Hunt
DESCRIPTION:
URL:https://www.rippeynews.com/event/easter-egg-hunt-2/
LOCATION:Rippey Community Center\, 224 Main St.\, Rippey\, IA
END:VEVENT
BEGIN:VEVENT
DTSTART;TZID=UTC:20250406T173000
DTEND;TZID=UTC:20250406T183000
DTSTAMP:20260423T233420
CREATED:20250401T205102Z
LAST-MODIFIED:20250401T205227Z
UID:9103-1743960600-1743964200@www.rippeynews.com
SUMMARY:Friends of Rippey Meeting
DESCRIPTION:
URL:https://www.rippeynews.com/event/friends-of-rippey-board-meeting/
LOCATION:Rippey Community Center\, 224 Main St.\, Rippey\, IA
END:VEVENT
BEGIN:VEVENT
DTSTART;TZID=UTC:20250403T183000
DTEND;TZID=UTC:20250403T200000
DTSTAMP:20260423T233420
CREATED:20250401T204827Z
LAST-MODIFIED:20250401T204828Z
UID:9100-1743705000-1743710400@www.rippeynews.com
SUMMARY:When Electricity Came To Greene County
DESCRIPTION:
URL:https://www.rippeynews.com/event/when-electricity-came-to-greene-county/
LOCATION:Rippey United Methodist Church\, 103 Main St.\, Rippey\, IA\, 50235
END:VEVENT
BEGIN:VEVENT
DTSTART;TZID=UTC:20250320T183000
DTEND;TZID=UTC:20250320T200000
DTSTAMP:20260423T233420
CREATED:20250318T155328Z
LAST-MODIFIED:20250318T155329Z
UID:9095-1742495400-1742500800@www.rippeynews.com
SUMMARY:Lions Club Meeting
DESCRIPTION:
URL:https://www.rippeynews.com/event/lions-club-meeting-66/
LOCATION:Rippey United Methodist Church\, 103 Main St.\, Rippey\, IA\, 50235
END:VEVENT
BEGIN:VEVENT
DTSTART;TZID=UTC:20250302T173000
DTEND;TZID=UTC:20250302T183000
DTSTAMP:20260423T233420
CREATED:20250205T182100Z
LAST-MODIFIED:20250205T182101Z
UID:9058-1740936600-1740940200@www.rippeynews.com
SUMMARY:Rippey Lions Club Meeting
DESCRIPTION:
URL:https://www.rippeynews.com/event/rippey-lions-club-meeting-2/
LOCATION:Rippey Community Center\, 224 Main St.\, Rippey\, IA
END:VEVENT
BEGIN:VEVENT
DTSTART;TZID=UTC:20250220T183000
DTEND;TZID=UTC:20250220T200000
DTSTAMP:20260423T233420
CREATED:20250217T191018Z
LAST-MODIFIED:20250217T191019Z
UID:9071-1740076200-1740081600@www.rippeynews.com
SUMMARY:Presentation by Sara Huddleston
DESCRIPTION:
URL:https://www.rippeynews.com/event/presentation-by-sara-huddleston/
LOCATION:Rippey United Methodist Church\, 103 Main St.\, Rippey\, IA\, 50235
END:VEVENT
BEGIN:VEVENT
DTSTART;TZID=UTC:20250206T183000
DTEND;TZID=UTC:20250206T200000
DTSTAMP:20260423T233420
CREATED:20250113T180811Z
LAST-MODIFIED:20250205T181633Z
UID:9035-1738866600-1738872000@www.rippeynews.com
SUMMARY:Angus: Boom Town & Bust
DESCRIPTION:
URL:https://www.rippeynews.com/event/angus-boom-town-bust/
LOCATION:Rippey United Methodist Church\, 103 Main St.\, Rippey\, IA\, 50235
END:VEVENT
BEGIN:VEVENT
DTSTART;TZID=UTC:20250202T173000
DTEND;TZID=UTC:20250202T183000
DTSTAMP:20260423T233420
CREATED:20250115T180606Z
LAST-MODIFIED:20250115T180606Z
UID:9044-1738517400-1738521000@www.rippeynews.com
SUMMARY:Friends Of Rippey Meeting
DESCRIPTION:
URL:https://www.rippeynews.com/event/friends-of-rippey-meeting-17/
LOCATION:Rippey Community Center\, 224 Main St.\, Rippey\, IA
END:VEVENT
BEGIN:VEVENT
DTSTART;TZID=UTC:20250201T093000
DTEND;TZID=UTC:20250201T123000
DTSTAMP:20260423T233420
CREATED:20241107T204653Z
LAST-MODIFIED:20241107T204654Z
UID:8969-1738402200-1738413000@www.rippeynews.com
SUMMARY:PBR Half Marathon
DESCRIPTION:The Perry-Berkley-Rippey (PBR) Half Marathon is an adventure run from Perry to Berkley to Rippey. Held annually on the first Saturday of February\, this race is perfect for those brave enough to test their endurance against the challenges of an Iowa winter! It takes place alongside the BRR Ride (Bike Ride to Rippey).
URL:https://www.rippeynews.com/event/pbr-half-marathon-2/
LOCATION:IA
END:VEVENT
BEGIN:VEVENT
DTSTART;TZID=UTC:20250201T000000
DTEND;TZID=UTC:20250201T235959
DTSTAMP:20260423T233420
CREATED:20240830T194549Z
LAST-MODIFIED:20240830T194840Z
UID:8856-1738368000-1738454399@www.rippeynews.com
SUMMARY:BRR Ride
DESCRIPTION:
URL:https://www.rippeynews.com/event/brr-ride-8/
LOCATION:Rippey\, IA
END:VEVENT
BEGIN:VEVENT
DTSTART;TZID=UTC:20250109T183000
DTEND;TZID=UTC:20250109T200000
DTSTAMP:20260423T233420
CREATED:20250107T222406Z
LAST-MODIFIED:20250107T222407Z
UID:9028-1736447400-1736452800@www.rippeynews.com
SUMMARY:One Room Schools In Greene County
DESCRIPTION:
URL:https://www.rippeynews.com/event/one-room-schools-in-greene-county/
LOCATION:Rippey United Methodist Church\, 103 Main St.\, Rippey\, IA\, 50235
END:VEVENT
BEGIN:VEVENT
DTSTART;TZID=UTC:20241215T173000
DTEND;TZID=UTC:20241215T183000
DTSTAMP:20260423T233420
CREATED:20241129T202904Z
LAST-MODIFIED:20241129T202905Z
UID:8994-1734283800-1734287400@www.rippeynews.com
SUMMARY:Friends Of Rippey Meeting
DESCRIPTION:
URL:https://www.rippeynews.com/event/friends-of-rippey-meeting-16/
LOCATION:Rippey Community Center\, 224 Main St.\, Rippey\, IA
END:VEVENT
BEGIN:VEVENT
DTSTART;TZID=UTC:20241214T140000
DTEND;TZID=UTC:20241214T153000
DTSTAMP:20260423T233420
CREATED:20241118T181837Z
LAST-MODIFIED:20241204T181050Z
UID:8977-1734184800-1734190200@www.rippeynews.com
SUMMARY:Music Recital
DESCRIPTION:
URL:https://www.rippeynews.com/event/music-recital-3/
LOCATION:Rippey Community Center\, 224 Main St.\, Rippey\, IA
END:VEVENT
BEGIN:VEVENT
DTSTART;TZID=UTC:20241214T090000
DTEND;TZID=UTC:20241214T110000
DTSTAMP:20260423T233420
CREATED:20241107T201551Z
LAST-MODIFIED:20241204T181212Z
UID:8963-1734166800-1734174000@www.rippeynews.com
SUMMARY:Breakfast With Santa
DESCRIPTION:
URL:https://www.rippeynews.com/event/breakfast-with-santa/
LOCATION:Rippey Community Center\, 224 Main St.\, Rippey\, IA
END:VEVENT
BEGIN:VEVENT
DTSTART;TZID=UTC:20241205T183000
DTEND;TZID=UTC:20241205T200000
DTSTAMP:20260423T233420
CREATED:20241204T182259Z
LAST-MODIFIED:20241204T182340Z
UID:9003-1733423400-1733428800@www.rippeynews.com
SUMMARY:Lions Club Meeting
DESCRIPTION:
URL:https://www.rippeynews.com/event/lions-club-meeting-65/
LOCATION:Rippey United Methodist Church\, 103 Main St.\, Rippey\, IA\, 50235
END:VEVENT
BEGIN:VEVENT
DTSTART;TZID=UTC:20241121T183000
DTEND;TZID=UTC:20241121T200000
DTSTAMP:20260423T233420
CREATED:20241118T181504Z
LAST-MODIFIED:20241118T181505Z
UID:8973-1732213800-1732219200@www.rippeynews.com
SUMMARY:Lions Club Meeting
DESCRIPTION:
URL:https://www.rippeynews.com/event/lions-club-meeting-64/
LOCATION:Rippey United Methodist Church\, 103 Main St.\, Rippey\, IA\, 50235
END:VEVENT
BEGIN:VEVENT
DTSTART;TZID=UTC:20241117T190000
DTEND;TZID=UTC:20241117T200000
DTSTAMP:20260423T233420
CREATED:20241028T195136Z
LAST-MODIFIED:20241030T201431Z
UID:8935-1731870000-1731873600@www.rippeynews.com
SUMMARY:Friends Of Rippey Meeting
DESCRIPTION:
URL:https://www.rippeynews.com/event/8935/
LOCATION:Rippey Community Center\, 224 Main St.\, Rippey\, IA
END:VEVENT
BEGIN:VEVENT
DTSTART;TZID=UTC:20241107T183000
DTEND;TZID=UTC:20241107T193000
DTSTAMP:20260423T233420
CREATED:20241107T202034Z
LAST-MODIFIED:20241107T202035Z
UID:8967-1731004200-1731007800@www.rippeynews.com
SUMMARY:Lions Club Meeting
DESCRIPTION:
URL:https://www.rippeynews.com/event/lions-club-meeting-63/
LOCATION:Rippey United Methodist Church\, 103 Main St.\, Rippey\, IA\, 50235
END:VEVENT
BEGIN:VEVENT
DTSTART;TZID=UTC:20241026T170000
DTEND;TZID=UTC:20241026T200000
DTSTAMP:20260423T233420
CREATED:20241018T200744Z
LAST-MODIFIED:20241018T200744Z
UID:8929-1729962000-1729972800@www.rippeynews.com
SUMMARY:Trunk Or Treat
DESCRIPTION:
URL:https://www.rippeynews.com/event/trunk-or-treat-2/
LOCATION:Rippey\, IA
END:VEVENT
BEGIN:VEVENT
DTSTART;TZID=UTC:20241020T190000
DTEND;TZID=UTC:20241020T200000
DTSTAMP:20260423T233420
CREATED:20240830T193846Z
LAST-MODIFIED:20241008T170637Z
UID:8847-1729450800-1729454400@www.rippeynews.com
SUMMARY:Friends Of Rippey Meeting
DESCRIPTION:
URL:https://www.rippeynews.com/event/friends-of-rippey-meeting-15/
LOCATION:Rippey Community Center\, 224 Main St.\, Rippey\, IA
END:VEVENT
END:VCALENDAR