BEGIN:VCALENDAR
VERSION:2.0
PRODID:-//Rippey News - ECPv6.13.2.1//NONSGML v1.0//EN
CALSCALE:GREGORIAN
METHOD:PUBLISH
X-WR-CALNAME:Rippey News
X-ORIGINAL-URL:https://www.rippeynews.com
X-WR-CALDESC:Events for Rippey News
REFRESH-INTERVAL;VALUE=DURATION:PT1H
X-Robots-Tag:noindex
X-PUBLISHED-TTL:PT1H
BEGIN:VTIMEZONE
TZID:UTC
BEGIN:STANDARD
TZOFFSETFROM:+0000
TZOFFSETTO:+0000
TZNAME:UTC
DTSTART:20180101T000000
END:STANDARD
END:VTIMEZONE
BEGIN:VEVENT
DTSTART;TZID=UTC:20180607T190000
DTEND;TZID=UTC:20180607T200000
DTSTAMP:20260425T115941
CREATED:20180522T164928Z
LAST-MODIFIED:20180604T160002Z
UID:3018-1528398000-1528401600@www.rippeynews.com
SUMMARY:Lions Club Meeting
DESCRIPTION:We will meet in the home of Cindy and Mark Devilbiss.  For the potluck meal\, members may bring meat to grill and a dish to share.
URL:https://www.rippeynews.com/event/lions-club-meeting-10/
LOCATION:IA
END:VEVENT
BEGIN:VEVENT
DTSTART;TZID=UTC:20180607T140000
DTEND;TZID=UTC:20180607T150000
DTSTAMP:20260425T115941
CREATED:20180607T175203Z
LAST-MODIFIED:20180607T175203Z
UID:3087-1528380000-1528383600@www.rippeynews.com
SUMMARY:Ladies Aid Meeting
DESCRIPTION:
URL:https://www.rippeynews.com/event/ladies-aid-meeting-6/
LOCATION:Rippey United Methodist Church\, 103 Main St.\, Rippey\, IA\, 50235
END:VEVENT
BEGIN:VEVENT
DTSTART;TZID=UTC:20180604T190000
DTEND;TZID=UTC:20180604T200000
DTSTAMP:20260425T115941
CREATED:20180509T221834Z
LAST-MODIFIED:20180509T221834Z
UID:2982-1528138800-1528142400@www.rippeynews.com
SUMMARY:City Council Meeting
DESCRIPTION:
URL:https://www.rippeynews.com/event/city-council-meeting-11/
LOCATION:Rippey Community Center\, 224 Main St.\, Rippey\, IA
END:VEVENT
BEGIN:VEVENT
DTSTART;TZID=UTC:20180526T120000
DTEND;TZID=UTC:20180526T140000
DTSTAMP:20260425T115941
CREATED:20180522T162813Z
LAST-MODIFIED:20180522T162813Z
UID:2998-1527336000-1527343200@www.rippeynews.com
SUMMARY:Rippey Alumni Party
DESCRIPTION:
URL:https://www.rippeynews.com/event/rippey-alumni-party-2/
LOCATION:Rippey United Methodist Church\, 103 Main St.\, Rippey\, IA\, 50235
END:VEVENT
BEGIN:VEVENT
DTSTART;TZID=UTC:20180523T170000
DTEND;TZID=UTC:20180523T180000
DTSTAMP:20260425T115941
CREATED:20180501T185039Z
LAST-MODIFIED:20180522T162720Z
UID:2930-1527094800-1527098400@www.rippeynews.com
SUMMARY:Library Board Meeting
DESCRIPTION:
URL:https://www.rippeynews.com/event/library-board-meeting-10/
LOCATION:Rippey Public Library\, 224 Main St.\, Rippey\, IA
END:VEVENT
BEGIN:VEVENT
DTSTART;TZID=UTC:20180507T190000
DTEND;TZID=UTC:20180507T200000
DTSTAMP:20260425T115941
CREATED:20180403T194724Z
LAST-MODIFIED:20180506T174726Z
UID:2808-1525719600-1525723200@www.rippeynews.com
SUMMARY:City Council Meeting
DESCRIPTION:
URL:https://www.rippeynews.com/event/city-council-meeting-10/
LOCATION:Rippey Community Center\, 224 Main St.\, Rippey\, IA
END:VEVENT
BEGIN:VEVENT
DTSTART;TZID=UTC:20180503T190000
DTEND;TZID=UTC:20180503T200000
DTSTAMP:20260425T115941
CREATED:20180501T185324Z
LAST-MODIFIED:20180501T185324Z
UID:2934-1525374000-1525377600@www.rippeynews.com
SUMMARY:Choir Practice
DESCRIPTION:
URL:https://www.rippeynews.com/event/choir-practice-3/
LOCATION:Rippey United Methodist Church\, 103 Main St.\, Rippey\, IA\, 50235
END:VEVENT
BEGIN:VEVENT
DTSTART;TZID=UTC:20180503T140000
DTEND;TZID=UTC:20180503T150000
DTSTAMP:20260425T115941
CREATED:20180501T185418Z
LAST-MODIFIED:20180501T185418Z
UID:2936-1525356000-1525359600@www.rippeynews.com
SUMMARY:Ladies Aid Meeting
DESCRIPTION:
URL:https://www.rippeynews.com/event/ladies-aid-meeting-5/
LOCATION:Rippey United Methodist Church\, 103 Main St.\, Rippey\, IA\, 50235
END:VEVENT
BEGIN:VEVENT
DTSTART;TZID=UTC:20180430T170000
DTEND;TZID=UTC:20180430T180000
DTSTAMP:20260425T115941
CREATED:20180403T194627Z
LAST-MODIFIED:20180403T194627Z
UID:2806-1525107600-1525111200@www.rippeynews.com
SUMMARY:Library Board Meeting
DESCRIPTION:
URL:https://www.rippeynews.com/event/library-board-meeting-9/
LOCATION:Rippey Public Library\, 224 Main St.\, Rippey\, IA
END:VEVENT
BEGIN:VEVENT
DTSTART;TZID=UTC:20180419T190000
DTEND;TZID=UTC:20180419T200000
DTSTAMP:20260425T115941
CREATED:20180412T170944Z
LAST-MODIFIED:20180412T170944Z
UID:2880-1524164400-1524168000@www.rippeynews.com
SUMMARY:Lions Club Meeting
DESCRIPTION:
URL:https://www.rippeynews.com/event/lions-club-meeting-9/
LOCATION:Rippey United Methodist Church\, 103 Main St.\, Rippey\, IA\, 50235
END:VEVENT
BEGIN:VEVENT
DTSTART;TZID=UTC:20180413T160000
DTEND;TZID=UTC:20180413T180000
DTSTAMP:20260425T115941
CREATED:20180406T213146Z
LAST-MODIFIED:20180406T213146Z
UID:2841-1523635200-1523642400@www.rippeynews.com
SUMMARY:Free Movie!
DESCRIPTION:
URL:https://www.rippeynews.com/event/free-movie/
LOCATION:IA
END:VEVENT
BEGIN:VEVENT
DTSTART;VALUE=DATE:20180412
DTEND;VALUE=DATE:20180413
DTSTAMP:20260425T115941
CREATED:20180311T225532Z
LAST-MODIFIED:20180311T225532Z
UID:2748-1523491200-1523577599@www.rippeynews.com
SUMMARY:Greene County Reads
DESCRIPTION:
URL:https://www.rippeynews.com/event/greene-county-reads-2/
LOCATION:IA
END:VEVENT
BEGIN:VEVENT
DTSTART;TZID=UTC:20180407T100000
DTEND;TZID=UTC:20180407T120000
DTSTAMP:20260425T115941
CREATED:20180226T211709Z
LAST-MODIFIED:20180308T162747Z
UID:2673-1523095200-1523102400@www.rippeynews.com
SUMMARY:Greene County Toddler Fest
DESCRIPTION:
URL:https://www.rippeynews.com/event/greene-county-toddler-fest/
LOCATION:IA
END:VEVENT
BEGIN:VEVENT
DTSTART;VALUE=DATE:20180407
DTEND;VALUE=DATE:20180408
DTSTAMP:20260425T115941
CREATED:20180307T170420Z
LAST-MODIFIED:20180307T170420Z
UID:2723-1523059200-1523145599@www.rippeynews.com
SUMMARY:Lions Club Breakfast
DESCRIPTION:
URL:https://www.rippeynews.com/event/lions-club-breakfast/
LOCATION:Rippey United Methodist Church\, 103 Main St.\, Rippey\, IA\, 50235
END:VEVENT
BEGIN:VEVENT
DTSTART;TZID=UTC:20180402T180000
DTEND;TZID=UTC:20180402T190000
DTSTAMP:20260425T115941
CREATED:20180307T170739Z
LAST-MODIFIED:20180307T170739Z
UID:2729-1522692000-1522695600@www.rippeynews.com
SUMMARY:City Council Meeting
DESCRIPTION:
URL:https://www.rippeynews.com/event/city-council-meeting-9/
LOCATION:Rippey Community Center\, 224 Main St.\, Rippey\, IA
END:VEVENT
BEGIN:VEVENT
DTSTART;TZID=UTC:20180328T090000
DTEND;TZID=UTC:20180328T100000
DTSTAMP:20260425T115941
CREATED:20180323T215553Z
LAST-MODIFIED:20180323T215553Z
UID:2794-1522227600-1522231200@www.rippeynews.com
SUMMARY:Coffee & Conversation
DESCRIPTION:https://www.facebook.com/events/217649972304266/
URL:https://www.rippeynews.com/event/coffee-conversation/
LOCATION:Rippey Public Library\, 224 Main St.\, Rippey\, IA
END:VEVENT
BEGIN:VEVENT
DTSTART;TZID=UTC:20180326T170000
DTEND;TZID=UTC:20180326T180000
DTSTAMP:20260425T115941
CREATED:20180307T170816Z
LAST-MODIFIED:20180307T170816Z
UID:2731-1522083600-1522087200@www.rippeynews.com
SUMMARY:Library Board Meeting
DESCRIPTION:
URL:https://www.rippeynews.com/event/library-board-meeting-8/
LOCATION:Rippey Public Library\, 224 Main St.\, Rippey\, IA
END:VEVENT
BEGIN:VEVENT
DTSTART;TZID=UTC:20180324T170000
DTEND;TZID=UTC:20180324T230000
DTSTAMP:20260425T115941
CREATED:20180124T191434Z
LAST-MODIFIED:20180124T191434Z
UID:2588-1521910800-1521932400@www.rippeynews.com
SUMMARY:2018 Boost Bash
DESCRIPTION:https://www.facebook.com/events/1549217991757715/?ti=cl
URL:https://www.rippeynews.com/event/2018-boost-bash/
LOCATION:IA
END:VEVENT
BEGIN:VEVENT
DTSTART;TZID=UTC:20180316T143000
DTEND;TZID=UTC:20180316T153000
DTSTAMP:20260425T115941
CREATED:20180312T175730Z
LAST-MODIFIED:20180315T192657Z
UID:2753-1521210600-1521214200@www.rippeynews.com
SUMMARY:Rainbow Watercolor Shamrock
DESCRIPTION:
URL:https://www.rippeynews.com/event/rainbow-watercolor-shamrock/
LOCATION:Rippey Public Library\, 224 Main St.\, Rippey\, IA
END:VEVENT
BEGIN:VEVENT
DTSTART;TZID=UTC:20180315T190000
DTEND;TZID=UTC:20180315T203000
DTSTAMP:20260425T115941
CREATED:20180307T170639Z
LAST-MODIFIED:20180307T170639Z
UID:2727-1521140400-1521145800@www.rippeynews.com
SUMMARY:Lions Club Meeting
DESCRIPTION:
URL:https://www.rippeynews.com/event/lions-club-meeting-8/
LOCATION:Rippey United Methodist Church\, 103 Main St.\, Rippey\, IA\, 50235
END:VEVENT
BEGIN:VEVENT
DTSTART;VALUE=DATE:20180311
DTEND;VALUE=DATE:20180312
DTSTAMP:20260425T115941
CREATED:20180307T170525Z
LAST-MODIFIED:20180307T171335Z
UID:2725-1520726400-1520812799@www.rippeynews.com
SUMMARY:Fellowship Potluck
DESCRIPTION:Join us for a fellowship potluck following our morning worship.
URL:https://www.rippeynews.com/event/fellowship-potluck/
LOCATION:Rippey United Methodist Church\, 103 Main St.\, Rippey\, IA\, 50235
END:VEVENT
BEGIN:VEVENT
DTSTART;TZID=UTC:20180307T160000
DTEND;TZID=UTC:20180307T180000
DTSTAMP:20260425T115941
CREATED:20180303T170514Z
LAST-MODIFIED:20180303T170537Z
UID:2717-1520438400-1520445600@www.rippeynews.com
SUMMARY:Bond Referendum Meeting
DESCRIPTION:http://raccoonvalleyradio.com/2018/03/additional-information-released-on-the-greene-county-school-district-bond-referendum/
URL:https://www.rippeynews.com/event/bond-referendum-meeting/
LOCATION:Rippey Community Center\, 224 Main St.\, Rippey\, IA
END:VEVENT
BEGIN:VEVENT
DTSTART;TZID=UTC:20180306T140000
DTEND;TZID=UTC:20180306T153000
DTSTAMP:20260425T115941
CREATED:20180221T200223Z
LAST-MODIFIED:20180221T200441Z
UID:2641-1520344800-1520350200@www.rippeynews.com
SUMMARY:Ladies Aid Meeting
DESCRIPTION:
URL:https://www.rippeynews.com/event/ladies-aid-meeting-4/
LOCATION:Rippey United Methodist Church\, 103 Main St.\, Rippey\, IA\, 50235
END:VEVENT
BEGIN:VEVENT
DTSTART;TZID=UTC:20180305T180000
DTEND;TZID=UTC:20180305T190000
DTSTAMP:20260425T115941
CREATED:20180209T171140Z
LAST-MODIFIED:20180209T171140Z
UID:2618-1520272800-1520276400@www.rippeynews.com
SUMMARY:City Council Meeting
DESCRIPTION:
URL:https://www.rippeynews.com/event/city-council-meeting-8/
LOCATION:Rippey Community Center\, 224 Main St.\, Rippey\, IA
END:VEVENT
BEGIN:VEVENT
DTSTART;TZID=UTC:20180301T190000
DTEND;TZID=UTC:20180301T210000
DTSTAMP:20260425T115941
CREATED:20180223T201538Z
LAST-MODIFIED:20180228T223134Z
UID:2658-1519930800-1519938000@www.rippeynews.com
SUMMARY:Lions Club Meeting
DESCRIPTION:The Rippey Lions Club will share a potluck meal followed by a business meeting. The program at 8 pm will be presented by District Lions Club Governor\, Paul Thompson of Woodward. He will share information about Lions Club International work around the world and the upcoming district convention. Everyone is welcome to attend!
URL:https://www.rippeynews.com/event/lions-club-meeting-7/
LOCATION:Rippey United Methodist Church\, 103 Main St.\, Rippey\, IA\, 50235
END:VEVENT
BEGIN:VEVENT
DTSTART;TZID=UTC:20180228T190000
DTEND;TZID=UTC:20180228T200000
DTSTAMP:20260425T115941
CREATED:20180227T185806Z
LAST-MODIFIED:20180227T185806Z
UID:2691-1519844400-1519848000@www.rippeynews.com
SUMMARY:Choir Practice
DESCRIPTION:
URL:https://www.rippeynews.com/event/choir-practice-2/
LOCATION:Rippey United Methodist Church\, 103 Main St.\, Rippey\, IA\, 50235
END:VEVENT
BEGIN:VEVENT
DTSTART;TZID=UTC:20180226T170000
DTEND;TZID=UTC:20180226T180000
DTSTAMP:20260425T115941
CREATED:20180209T171241Z
LAST-MODIFIED:20180209T171241Z
UID:2620-1519664400-1519668000@www.rippeynews.com
SUMMARY:Library Board Meeting
DESCRIPTION:
URL:https://www.rippeynews.com/event/library-board-meeting-7/
LOCATION:Rippey Public Library\, 224 Main St.\, Rippey\, IA
END:VEVENT
BEGIN:VEVENT
DTSTART;TZID=UTC:20180217T110000
DTEND;TZID=UTC:20180217T140000
DTSTAMP:20260425T115941
CREATED:20180108T182230Z
LAST-MODIFIED:20180108T182230Z
UID:2520-1518865200-1518876000@www.rippeynews.com
SUMMARY:Soup Lunch Fundraiser
DESCRIPTION:It’s time for our Annual Soup Fundraising Event! Come and enjoy a bowl of hot soup and good company. Free will donation.
URL:https://www.rippeynews.com/event/soup-lunch-fundraiser/
LOCATION:Rippey Community Center\, 224 Main St.\, Rippey\, IA
END:VEVENT
BEGIN:VEVENT
DTSTART;TZID=UTC:20180214T190000
DTEND;TZID=UTC:20180214T203000
DTSTAMP:20260425T115941
CREATED:20180129T215828Z
LAST-MODIFIED:20180129T215828Z
UID:2594-1518634800-1518640200@www.rippeynews.com
SUMMARY:Parish-Wide Ash Wednesday
DESCRIPTION:
URL:https://www.rippeynews.com/event/parish-wide-ash-wednesday/
LOCATION:Rippey United Methodist Church\, 103 Main St.\, Rippey\, IA\, 50235
END:VEVENT
BEGIN:VEVENT
DTSTART;VALUE=DATE:20180210
DTEND;VALUE=DATE:20180211
DTSTAMP:20260425T115941
CREATED:20180116T144926Z
LAST-MODIFIED:20180116T144926Z
UID:2541-1518220800-1518307199@www.rippeynews.com
SUMMARY:Washington Winners 4-H Club Meeting
DESCRIPTION:
URL:https://www.rippeynews.com/event/washington-winners-4-h-club-meeting/
LOCATION:IA
END:VEVENT
END:VCALENDAR