BEGIN:VCALENDAR
VERSION:2.0
PRODID:-//Rippey News - ECPv6.13.2.1//NONSGML v1.0//EN
CALSCALE:GREGORIAN
METHOD:PUBLISH
X-WR-CALNAME:Rippey News
X-ORIGINAL-URL:https://www.rippeynews.com
X-WR-CALDESC:Events for Rippey News
REFRESH-INTERVAL;VALUE=DURATION:PT1H
X-Robots-Tag:noindex
X-PUBLISHED-TTL:PT1H
BEGIN:VTIMEZONE
TZID:UTC
BEGIN:STANDARD
TZOFFSETFROM:+0000
TZOFFSETTO:+0000
TZNAME:UTC
DTSTART:20170101T000000
END:STANDARD
END:VTIMEZONE
BEGIN:VEVENT
DTSTART;TZID=UTC:20171028T150000
DTEND;TZID=UTC:20171028T190000
DTSTAMP:20260425T151359
CREATED:20170921T171612Z
LAST-MODIFIED:20170921T171659Z
UID:2308-1509202800-1509217200@www.rippeynews.com
SUMMARY:Rippey Fall Festival
DESCRIPTION:https://www.facebook.com/events/573564369646515/
URL:https://www.rippeynews.com/event/rippey-fall-festival/
LOCATION:IA
END:VEVENT
BEGIN:VEVENT
DTSTART;TZID=UTC:20171006T130000
DTEND;TZID=UTC:20171006T150000
DTSTAMP:20260425T151359
CREATED:20170914T160758Z
LAST-MODIFIED:20170914T160901Z
UID:2271-1507294800-1507302000@www.rippeynews.com
SUMMARY:Flu Shot Clinic
DESCRIPTION:Flu vaccinations are billable to Medicare\, Medicaid\, Title 19 and other private insurance companies. The flu shots cost $35 per person. For any questions or more information\, contact public health at 386-3228.
URL:https://www.rippeynews.com/event/flu-shot-clinic/
LOCATION:Rippey Public Library\, 224 Main St.\, Rippey\, IA
END:VEVENT
BEGIN:VEVENT
DTSTART;TZID=UTC:20171006T120000
DTEND;TZID=UTC:20171006T143000
DTSTAMP:20260425T151359
CREATED:20170925T171635Z
LAST-MODIFIED:20170925T171635Z
UID:2330-1507291200-1507300200@www.rippeynews.com
SUMMARY:GC Historical Society Meeting
DESCRIPTION:The noon lunch is $8 for members and $10 for non-members. The free program\, starting at 1:00\, will be “The Banks of Rippey” presented by Nancy Bardole Hanaman and Cindy Anderson Cole\, daughters of Clark Bardole and Walter Anderson\, long time bankers in Rippey.
URL:https://www.rippeynews.com/event/gc-historical-society-meeting/
LOCATION:Rippey United Methodist Church\, 103 Main St.\, Rippey\, IA\, 50235
END:VEVENT
BEGIN:VEVENT
DTSTART;TZID=UTC:20171005T190000
DTEND;TZID=UTC:20171005T203000
DTSTAMP:20260425T151359
CREATED:20170925T171415Z
LAST-MODIFIED:20170925T171415Z
UID:2328-1507230000-1507235400@www.rippeynews.com
SUMMARY:Lions Club Meeting
DESCRIPTION:A potluck meal will be served with the meeting and program to follow.
URL:https://www.rippeynews.com/event/lions-club-meeting-2/
LOCATION:Rippey United Methodist Church\, 103 Main St.\, Rippey\, IA\, 50235
END:VEVENT
BEGIN:VEVENT
DTSTART;TZID=UTC:20171002T190000
DTEND;TZID=UTC:20171002T200000
DTSTAMP:20260425T151359
CREATED:20170913T190333Z
LAST-MODIFIED:20170913T190333Z
UID:2269-1506970800-1506974400@www.rippeynews.com
SUMMARY:City Council Meeting
DESCRIPTION:
URL:https://www.rippeynews.com/event/city-council-meeting-4/
LOCATION:Rippey Community Center\, 224 Main St.\, Rippey\, IA
END:VEVENT
BEGIN:VEVENT
DTSTART;TZID=UTC:20170925T180000
DTEND;TZID=UTC:20170925T190000
DTSTAMP:20260425T151359
CREATED:20170830T165625Z
LAST-MODIFIED:20170830T165625Z
UID:2113-1506362400-1506366000@www.rippeynews.com
SUMMARY:Library Board Meeting
DESCRIPTION:
URL:https://www.rippeynews.com/event/library-board-meeting-3/
LOCATION:Rippey Public Library\, 224 Main St.\, Rippey\, IA
END:VEVENT
BEGIN:VEVENT
DTSTART;TZID=UTC:20170924T193000
DTEND;TZID=UTC:20170924T203000
DTSTAMP:20260425T151359
CREATED:20170918T171720Z
LAST-MODIFIED:20170918T171720Z
UID:2304-1506281400-1506285000@www.rippeynews.com
SUMMARY:Friends of Rippey Meeting
DESCRIPTION:Items to discuss will be possible grants to continue improvements at the baseball field\, election of new officers\, and a Christmas event.
URL:https://www.rippeynews.com/event/friends-of-rippey-meeting/
LOCATION:Rippey Community Center\, 224 Main St.\, Rippey\, IA
END:VEVENT
BEGIN:VEVENT
DTSTART;TZID=UTC:20170907T190000
DTEND;TZID=UTC:20170907T203000
DTSTAMP:20260425T151359
CREATED:20170905T192733Z
LAST-MODIFIED:20170905T192733Z
UID:2185-1504810800-1504816200@www.rippeynews.com
SUMMARY:Lions Club Meeting
DESCRIPTION:
URL:https://www.rippeynews.com/event/lions-club-meeting/
LOCATION:Rippey United Methodist Church\, 103 Main St.\, Rippey\, IA\, 50235
END:VEVENT
BEGIN:VEVENT
DTSTART;TZID=UTC:20170906T140000
DTEND;TZID=UTC:20170906T150000
DTSTAMP:20260425T151359
CREATED:20170831T185130Z
LAST-MODIFIED:20170831T185130Z
UID:2139-1504706400-1504710000@www.rippeynews.com
SUMMARY:Ladies Aid Meeting
DESCRIPTION:
URL:https://www.rippeynews.com/event/ladies-aid-meeting/
LOCATION:Rippey United Methodist Church\, 103 Main St.\, Rippey\, IA\, 50235
END:VEVENT
BEGIN:VEVENT
DTSTART;TZID=UTC:20170905T190000
DTEND;TZID=UTC:20170905T200000
DTSTAMP:20260425T151359
CREATED:20170808T222552Z
LAST-MODIFIED:20170808T222552Z
UID:1988-1504638000-1504641600@www.rippeynews.com
SUMMARY:City Council Meeting
DESCRIPTION:
URL:https://www.rippeynews.com/event/city-council-meeting-3/
LOCATION:Rippey Community Center\, 224 Main St.\, Rippey\, IA
END:VEVENT
BEGIN:VEVENT
DTSTART;TZID=UTC:20170905T183000
DTEND;TZID=UTC:20170905T193000
DTSTAMP:20260425T151359
CREATED:20170814T170014Z
LAST-MODIFIED:20170814T170144Z
UID:2052-1504636200-1504639800@www.rippeynews.com
SUMMARY:Dog Obedience Classes
DESCRIPTION:https://www.facebook.com/events/123369801558995/
URL:https://www.rippeynews.com/event/dog-obedience-classes/
LOCATION:IA
ATTACH;FMTTYPE=image/jpeg:https://www.rippeynews.com/wp-content/uploads/2017/08/dog-class.jpg
END:VEVENT
BEGIN:VEVENT
DTSTART;TZID=UTC:20170828T180000
DTEND;TZID=UTC:20170828T190000
DTSTAMP:20260425T151359
CREATED:20170804T214048Z
LAST-MODIFIED:20170804T214048Z
UID:1955-1503943200-1503946800@www.rippeynews.com
SUMMARY:Library Board Meeting
DESCRIPTION:
URL:https://www.rippeynews.com/event/library-board-meeting-2/
LOCATION:Rippey Public Library\, 224 Main St.\, Rippey\, IA
END:VEVENT
BEGIN:VEVENT
DTSTART;TZID=UTC:20170822T090000
DTEND;TZID=UTC:20170822T100000
DTSTAMP:20260425T151359
CREATED:20170810T195350Z
LAST-MODIFIED:20170810T195350Z
UID:2020-1503392400-1503396000@www.rippeynews.com
SUMMARY:Food Preservation 101
DESCRIPTION:Home canning\, food preservation class to be offered in Perry
URL:https://www.rippeynews.com/event/food-preservation-101/
LOCATION:IA
END:VEVENT
BEGIN:VEVENT
DTSTART;TZID=UTC:20170810T170000
DTEND;TZID=UTC:20170810T200000
DTSTAMP:20260425T151359
CREATED:20170810T174620Z
LAST-MODIFIED:20170810T174620Z
UID:2014-1502384400-1502395200@www.rippeynews.com
SUMMARY:Hot August Night
DESCRIPTION:
URL:https://www.rippeynews.com/event/hot-august-night/
LOCATION:IA
ATTACH;FMTTYPE=image/jpeg:https://www.rippeynews.com/wp-content/uploads/2017/08/Hot-August-Night.jpg
END:VEVENT
BEGIN:VEVENT
DTSTART;TZID=UTC:20170808T120000
DTEND;TZID=UTC:20170808T130000
DTSTAMP:20260425T151359
CREATED:20170804T014920Z
LAST-MODIFIED:20170804T014920Z
UID:1947-1502193600-1502197200@www.rippeynews.com
SUMMARY:Tuesday Talks
DESCRIPTION:
URL:https://www.rippeynews.com/event/tuesday-talks/
LOCATION:IA
ATTACH;FMTTYPE=image/jpeg:https://www.rippeynews.com/wp-content/uploads/2017/08/yoga.jpg
END:VEVENT
BEGIN:VEVENT
DTSTART;TZID=UTC:20170807T180000
DTEND;TZID=UTC:20170807T190000
DTSTAMP:20260425T151359
CREATED:20170718T182808Z
LAST-MODIFIED:20170718T182808Z
UID:1887-1502128800-1502132400@www.rippeynews.com
SUMMARY:City Council Meeting
DESCRIPTION:
URL:https://www.rippeynews.com/event/city-council-meeting-2/
LOCATION:Rippey Community Center\, 224 Main St.\, Rippey\, IA
END:VEVENT
BEGIN:VEVENT
DTSTART;TZID=UTC:20170804T180000
DTEND;TZID=UTC:20170804T220000
DTSTAMP:20260425T151359
CREATED:20170801T164917Z
LAST-MODIFIED:20170801T164917Z
UID:1929-1501869600-1501884000@www.rippeynews.com
SUMMARY:Cruise Car Show
DESCRIPTION:
URL:https://www.rippeynews.com/event/cruise-car-show/
LOCATION:IA
END:VEVENT
BEGIN:VEVENT
DTSTART;TZID=UTC:20170804T120000
DTEND;TZID=UTC:20170804T140000
DTSTAMP:20260425T151359
CREATED:20170628T012859Z
LAST-MODIFIED:20170711T201706Z
UID:1739-1501848000-1501855200@www.rippeynews.com
SUMMARY:Pizza Party
DESCRIPTION:Summer Reading Finale. Pizza party and prizes. Sponsored by Sparky’s in Rippey.
URL:https://www.rippeynews.com/event/pizza-party/
LOCATION:Rippey Public Library\, 224 Main St.\, Rippey\, IA
ATTACH;FMTTYPE=image/png:https://www.rippeynews.com/wp-content/uploads/2017/06/srp-2017x-e1502126347743.png
END:VEVENT
BEGIN:VEVENT
DTSTART;VALUE=DATE:20170804
DTEND;VALUE=DATE:20170806
DTSTAMP:20260425T151359
CREATED:20170727T181934Z
LAST-MODIFIED:20170727T181934Z
UID:1917-1501804800-1501977599@www.rippeynews.com
SUMMARY:Hwy 141 Garage Sale
DESCRIPTION:http://www.141sale.com/
URL:https://www.rippeynews.com/event/hwy-141-garage-sale/
LOCATION:IA
ATTACH;FMTTYPE=image/jpeg:https://www.rippeynews.com/wp-content/uploads/2017/07/hwy.141.sales_.jpg
END:VEVENT
BEGIN:VEVENT
DTSTART;TZID=UTC:20170803T160000
DTEND;TZID=UTC:20170803T190000
DTSTAMP:20260425T151359
CREATED:20170727T195321Z
LAST-MODIFIED:20170727T195950Z
UID:1921-1501776000-1501786800@www.rippeynews.com
SUMMARY:Farmers' Market
DESCRIPTION:
URL:https://www.rippeynews.com/event/farmers-market/
LOCATION:IA
ATTACH;FMTTYPE=image/jpeg:https://www.rippeynews.com/wp-content/uploads/2017/07/farmers.market.jpg
END:VEVENT
BEGIN:VEVENT
DTSTART;TZID=UTC:20170731T180000
DTEND;TZID=UTC:20170731T190000
DTSTAMP:20260425T151359
CREATED:20170718T182851Z
LAST-MODIFIED:20170718T183119Z
UID:1889-1501524000-1501527600@www.rippeynews.com
SUMMARY:Library Board Meeting
DESCRIPTION:
URL:https://www.rippeynews.com/event/library-board-meeting/
LOCATION:Rippey Public Library\, 224 Main St.\, Rippey\, IA
END:VEVENT
BEGIN:VEVENT
DTSTART;TZID=UTC:20170731T120000
DTEND;TZID=UTC:20170731T140000
DTSTAMP:20260425T151359
CREATED:20170628T012445Z
LAST-MODIFIED:20170727T181526Z
UID:1734-1501502400-1501509600@www.rippeynews.com
SUMMARY:DNR Dan
DESCRIPTION:6th day of summer reading program. Dan Towers from Greene County DNR will do a presentation. \n 
URL:https://www.rippeynews.com/event/dnr-dan/
LOCATION:Rippey Public Library\, 224 Main St.\, Rippey\, IA
ATTACH;FMTTYPE=image/png:https://www.rippeynews.com/wp-content/uploads/2017/06/srp-2017x-e1502126347743.png
END:VEVENT
BEGIN:VEVENT
DTSTART;TZID=UTC:20170730T130000
DTEND;TZID=UTC:20170730T150000
DTSTAMP:20260425T151359
CREATED:20170707T233411Z
LAST-MODIFIED:20170707T233421Z
UID:1804-1501419600-1501426800@www.rippeynews.com
SUMMARY:Old Fashioned Threshing Bee
DESCRIPTION:
URL:https://www.rippeynews.com/event/old-fashioned-threshing-bee-2/
LOCATION:IA
ATTACH;FMTTYPE=image/jpeg:https://www.rippeynews.com/wp-content/uploads/2017/07/threshing-bee.jpg
END:VEVENT
BEGIN:VEVENT
DTSTART;TZID=UTC:20170729T100000
DTEND;TZID=UTC:20170729T140000
DTSTAMP:20260425T151359
CREATED:20170707T232858Z
LAST-MODIFIED:20170707T233224Z
UID:1800-1501322400-1501336800@www.rippeynews.com
SUMMARY:Old Fashioned Threshing Bee
DESCRIPTION:
URL:https://www.rippeynews.com/event/old-fashioned-threshing-bee/
LOCATION:IA
ATTACH;FMTTYPE=image/jpeg:https://www.rippeynews.com/wp-content/uploads/2017/07/threshing-bee.jpg
END:VEVENT
BEGIN:VEVENT
DTSTART;TZID=UTC:20170728T120000
DTEND;TZID=UTC:20170728T140000
DTSTAMP:20260425T151359
CREATED:20170709T191537Z
LAST-MODIFIED:20170711T201750Z
UID:1814-1501243200-1501250400@www.rippeynews.com
SUMMARY:Lunch and Buzz
DESCRIPTION:5th day of summer reading program. A beekeeper from Bee Mindful will do a presentation. Lunch will be served.
URL:https://www.rippeynews.com/event/srp-lunch-and-buzz/
LOCATION:Rippey Public Library\, 224 Main St.\, Rippey\, IA
ATTACH;FMTTYPE=image/png:https://www.rippeynews.com/wp-content/uploads/2017/06/srp-2017x-e1502126347743.png
END:VEVENT
BEGIN:VEVENT
DTSTART;TZID=UTC:20170724T120000
DTEND;TZID=UTC:20170724T140000
DTSTAMP:20260425T151359
CREATED:20170628T011849Z
LAST-MODIFIED:20170711T201811Z
UID:1731-1500897600-1500904800@www.rippeynews.com
SUMMARY:Green Thumb
DESCRIPTION:4th day of summer reading program. we will pllant succulent plants in a book!
URL:https://www.rippeynews.com/event/green-thumb/
LOCATION:Rippey Public Library\, 224 Main St.\, Rippey\, IA
ATTACH;FMTTYPE=image/png:https://www.rippeynews.com/wp-content/uploads/2017/06/srp-2017x-e1502126347743.png
END:VEVENT
BEGIN:VEVENT
DTSTART;TZID=UTC:20170721T120000
DTEND;TZID=UTC:20170721T140000
DTSTAMP:20260425T151359
CREATED:20170709T190927Z
LAST-MODIFIED:20170718T162459Z
UID:1811-1500638400-1500645600@www.rippeynews.com
SUMMARY:Recycling Project
DESCRIPTION:3rd day of summer reading program. We will make a pencil holder out of a tin can.
URL:https://www.rippeynews.com/event/srp-recycling/
LOCATION:Rippey Public Library\, 224 Main St.\, Rippey\, IA
ATTACH;FMTTYPE=image/png:https://www.rippeynews.com/wp-content/uploads/2017/06/srp-2017x-e1502126347743.png
END:VEVENT
BEGIN:VEVENT
DTSTART;TZID=UTC:20170717T120000
DTEND;TZID=UTC:20170717T140000
DTSTAMP:20260425T151359
CREATED:20170709T190734Z
LAST-MODIFIED:20170711T201907Z
UID:1809-1500292800-1500300000@www.rippeynews.com
SUMMARY:Cities
DESCRIPTION:2nd day of summer reading program. We will be building a community with cardboard boxes.
URL:https://www.rippeynews.com/event/cities/
LOCATION:Rippey Public Library\, 224 Main St.\, Rippey\, IA
ATTACH;FMTTYPE=image/png:https://www.rippeynews.com/wp-content/uploads/2017/06/srp-2017x-e1502126347743.png
END:VEVENT
BEGIN:VEVENT
DTSTART;TZID=UTC:20170714T120000
DTEND;TZID=UTC:20170714T140000
DTSTAMP:20260425T151359
CREATED:20170709T190540Z
LAST-MODIFIED:20170711T201929Z
UID:1807-1500033600-1500040800@www.rippeynews.com
SUMMARY:Kick-Off Party!
DESCRIPTION:1st day of summer reading program. We will play Giant Jenga!
URL:https://www.rippeynews.com/event/srp-kick-off-party/
LOCATION:Rippey Public Library\, 224 Main St.\, Rippey\, IA
ATTACH;FMTTYPE=image/png:https://www.rippeynews.com/wp-content/uploads/2017/06/srp-2017x-e1502126347743.png
END:VEVENT
BEGIN:VEVENT
DTSTART;TZID=UTC:20170708T120000
DTEND;TZID=UTC:20170708T130000
DTSTAMP:20260425T151359
CREATED:20170605T182305Z
LAST-MODIFIED:20170619T194539Z
UID:1457-1499515200-1499518800@www.rippeynews.com
SUMMARY:Community Picnic
DESCRIPTION:Free \nGather for food\, conversation\, hot dogs\, chips\, cookies and beverages. \nat Osborn Park\, 2 blocks\, south of Main St. (South of Brubaker’s and People’s Bank)
URL:https://www.rippeynews.com/event/community-picnic/
LOCATION:IA
ATTACH;FMTTYPE=image/jpeg:https://www.rippeynews.com/wp-content/uploads/2017/06/comm-picnic-e1497807800111.jpg
END:VEVENT
END:VCALENDAR