BEGIN:VCALENDAR
VERSION:2.0
PRODID:-//Rippey News - ECPv6.13.2.1//NONSGML v1.0//EN
CALSCALE:GREGORIAN
METHOD:PUBLISH
X-WR-CALNAME:Rippey News
X-ORIGINAL-URL:https://www.rippeynews.com
X-WR-CALDESC:Events for Rippey News
REFRESH-INTERVAL;VALUE=DURATION:PT1H
X-Robots-Tag:noindex
X-PUBLISHED-TTL:PT1H
BEGIN:VTIMEZONE
TZID:UTC
BEGIN:STANDARD
TZOFFSETFROM:+0000
TZOFFSETTO:+0000
TZNAME:UTC
DTSTART:20170101T000000
END:STANDARD
END:VTIMEZONE
BEGIN:VEVENT
DTSTART;TZID=UTC:20170519T210000
DTEND;TZID=UTC:20170519T220000
DTSTAMP:20260425T133435
CREATED:20170511T194830Z
LAST-MODIFIED:20170516T232444Z
UID:1292-1495227600-1495231200@www.rippeynews.com
SUMMARY:We Remember
DESCRIPTION:Rippey Fire Department will be participating in this event. Rippey Community\, please feel free to come a little early to meet and chat with the available firefighters\, light a candle with us or just stand in silence for the one minute in front of our station. The lighting of the truck lights and /or candles will take place Friday May 19th at 9pm on the dot. Thank you so much for your support.
URL:https://www.rippeynews.com/event/we-remeber/
LOCATION:IA
END:VEVENT
BEGIN:VEVENT
DTSTART;TZID=UTC:20170516T170000
DTEND;TZID=UTC:20170516T183000
DTSTAMP:20260425T133435
CREATED:20170510T161112Z
LAST-MODIFIED:20170510T200827Z
UID:1287-1494954000-1494959400@www.rippeynews.com
SUMMARY:David Fisher - Roper Warrior
DESCRIPTION:
URL:https://www.rippeynews.com/event/david-fisher-roper-warrior/
LOCATION:IA
END:VEVENT
BEGIN:VEVENT
DTSTART;TZID=UTC:20170510T153000
DTEND;TZID=UTC:20170510T163000
DTSTAMP:20260425T133435
CREATED:20170430T203704Z
LAST-MODIFIED:20170430T211650Z
UID:1256-1494430200-1494433800@www.rippeynews.com
SUMMARY:Make A Mother's Day Card @ the Library!
DESCRIPTION:
URL:https://www.rippeynews.com/event/mothers-day-card/
LOCATION:Rippey Public Library\, 224 Main St.\, Rippey\, IA
ATTACH;FMTTYPE=image/jpeg:https://www.rippeynews.com/wp-content/uploads/2017/04/mom.jpg
END:VEVENT
BEGIN:VEVENT
DTSTART;TZID=UTC:20170504T093000
DTEND;TZID=UTC:20170504T110000
DTSTAMP:20260425T133435
CREATED:20170430T210648Z
LAST-MODIFIED:20170501T155731Z
UID:1261-1493890200-1493895600@www.rippeynews.com
SUMMARY:Rippey Ladies Aid Guest Day
DESCRIPTION:The theme for the day will be “Prayer”\nCall Joe Bardole to RSVP at 436-7665
URL:https://www.rippeynews.com/event/rippey-ladies-aid-guest-day/
LOCATION:Rippey United Methodist Church\, 103 Main St.\, Rippey\, IA\, 50235
END:VEVENT
BEGIN:VEVENT
DTSTART;TZID=UTC:20170420T140000
DTEND;TZID=UTC:20170420T153000
DTSTAMP:20260425T133435
CREATED:20170415T185501Z
LAST-MODIFIED:20170430T210946Z
UID:1182-1492696800-1492702200@www.rippeynews.com
SUMMARY:Greene County Reads
DESCRIPTION:
URL:https://www.rippeynews.com/event/greene-county-reads/
LOCATION:Rippey Public Library\, 224 Main St.\, Rippey\, IA
END:VEVENT
END:VCALENDAR