BEGIN:VCALENDAR
VERSION:2.0
PRODID:-//Rippey News - ECPv6.13.2.1//NONSGML v1.0//EN
CALSCALE:GREGORIAN
METHOD:PUBLISH
X-ORIGINAL-URL:https://www.rippeynews.com
X-WR-CALDESC:Events for Rippey News
REFRESH-INTERVAL;VALUE=DURATION:PT1H
X-Robots-Tag:noindex
X-PUBLISHED-TTL:PT1H
BEGIN:VTIMEZONE
TZID:UTC
BEGIN:STANDARD
TZOFFSETFROM:+0000
TZOFFSETTO:+0000
TZNAME:UTC
DTSTART:20230101T000000
END:STANDARD
END:VTIMEZONE
BEGIN:VEVENT
DTSTART;TZID=UTC:20231019T180000
DTEND;TZID=UTC:20231019T200000
DTSTAMP:20260423T233811
CREATED:20231004T175941Z
LAST-MODIFIED:20231005T164923Z
UID:8495-1697738400-1697745600@www.rippeynews.com
SUMMARY:Lions Club Meeting
DESCRIPTION:Meal starts at 6pm. Programs starts at 7pm. Chris Henning on water quality and testing in the Raccoon River.
URL:https://www.rippeynews.com/event/lions-club-meeting-55/
LOCATION:Rippey United Methodist Church\, 103 Main St.\, Rippey\, IA\, 50235
END:VEVENT
BEGIN:VEVENT
DTSTART;TZID=UTC:20231006T120000
DTEND;TZID=UTC:20231006T133000
DTSTAMP:20260423T233811
CREATED:20231004T175218Z
LAST-MODIFIED:20231004T175219Z
UID:8491-1696593600-1696599000@www.rippeynews.com
SUMMARY:GC Historical Society - The Town Of Angus
DESCRIPTION:The Town Of Angus program by Nancy Hanaman\, Lunch is at noon and costs $10. Free program at 12:45.
URL:https://www.rippeynews.com/event/gc-historical-society-the-town-of-angus/
LOCATION:Rippey United Methodist Church\, 103 Main St.\, Rippey\, IA\, 50235
END:VEVENT
BEGIN:VEVENT
DTSTART;TZID=UTC:20231005T180000
DTEND;TZID=UTC:20231005T200000
DTSTAMP:20260423T233811
CREATED:20231004T175750Z
LAST-MODIFIED:20231004T175751Z
UID:8493-1696528800-1696536000@www.rippeynews.com
SUMMARY:Lions Club Meeting
DESCRIPTION:Potluck starts at 6pm. The public is invited to the program at 7 p.m. with representatives from PAWS sharing about the new Greene County Animal Shelter. Those attending are invited to bring Dry dog and cat treats\, toys for dog and cats\, dish soap or Clorox cleaning wipes for the shelter.
URL:https://www.rippeynews.com/event/lions-club-meeting-54/
LOCATION:Rippey United Methodist Church\, 103 Main St.\, Rippey\, IA\, 50235
END:VEVENT
BEGIN:VEVENT
DTSTART;TZID=UTC:20231005T000000
DTEND;TZID=UTC:20231005T235959
DTSTAMP:20260423T233811
CREATED:20231004T174734Z
LAST-MODIFIED:20231004T174735Z
UID:8489-1696464000-1696550399@www.rippeynews.com
SUMMARY:Ladies Aid Meeting
DESCRIPTION:
URL:https://www.rippeynews.com/event/ladies-aid-meeting-18/
LOCATION:Rippey United Methodist Church\, 103 Main St.\, Rippey\, IA\, 50235
END:VEVENT
BEGIN:VEVENT
DTSTART;TZID=UTC:20231001T160000
DTEND;TZID=UTC:20231001T170000
DTSTAMP:20260423T233811
CREATED:20230928T183602Z
LAST-MODIFIED:20230928T183703Z
UID:8486-1696176000-1696179600@www.rippeynews.com
SUMMARY:Pickleball Court Official Opening
DESCRIPTION:The Rippey pickleball court will be officially opened. \n\n\n\nRoger and Coleen Thompson Norgren will be recognized and thanked for the two benches adjacent to the court. The benches were donated to honor their parents\, Hugo and Lucille Norgren\, and Darwin and Helen Thompson. \n\n\n\nKaren Shannon\, chair of the Greene County Community Foundation\, will be present and will be acknowledged for the many projects funded by GCCF in Rippey. \n\n\n\nThe game is a combination of tennis\, bad mitten\, and table tennis. It has its own language of kitchen\, dink\, falafel\, lob\, overhead smash\, paddles\, etc. An overview of the game of pickleball will be given by Jan Bojikes of Jefferson. She will be assisted in a demonstration game by others from the community. \n\n\n\nLocal contractors\, Jontz painting of Woodward\, Juavier Construction\, and Stokley Lumber of Perry have all contributed to this project. The City of Rippey approved the refurbishing of the former concrete Rippey skating rink\, and the grant for partial funding along with the Friends of Rippey allowed this project to be completed. \n\n\n\nCome learn about pickleball in Rippey on Sunday afternoon.
URL:https://www.rippeynews.com/event/pickleball-court-official-opening/
LOCATION:IA
END:VEVENT
BEGIN:VEVENT
DTSTART;TZID=UTC:20230907T180000
DTEND;TZID=UTC:20230907T200000
DTSTAMP:20260423T233811
CREATED:20230903T193241Z
LAST-MODIFIED:20230906T191405Z
UID:8443-1694109600-1694116800@www.rippeynews.com
SUMMARY:Lions Club Meeting
DESCRIPTION:The Rippey Lions Club will gather for a potluck meal. Following a short business meeting\, the public is invited to share in the Katherine Parker presentation \, a missionary from Nepal. at 7 p.m. Katherine  serves with the United Ministry of Nepal. Katharine will share a power point about her work with  areas of community transformation: education\, health and sustainable livelihood. There will also be time for questions to learn more about Katherine’s work.
URL:https://www.rippeynews.com/event/lions-club-meeting-53/
LOCATION:Rippey United Methodist Church\, 103 Main St.\, Rippey\, IA\, 50235
ATTACH;FMTTYPE=image/jpeg:https://www.rippeynews.com/wp-content/uploads/2018/10/lions-e1539035287905.jpg
END:VEVENT
BEGIN:VEVENT
DTSTART;TZID=UTC:20230827T094500
DTEND;TZID=UTC:20230827T143000
DTSTAMP:20260423T233811
CREATED:20230623T184548Z
LAST-MODIFIED:20230803T195505Z
UID:8298-1693129500-1693146600@www.rippeynews.com
SUMMARY:United Methodist Church Sesquicentennial
DESCRIPTION:Schedule: \n\n\n\n9:45 Adult Sunday school11:00 Church service12:00 Free catered lunch served in Fellowhship Hall1:30 Program in the sanctuary \n\n\n\nPlease RSVP to Phyllis at 515-480-1711 if you will be attending the lunch.
URL:https://www.rippeynews.com/event/united-methodist-church-sesquicentennial/
LOCATION:Rippey United Methodist Church\, 103 Main St.\, Rippey\, IA\, 50235
END:VEVENT
BEGIN:VEVENT
DTSTART;TZID=UTC:20230816T190000
DTEND;TZID=UTC:20230816T200000
DTSTAMP:20260423T233811
CREATED:20230803T171247Z
LAST-MODIFIED:20230803T171250Z
UID:8428-1692212400-1692216000@www.rippeynews.com
SUMMARY:UMC Reunion Choir Rehearsals
DESCRIPTION:The Rippey UMC Sesquicentennial plans for Sunday\, August 27 are being finalized.We hope to put together a reunion choir for the Sesquicentennial on Sunday\, August 27. Rehearsals will be August 16 and 23 at 7:00 at the church. Anyone who likes to sing is welcome to join us.
URL:https://www.rippeynews.com/event/umc-reunion-choir-rehearsals/
LOCATION:Rippey United Methodist Church\, 103 Main St.\, Rippey\, IA\, 50235
END:VEVENT
BEGIN:VEVENT
DTSTART;TZID=UTC:20230813T190000
DTEND;TZID=UTC:20230813T200000
DTSTAMP:20260423T233811
CREATED:20230726T180138Z
LAST-MODIFIED:20230726T180140Z
UID:8408-1691953200-1691956800@www.rippeynews.com
SUMMARY:Post Rippey RAGBRAI L Meeting
DESCRIPTION:
URL:https://www.rippeynews.com/event/post-rippey-ragbrai-l-meeting/
LOCATION:Rippey Community Center\, 224 Main St.\, Rippey\, IA
END:VEVENT
BEGIN:VEVENT
DTSTART;TZID=UTC:20230807T190000
DTEND;TZID=UTC:20230807T200000
DTSTAMP:20260423T233811
CREATED:20230726T180319Z
LAST-MODIFIED:20230726T180346Z
UID:8410-1691434800-1691438400@www.rippeynews.com
SUMMARY:City Council Meeting
DESCRIPTION:
URL:https://www.rippeynews.com/event/8410/
LOCATION:Rippey Community Center\, 224 Main St.\, Rippey\, IA
END:VEVENT
BEGIN:VEVENT
DTSTART;TZID=UTC:20230725T000000
DTEND;TZID=UTC:20230725T235959
DTSTAMP:20260423T233811
CREATED:20230327T203039Z
LAST-MODIFIED:20230714T010808Z
UID:8026-1690243200-1690329599@www.rippeynews.com
SUMMARY:Rippey RAGBRAI L
DESCRIPTION:Rippey RAGBRAI L Meeting Minutes – June 7\n\n\n\n\n\n\n\n\n\nRippey RAGBRAI L Meeting Minutes – May 31\n\n\n\n\n\n\n\n\n\nRippey RAGBRAI L Meeting Minutes – May 17\n\n\n\n\n\n\n\n\n\nRippey RAGBRAI L Meeting Minutes – April\n\n\n\n\n\n\n\n\nFor more information\, contact the Mayor of Rippey\, Dan Brubaker
URL:https://www.rippeynews.com/event/ragbrai-meeting-town/
LOCATION:IA
ATTACH;FMTTYPE=image/jpeg:https://www.rippeynews.com/wp-content/uploads/2023/06/mural-scaled.jpg
END:VEVENT
BEGIN:VEVENT
DTSTART;TZID=UTC:20230721T190000
DTEND;TZID=UTC:20230721T200000
DTSTAMP:20260423T233811
CREATED:20230718T200217Z
LAST-MODIFIED:20230718T200411Z
UID:8362-1689966000-1689969600@www.rippeynews.com
SUMMARY:Rippey RAGBRAI L Meeting
DESCRIPTION:Rippey RAGBRAI L Agenda – July 21\, 2023Download
URL:https://www.rippeynews.com/event/rippey-ragbrai-l-meeting/
LOCATION:Rippey Community Center\, 224 Main St.\, Rippey\, IA
END:VEVENT
BEGIN:VEVENT
DTSTART;TZID=UTC:20230707T190000
DTEND;TZID=UTC:20230707T200000
DTSTAMP:20260423T233811
CREATED:20230623T182511Z
LAST-MODIFIED:20230623T190251Z
UID:8296-1688756400-1688760000@www.rippeynews.com
SUMMARY:Rippey RAGBRAI L Meeting
DESCRIPTION:
URL:https://www.rippeynews.com/event/rippey-ragbrai-meeting-2/
LOCATION:Rippey Community Center\, 224 Main St.\, Rippey\, IA
END:VEVENT
BEGIN:VEVENT
DTSTART;TZID=UTC:20230607T190000
DTEND;TZID=UTC:20230607T200000
DTSTAMP:20260423T233811
CREATED:20230605T163733Z
LAST-MODIFIED:20230605T163734Z
UID:8220-1686164400-1686168000@www.rippeynews.com
SUMMARY:Rippey RAGBRAI Meeting
DESCRIPTION:
URL:https://www.rippeynews.com/event/rippey-ragbrai-meeting/
LOCATION:Rippey Community Center\, 224 Main St.\, Rippey\, IA
END:VEVENT
BEGIN:VEVENT
DTSTART;TZID=UTC:20230605T190000
DTEND;TZID=UTC:20230605T200000
DTSTAMP:20260423T233811
CREATED:20230517T193432Z
LAST-MODIFIED:20230517T193434Z
UID:8176-1685991600-1685995200@www.rippeynews.com
SUMMARY:City Council Meeting
DESCRIPTION:
URL:https://www.rippeynews.com/event/city-council-meeting-70/
LOCATION:Rippey Community Center\, 224 Main St.\, Rippey\, IA
END:VEVENT
BEGIN:VEVENT
DTSTART;TZID=UTC:20230531T190000
DTEND;TZID=UTC:20230531T200000
DTSTAMP:20260423T233811
CREATED:20230517T193258Z
LAST-MODIFIED:20230525T163921Z
UID:8173-1685559600-1685563200@www.rippeynews.com
SUMMARY:Friends Of Rippey & Rippey RAGBRAI Meeting
DESCRIPTION:Items for the meeting discussion will include \n\n\n\nFOR- Move account  to Rolling Hills Bank \n\n\n\nRAGBRAI \n\n\n\nVendors \n\n\n\nJune 6 feeding of pre-RAGBRAI riders \n\n\n\nVolunteer assigned duties. \n\n\n\nOther
URL:https://www.rippeynews.com/event/friends-of-rippey-rippey-ragbrai-meeting/
LOCATION:Rippey Community Center\, 224 Main St.\, Rippey\, IA
END:VEVENT
BEGIN:VEVENT
DTSTART;TZID=UTC:20230527T000000
DTEND;TZID=UTC:20230527T140000
DTSTAMP:20260423T233811
CREATED:20230518T152358Z
LAST-MODIFIED:20230518T152359Z
UID:8181-1685145600-1685196000@www.rippeynews.com
SUMMARY:Rippey Alumni Meeting
DESCRIPTION:Rippey Alumni and Friends of the Rippey School\,Once again we are happy to announce this year’s invitation to the Rippey Alumni Meeting.The meal will be served at 12 noon by the Rippey Methodist Church kitchen crew. The meal is always delicious and will cost $12.00. Please pay at the door rather than sending money in advance. Reservations are necessary and should be made as early as possible.  Mary Ann Young Miller graciously volunteered (again) to take the reservations by phone (515) 465-2449.  There is an answering machine in case she is not home.  Her email is ptmilleria@q.com
URL:https://www.rippeynews.com/event/rippey-alumni-meeting/
LOCATION:Rippey United Methodist Church\, 103 Main St.\, Rippey\, IA\, 50235
END:VEVENT
BEGIN:VEVENT
DTSTART;TZID=UTC:20230518T180000
DTEND;TZID=UTC:20230518T190000
DTSTAMP:20260423T233811
CREATED:20230518T151957Z
LAST-MODIFIED:20230518T151958Z
UID:8178-1684432800-1684436400@www.rippeynews.com
SUMMARY:Lions Club Meeting
DESCRIPTION:A meal will be served. Business will include further RAGBRAI planning. The program will be a representative from Camp Hertko Hollow near Boone. This is a camp sponsored by Iowa Lions Clubs for young people with diabetes. Myron and Maralynn Rinker’s daughter\, Marilee\, attended the camp for many years and also volunteered as a counselor.
URL:https://www.rippeynews.com/event/lions-club-meeting-52/
LOCATION:Rippey United Methodist Church\, 103 Main St.\, Rippey\, IA\, 50235
END:VEVENT
BEGIN:VEVENT
DTSTART;TZID=UTC:20230511T000000
DTEND;TZID=UTC:20230512T235959
DTSTAMP:20260423T233811
CREATED:20230427T184154Z
LAST-MODIFIED:20230427T185330Z
UID:8099-1683763200-1683935999@www.rippeynews.com
SUMMARY:Petting Zoo At The Library
DESCRIPTION:
URL:https://www.rippeynews.com/event/petting-zoo-at-the-library/
LOCATION:Rippey Public Library\, 224 Main St.\, Rippey\, IA
END:VEVENT
BEGIN:VEVENT
DTSTART;TZID=UTC:20230504T180000
DTEND;TZID=UTC:20230504T200000
DTSTAMP:20260423T233811
CREATED:20230503T160206Z
LAST-MODIFIED:20230503T160249Z
UID:8142-1683223200-1683230400@www.rippeynews.com
SUMMARY:Lions Club Meeting
DESCRIPTION:A potluck meal with a business meeting to follow and the program at 7 p.m.  Mary Tighe\, SMP volunteer counselor will share about free service available relating to Medicare\, frauds\, scams\, preventative benefit\, financial assistance and other resources. The public is invited to the program.  If you are interested in coming to the meal\, contact Nancy Hanaman at 515-210-9354.
URL:https://www.rippeynews.com/event/lions-club-meeting-51/
LOCATION:Rippey United Methodist Church\, 103 Main St.\, Rippey\, IA\, 50235
END:VEVENT
BEGIN:VEVENT
DTSTART;TZID=UTC:20230501T190000
DTEND;TZID=UTC:20230501T200000
DTSTAMP:20260423T233811
CREATED:20230427T184456Z
LAST-MODIFIED:20230427T184458Z
UID:8104-1682967600-1682971200@www.rippeynews.com
SUMMARY:City Council Meeting
DESCRIPTION:
URL:https://www.rippeynews.com/event/city-council-meeting-69/
LOCATION:Rippey Community Center\, 224 Main St.\, Rippey\, IA
END:VEVENT
BEGIN:VEVENT
DTSTART;TZID=UTC:20230423T130000
DTEND;TZID=UTC:20230423T150000
DTSTAMP:20260423T233811
CREATED:20230418T153641Z
LAST-MODIFIED:20230418T153643Z
UID:8084-1682254800-1682262000@www.rippeynews.com
SUMMARY:Apple Valley A's vs Urbandale Blues
DESCRIPTION:
URL:https://www.rippeynews.com/event/apple-valley-as-vs-urbandale-blues/
LOCATION:Walt Anderson Field\, Rippey\, IA
END:VEVENT
BEGIN:VEVENT
DTSTART;TZID=UTC:20230422T150000
DTEND;TZID=UTC:20230422T180000
DTSTAMP:20260423T233811
CREATED:20230418T153424Z
LAST-MODIFIED:20230418T153425Z
UID:8082-1682175600-1682186400@www.rippeynews.com
SUMMARY:Apple Valley A's vs Des Moines Demons
DESCRIPTION:The Apple Valley A’s from the Minnesota Federal League will make a road trip to Rippey to play the Des Moines Demons of the MIBL for a doubleheader. \n\n\n\nCome on out and watch the first action of the season in Rippey. \n\n\n\nNo admission fee for these games or the Rippey Ruckus. \n\n\n\n-Rippey Ballpark Commission
URL:https://www.rippeynews.com/event/apple-valley-as-vs-des-moines-demons/
LOCATION:Walt Anderson Field\, Rippey\, IA
END:VEVENT
BEGIN:VEVENT
DTSTART;TZID=UTC:20230422T100000
DTEND;TZID=UTC:20230422T120000
DTSTAMP:20260423T233811
CREATED:20230412T164250Z
LAST-MODIFIED:20230412T164251Z
UID:8065-1682157600-1682164800@www.rippeynews.com
SUMMARY:Toddler Fest
DESCRIPTION:
URL:https://www.rippeynews.com/event/toddler-fest/
LOCATION:IA
END:VEVENT
BEGIN:VEVENT
DTSTART;TZID=UTC:20230413T183000
DTEND;TZID=UTC:20230413T193000
DTSTAMP:20260423T233811
CREATED:20230405T144145Z
LAST-MODIFIED:20230405T144146Z
UID:8056-1681410600-1681414200@www.rippeynews.com
SUMMARY:Lions Club Meeting
DESCRIPTION:Soup will be provided as the main course for the potluck meal.
URL:https://www.rippeynews.com/event/lions-club-meeting-50/
LOCATION:Rippey United Methodist Church\, 103 Main St.\, Rippey\, IA\, 50235
END:VEVENT
BEGIN:VEVENT
DTSTART;TZID=UTC:20230408T120000
DTEND;TZID=UTC:20230408T123000
DTSTAMP:20260423T233811
CREATED:20230306T183554Z
LAST-MODIFIED:20230306T183555Z
UID:7987-1680955200-1680957000@www.rippeynews.com
SUMMARY:Meat Bundle Raffle
DESCRIPTION:
URL:https://www.rippeynews.com/event/meat-bundle-raffle/
LOCATION:Rippey Community Center\, 224 Main St.\, Rippey\, IA
END:VEVENT
BEGIN:VEVENT
DTSTART;TZID=UTC:20230408T100000
DTEND;TZID=UTC:20230408T123000
DTSTAMP:20260423T233811
CREATED:20221208T154014Z
LAST-MODIFIED:20230202T191527Z
UID:7763-1680948000-1680957000@www.rippeynews.com
SUMMARY:Easter Egg Hunt
DESCRIPTION:
URL:https://www.rippeynews.com/event/easter-egg-hunt/
LOCATION:Rippey Public Library\, 224 Main St.\, Rippey\, IA
END:VEVENT
BEGIN:VEVENT
DTSTART;TZID=UTC:20230404T110000
DTEND;TZID=UTC:20230404T120000
DTSTAMP:20260423T233811
CREATED:20230328T141248Z
LAST-MODIFIED:20230328T141551Z
UID:8030-1680606000-1680609600@www.rippeynews.com
SUMMARY:Tuesday Soup
DESCRIPTION:Soup served the first Tuesday of each month.
URL:https://www.rippeynews.com/event/tuesday-soup/
LOCATION:Rippey United Methodist Church\, 103 Main St.\, Rippey\, IA\, 50235
END:VEVENT
BEGIN:VEVENT
DTSTART;TZID=UTC:20230403T190000
DTEND;TZID=UTC:20230403T200000
DTSTAMP:20260423T233811
CREATED:20230310T174124Z
LAST-MODIFIED:20230310T174125Z
UID:7996-1680548400-1680552000@www.rippeynews.com
SUMMARY:City Council Meeting
DESCRIPTION:
URL:https://www.rippeynews.com/event/city-council-meeting-68/
LOCATION:Rippey Community Center\, 224 Main St.\, Rippey\, IA
END:VEVENT
BEGIN:VEVENT
DTSTART;TZID=UTC:20230402T190000
DTEND;TZID=UTC:20230402T200000
DTSTAMP:20260423T233811
CREATED:20230327T202431Z
LAST-MODIFIED:20230328T144535Z
UID:8024-1680462000-1680465600@www.rippeynews.com
SUMMARY:Friends Of Rippey Meeting
DESCRIPTION:April-2023-FOR-AgendaDownload
URL:https://www.rippeynews.com/event/friends-of-rippey-meeting-9/
LOCATION:Rippey Community Center\, 224 Main St.\, Rippey\, IA
END:VEVENT
END:VCALENDAR