BEGIN:VCALENDAR
VERSION:2.0
PRODID:-//Rippey News - ECPv6.13.2.1//NONSGML v1.0//EN
CALSCALE:GREGORIAN
METHOD:PUBLISH
X-WR-CALNAME:Rippey News
X-ORIGINAL-URL:https://www.rippeynews.com
X-WR-CALDESC:Events for Rippey News
REFRESH-INTERVAL;VALUE=DURATION:PT1H
X-Robots-Tag:noindex
X-PUBLISHED-TTL:PT1H
BEGIN:VTIMEZONE
TZID:UTC
BEGIN:STANDARD
TZOFFSETFROM:+0000
TZOFFSETTO:+0000
TZNAME:UTC
DTSTART:20210101T000000
END:STANDARD
END:VTIMEZONE
BEGIN:VEVENT
DTSTART;TZID=UTC:20220307T190000
DTEND;TZID=UTC:20220307T200000
DTSTAMP:20260425T145301
CREATED:20220211T161542Z
LAST-MODIFIED:20220211T161542Z
UID:7080-1646679600-1646683200@www.rippeynews.com
SUMMARY:City Council Meeting
DESCRIPTION:
URL:https://www.rippeynews.com/event/city-council-meeting-57/
LOCATION:Rippey Community Center\, 224 Main St.\, Rippey\, IA
END:VEVENT
BEGIN:VEVENT
DTSTART;TZID=UTC:20220303T180000
DTEND;TZID=UTC:20220303T193000
DTSTAMP:20260425T145301
CREATED:20220221T180524Z
LAST-MODIFIED:20220302T202605Z
UID:7097-1646330400-1646335800@www.rippeynews.com
SUMMARY:Lions Club Meeting
DESCRIPTION:Meeting will begin with a potluck. Dale Hanaman will bring corn chowder for the main dish.  Greg Jacobs is in charge of the program. \nGuest are always welcome\, If you are interested\, call Nancy Hanaman\, Secretary\, at 436-7684.
URL:https://www.rippeynews.com/event/lions-club-meeting-41/
LOCATION:Rippey United Methodist Church\, 103 Main St.\, Rippey\, IA\, 50235
END:VEVENT
BEGIN:VEVENT
DTSTART;TZID=UTC:20220222T190000
DTEND;TZID=UTC:20220222T200000
DTSTAMP:20260425T145301
CREATED:20220127T192908Z
LAST-MODIFIED:20220127T192908Z
UID:7054-1645556400-1645560000@www.rippeynews.com
SUMMARY:Library Board Meeting
DESCRIPTION:
URL:https://www.rippeynews.com/event/library-board-meeting-49/
LOCATION:Rippey Public Library\, 224 Main St.\, Rippey\, IA
END:VEVENT
BEGIN:VEVENT
DTSTART;TZID=UTC:20220207T190000
DTEND;TZID=UTC:20220207T200000
DTSTAMP:20260425T145301
CREATED:20220104T164748Z
LAST-MODIFIED:20220104T164748Z
UID:6980-1644260400-1644264000@www.rippeynews.com
SUMMARY:City Council Meeting
DESCRIPTION:
URL:https://www.rippeynews.com/event/city-council-meeting-56/
LOCATION:Rippey Community Center\, 224 Main St.\, Rippey\, IA
END:VEVENT
BEGIN:VEVENT
DTSTART;TZID=UTC:20220205T093000
DTEND;TZID=UTC:20220205T180000
DTSTAMP:20260425T145301
CREATED:20211203T162718Z
LAST-MODIFIED:20211203T163015Z
UID:6920-1644053400-1644084000@www.rippeynews.com
SUMMARY:PBR Half Marathon
DESCRIPTION:A marathon from Perry to Berkley to Rippey. \nhttps://www.facebook.com/PBRhalfmarathon/ \nhttps://pbrhalfmarathon.com \nhttps://facebook.com/events/s/pbr-half-marathon-part-iv/4454055204631042/
URL:https://www.rippeynews.com/event/pbr-half-marathon/
LOCATION:IA
END:VEVENT
BEGIN:VEVENT
DTSTART;VALUE=DATE:20220205
DTEND;VALUE=DATE:20220206
DTSTAMP:20260425T145301
CREATED:20211012T151706Z
LAST-MODIFIED:20211012T151719Z
UID:6858-1644019200-1644105599@www.rippeynews.com
SUMMARY:BRR Ride
DESCRIPTION:https://www.eventbrite.com/e/2022-brr-perrys-bike-ride-to-rippey-registration-160037114317 \nhttps://www.facebook.com/BikeRidetoRippey/
URL:https://www.rippeynews.com/event/brr-ride-5/
LOCATION:IA
END:VEVENT
BEGIN:VEVENT
DTSTART;TZID=UTC:20220203T180000
DTEND;TZID=UTC:20220203T190000
DTSTAMP:20260425T145301
CREATED:20220201T163807Z
LAST-MODIFIED:20220201T163807Z
UID:7063-1643911200-1643914800@www.rippeynews.com
SUMMARY:Lions Club Meeting
DESCRIPTION:A potluck meal. During the program time\, food will be prepared to serve on Feb. 5\, when the BRR riders come to town. Area residents are welcome also. Members and other volunteers will be helping with the preparation\, set up and serving. The next meeting is Feb. 16 at the Church \n-Nancy Hanaman
URL:https://www.rippeynews.com/event/lions-club-meeting-40/
LOCATION:Rippey United Methodist Church\, 103 Main St.\, Rippey\, IA\, 50235
END:VEVENT
BEGIN:VEVENT
DTSTART;VALUE=DATE:20220203
DTEND;VALUE=DATE:20220204
DTSTAMP:20260425T145301
CREATED:20220201T163539Z
LAST-MODIFIED:20220201T163539Z
UID:7060-1643846400-1643932799@www.rippeynews.com
SUMMARY:Story\, Craft\, And Snack
DESCRIPTION:Hop off the bus and come on in the library for a story\, craft\, and snack!
URL:https://www.rippeynews.com/event/story-craft-and-snack/
LOCATION:Rippey Public Library\, 224 Main St.\, Rippey\, IA
END:VEVENT
BEGIN:VEVENT
DTSTART;TZID=UTC:20220125T190000
DTEND;TZID=UTC:20220125T200000
DTSTAMP:20260425T145301
CREATED:20220104T164707Z
LAST-MODIFIED:20220104T164707Z
UID:6978-1643137200-1643140800@www.rippeynews.com
SUMMARY:Library Board Meeting
DESCRIPTION:
URL:https://www.rippeynews.com/event/library-board-meeting-48/
LOCATION:Rippey Public Library\, 224 Main St.\, Rippey\, IA
END:VEVENT
BEGIN:VEVENT
DTSTART;TZID=UTC:20220122T110000
DTEND;TZID=UTC:20220122T130000
DTSTAMP:20260425T145301
CREATED:20211227T154623Z
LAST-MODIFIED:20211227T154623Z
UID:6972-1642849200-1642856400@www.rippeynews.com
SUMMARY:Chili Contest
DESCRIPTION:Bring chili to the library by 10:45am. Vote for your favorite chili. Cinnamon rolls and beverages will also be served. Free will donation.
URL:https://www.rippeynews.com/event/chili-contest/
LOCATION:Rippey Public Library\, 224 Main St.\, Rippey\, IA
END:VEVENT
BEGIN:VEVENT
DTSTART;TZID=UTC:20220120T180000
DTEND;TZID=UTC:20220120T190000
DTSTAMP:20260425T145301
CREATED:20220111T185349Z
LAST-MODIFIED:20220118T175824Z
UID:7020-1642701600-1642705200@www.rippeynews.com
SUMMARY:Lions Club Meeting
DESCRIPTION:Business will include further plans for the BRR Ride on Feb. 5. Rick Liebich is in charge of the program.
URL:https://www.rippeynews.com/event/lions-club-meeting-39/
LOCATION:Rippey United Methodist Church\, 103 Main St.\, Rippey\, IA\, 50235
END:VEVENT
BEGIN:VEVENT
DTSTART;TZID=UTC:20220113T160000
DTEND;TZID=UTC:20220113T170000
DTSTAMP:20260425T145301
CREATED:20220106T184108Z
LAST-MODIFIED:20220106T184108Z
UID:7001-1642089600-1642093200@www.rippeynews.com
SUMMARY:Crafts And A Snack
DESCRIPTION:
URL:https://www.rippeynews.com/event/crafts-and-a-snack/
LOCATION:Rippey Public Library\, 224 Main St.\, Rippey\, IA
END:VEVENT
BEGIN:VEVENT
DTSTART;TZID=UTC:20220103T190000
DTEND;TZID=UTC:20220103T200000
DTSTAMP:20260425T145301
CREATED:20211208T202126Z
LAST-MODIFIED:20211208T202126Z
UID:6954-1641236400-1641240000@www.rippeynews.com
SUMMARY:City Council Meeting
DESCRIPTION:
URL:https://www.rippeynews.com/event/city-council-meeting-55/
LOCATION:Rippey Community Center\, 224 Main St.\, Rippey\, IA
END:VEVENT
BEGIN:VEVENT
DTSTART;TZID=UTC:20211228T190000
DTEND;TZID=UTC:20211228T200000
DTSTAMP:20260425T145301
CREATED:20211203T162855Z
LAST-MODIFIED:20211203T162855Z
UID:6922-1640718000-1640721600@www.rippeynews.com
SUMMARY:Library Board Meeting
DESCRIPTION:
URL:https://www.rippeynews.com/event/library-board-meeting-47/
LOCATION:Rippey Public Library\, 224 Main St.\, Rippey\, IA
END:VEVENT
BEGIN:VEVENT
DTSTART;TZID=UTC:20211211T100000
DTEND;TZID=UTC:20211211T110000
DTSTAMP:20260425T145301
CREATED:20211208T200705Z
LAST-MODIFIED:20211208T200705Z
UID:6947-1639216800-1639220400@www.rippeynews.com
SUMMARY:Christmas Story Time
DESCRIPTION:Followed by craft decorating and snacks.
URL:https://www.rippeynews.com/event/christmas-story-time/
LOCATION:Rippey Public Library\, 224 Main St.\, Rippey\, IA
END:VEVENT
BEGIN:VEVENT
DTSTART;TZID=UTC:20211206T190000
DTEND;TZID=UTC:20211206T200000
DTSTAMP:20260425T145301
CREATED:20211102T173720Z
LAST-MODIFIED:20211102T173720Z
UID:6888-1638817200-1638820800@www.rippeynews.com
SUMMARY:City Council Meeting
DESCRIPTION:
URL:https://www.rippeynews.com/event/city-council-meeting-54/
LOCATION:Rippey Community Center\, 224 Main St.\, Rippey\, IA
END:VEVENT
BEGIN:VEVENT
DTSTART;TZID=UTC:20211202T190000
DTEND;TZID=UTC:20211202T203000
DTSTAMP:20260425T145301
CREATED:20211130T165314Z
LAST-MODIFIED:20211130T165346Z
UID:6908-1638471600-1638477000@www.rippeynews.com
SUMMARY:Lions Club Meeting
DESCRIPTION:A Christmas guest night and potluck will be provided by the Lions members. There will also be a Christmas program.
URL:https://www.rippeynews.com/event/lions-club-meeting-38/
LOCATION:Rippey United Methodist Church\, 103 Main St.\, Rippey\, IA\, 50235
END:VEVENT
BEGIN:VEVENT
DTSTART;TZID=UTC:20211202T140000
DTEND;TZID=UTC:20211202T153000
DTSTAMP:20260425T145301
CREATED:20211130T165104Z
LAST-MODIFIED:20211130T165104Z
UID:6906-1638453600-1638459000@www.rippeynews.com
SUMMARY:Ladies Aid Meeting
DESCRIPTION:
URL:https://www.rippeynews.com/event/ladies-aid-meeting-16/
LOCATION:Rippey United Methodist Church\, 103 Main St.\, Rippey\, IA\, 50235
END:VEVENT
BEGIN:VEVENT
DTSTART;TZID=UTC:20211130T190000
DTEND;TZID=UTC:20211130T200000
DTSTAMP:20260425T145301
CREATED:20211102T173803Z
LAST-MODIFIED:20211102T173803Z
UID:6890-1638298800-1638302400@www.rippeynews.com
SUMMARY:Library Board Meeting
DESCRIPTION:
URL:https://www.rippeynews.com/event/library-board-meeting-46/
LOCATION:Rippey Public Library\, 224 Main St.\, Rippey\, IA
END:VEVENT
BEGIN:VEVENT
DTSTART;TZID=UTC:20211114T100000
DTEND;TZID=UTC:20211114T113000
DTSTAMP:20260425T145301
CREATED:20211109T155205Z
LAST-MODIFIED:20211109T155205Z
UID:6895-1636884000-1636889400@www.rippeynews.com
SUMMARY:UMC Joint Worship
DESCRIPTION:Rippey United Methodist Church will meet with the Perry United Methodist Church for a joint worship service. A representative for the Women at the Well\, is the featured speaker. There will be no services in Rippey.
URL:https://www.rippeynews.com/event/umc-joint-worship/
LOCATION:IA
END:VEVENT
BEGIN:VEVENT
DTSTART;TZID=UTC:20211113T083000
DTEND;TZID=UTC:20211113T110000
DTSTAMP:20260425T145301
CREATED:20211104T152613Z
LAST-MODIFIED:20211104T152613Z
UID:6893-1636792200-1636801200@www.rippeynews.com
SUMMARY:Lions Club Annual Pancake Meal
DESCRIPTION:The free will donations will be used to support Rippey community projects and Lions Club work such as Leader Dogs for the Blind and Camp Hertko Hollow near Boone for young people with diabetes.
URL:https://www.rippeynews.com/event/lions-club-annual-pancake-meal/
LOCATION:Rippey United Methodist Church\, 103 Main St.\, Rippey\, IA\, 50235
END:VEVENT
BEGIN:VEVENT
DTSTART;VALUE=DATE:20211111
DTEND;VALUE=DATE:20211112
DTSTAMP:20260425T145301
CREATED:20211109T155323Z
LAST-MODIFIED:20211109T155323Z
UID:6898-1636588800-1636675199@www.rippeynews.com
SUMMARY:Lions Club Meeting
DESCRIPTION:A potluck meal will be coordinated by Dale Hanaman who will provide a main dish. Plans will be completed for the annual pancake meal on Saturday\, Nov.13 at the Rippey United Methodist Church.
URL:https://www.rippeynews.com/event/lions-club-meeting-37/
LOCATION:IA
END:VEVENT
BEGIN:VEVENT
DTSTART;TZID=UTC:20211101T190000
DTEND;TZID=UTC:20211101T200000
DTSTAMP:20260425T145301
CREATED:20211005T153234Z
LAST-MODIFIED:20211005T153234Z
UID:6846-1635793200-1635796800@www.rippeynews.com
SUMMARY:City Council Meeting
DESCRIPTION:
URL:https://www.rippeynews.com/event/city-council-meeting-53/
LOCATION:Rippey Community Center\, 224 Main St.\, Rippey\, IA
END:VEVENT
BEGIN:VEVENT
DTSTART;TZID=UTC:20211031T180000
DTEND;TZID=UTC:20211031T200000
DTSTAMP:20260425T145301
CREATED:20211025T163720Z
LAST-MODIFIED:20211025T163720Z
UID:6881-1635703200-1635710400@www.rippeynews.com
SUMMARY:Trunk Or Treat
DESCRIPTION:
URL:https://www.rippeynews.com/event/trunk-or-treat/
LOCATION:Rippey Public Library\, 224 Main St.\, Rippey\, IA
END:VEVENT
BEGIN:VEVENT
DTSTART;VALUE=DATE:20211021
DTEND;VALUE=DATE:20211022
DTSTAMP:20260425T145301
CREATED:20211012T151829Z
LAST-MODIFIED:20211012T151829Z
UID:6861-1634774400-1634860799@www.rippeynews.com
SUMMARY:Lions Club Meeting
DESCRIPTION:
URL:https://www.rippeynews.com/event/lions-club-meeting-36/
LOCATION:Rippey United Methodist Church\, 103 Main St.\, Rippey\, IA\, 50235
END:VEVENT
BEGIN:VEVENT
DTSTART;TZID=UTC:20211010T183000
DTEND;TZID=UTC:20211010T193000
DTSTAMP:20260425T145301
CREATED:20210920T152925Z
LAST-MODIFIED:20210920T152925Z
UID:6733-1633890600-1633894200@www.rippeynews.com
SUMMARY:Friends Of Rippey & Sesquicentennial Planning Committee Meeting
DESCRIPTION:Items to be discussed will be the treasurer’s report of the baseball field\, the sesquicentennial\, as well as the Friends of Rippey. \nItems to be discussed will include reburial of the time capsule\, additional projects for the Friends of Rippey\, and new leadership for the group.
URL:https://www.rippeynews.com/event/friends-of-rippey-sesquicentennial-planning-committee-meeting/
LOCATION:Rippey Community Center\, 224 Main St.\, Rippey\, IA
END:VEVENT
BEGIN:VEVENT
DTSTART;VALUE=DATE:20211009
DTEND;VALUE=DATE:20211010
DTSTAMP:20260425T145301
CREATED:20211005T153418Z
LAST-MODIFIED:20211005T153501Z
UID:6848-1633737600-1633823999@www.rippeynews.com
SUMMARY:Rippey Ruckus Fall Classic
DESCRIPTION:
URL:https://www.rippeynews.com/event/rippey-ruckus-fall-classic/
LOCATION:Walt Anderson Field\, Rippey\, IA
END:VEVENT
BEGIN:VEVENT
DTSTART;TZID=UTC:20211007T190000
DTEND;TZID=UTC:20211007T200000
DTSTAMP:20260425T145301
CREATED:20210930T180054Z
LAST-MODIFIED:20210930T180054Z
UID:6820-1633633200-1633636800@www.rippeynews.com
SUMMARY:Lions Club Meeting
DESCRIPTION:Meeting will include a potluck meal.
URL:https://www.rippeynews.com/event/lions-club-meeting-35/
LOCATION:Rippey United Methodist Church\, 103 Main St.\, Rippey\, IA\, 50235
END:VEVENT
BEGIN:VEVENT
DTSTART;TZID=UTC:20211004T190000
DTEND;TZID=UTC:20211004T200000
DTSTAMP:20260425T145301
CREATED:20210908T152312Z
LAST-MODIFIED:20210908T152312Z
UID:6723-1633374000-1633377600@www.rippeynews.com
SUMMARY:City Council Meeting
DESCRIPTION:
URL:https://www.rippeynews.com/event/city-council-meeting-52/
LOCATION:Rippey Community Center\, 224 Main St.\, Rippey\, IA
END:VEVENT
BEGIN:VEVENT
DTSTART;TZID=UTC:20211003T110000
DTEND;TZID=UTC:20211003T130000
DTSTAMP:20260425T145301
CREATED:20210930T180603Z
LAST-MODIFIED:20210930T180603Z
UID:6823-1633258800-1633266000@www.rippeynews.com
SUMMARY:Fall Welcome Sunday
DESCRIPTION:Worship at 11 a.m. with a meal provided at noon. Join family and friends for this time together.
URL:https://www.rippeynews.com/event/fall-welcome-sunday/
LOCATION:Rippey United Methodist Church\, 103 Main St.\, Rippey\, IA\, 50235
END:VEVENT
END:VCALENDAR