BEGIN:VCALENDAR
VERSION:2.0
PRODID:-//Rippey News - ECPv6.13.2.1//NONSGML v1.0//EN
CALSCALE:GREGORIAN
METHOD:PUBLISH
X-WR-CALNAME:Rippey News
X-ORIGINAL-URL:https://www.rippeynews.com
X-WR-CALDESC:Events for Rippey News
REFRESH-INTERVAL;VALUE=DURATION:PT1H
X-Robots-Tag:noindex
X-PUBLISHED-TTL:PT1H
BEGIN:VTIMEZONE
TZID:UTC
BEGIN:STANDARD
TZOFFSETFROM:+0000
TZOFFSETTO:+0000
TZNAME:UTC
DTSTART:20220101T000000
END:STANDARD
END:VTIMEZONE
BEGIN:VEVENT
DTSTART;TZID=UTC:20230121T110000
DTEND;TZID=UTC:20230121T130000
DTSTAMP:20260424T155430
CREATED:20221231T194934Z
LAST-MODIFIED:20230105T220648Z
UID:7797-1674298800-1674306000@www.rippeynews.com
SUMMARY:Chili Cook-Off
DESCRIPTION:Bring your chili entry by 10:30am\, hot and ready to serve. Lunch begins at 11:00am and served until 1:00pm or until we run out. Everyone vote for your favorite chili! Prizes for 1st and 2nd place. \n\n\n\nMenu is chili\, cinnamon rolls\, coffee and other beverages. Free will donation. \n\n\n\nDon’t miss the delicious chili and fun with friends and neighbors! \n\n\n\n-Cindy Devilbiss
URL:https://www.rippeynews.com/event/chili-cook-off/
LOCATION:Rippey Community Center\, 224 Main St.\, Rippey\, IA
END:VEVENT
BEGIN:VEVENT
DTSTART;TZID=UTC:20230119T183000
DTEND;TZID=UTC:20230119T203000
DTSTAMP:20260424T155430
CREATED:20230116T182239Z
LAST-MODIFIED:20230116T183050Z
UID:7826-1674153000-1674160200@www.rippeynews.com
SUMMARY:Lions Club Meeting
DESCRIPTION:The meal will be served at 6:30 pm prepared by women of the Church. Alan Robinson will present the program at 7:30\, sharing information about the housing initiative for home repairs in the eastern half of Greene County – Paton\, Dana\, Grand Junction and Rippey.
URL:https://www.rippeynews.com/event/lions-club-meeting-47/
LOCATION:Rippey United Methodist Church\, 103 Main St.\, Rippey\, IA\, 50235
END:VEVENT
BEGIN:VEVENT
DTSTART;TZID=UTC:20230108T190000
DTEND;TZID=UTC:20230108T200000
DTSTAMP:20260424T155430
CREATED:20230106T191951Z
LAST-MODIFIED:20230106T191952Z
UID:7813-1673204400-1673208000@www.rippeynews.com
SUMMARY:Friends Of Rippey Meeting
DESCRIPTION:
URL:https://www.rippeynews.com/event/friends-of-rippey-meeting-6/
LOCATION:Rippey Community Center\, 224 Main St.\, Rippey\, IA
END:VEVENT
BEGIN:VEVENT
DTSTART;TZID=UTC:20230105T140000
DTEND;TZID=UTC:20230105T150000
DTSTAMP:20260424T155430
CREATED:20230106T190747Z
LAST-MODIFIED:20230106T190748Z
UID:7808-1672927200-1672930800@www.rippeynews.com
SUMMARY:Ladies Aid Meeting
DESCRIPTION:
URL:https://www.rippeynews.com/event/ladies-aid-meeting-17/
LOCATION:Rippey United Methodist Church\, 103 Main St.\, Rippey\, IA\, 50235
END:VEVENT
BEGIN:VEVENT
DTSTART;TZID=UTC:20230104T183000
DTEND;TZID=UTC:20230104T193000
DTSTAMP:20260424T155430
CREATED:20230106T190652Z
LAST-MODIFIED:20230106T190654Z
UID:7806-1672857000-1672860600@www.rippeynews.com
SUMMARY:RUMC Finance Committee & Council Meetings
DESCRIPTION:
URL:https://www.rippeynews.com/event/rumc-finance-committee-council-meetings/
LOCATION:Rippey United Methodist Church\, 103 Main St.\, Rippey\, IA\, 50235
END:VEVENT
BEGIN:VEVENT
DTSTART;TZID=UTC:20230102T190000
DTEND;TZID=UTC:20230102T200000
DTSTAMP:20260424T155430
CREATED:20221208T174048Z
LAST-MODIFIED:20221208T174049Z
UID:7781-1672686000-1672689600@www.rippeynews.com
SUMMARY:City Council Meeting
DESCRIPTION:
URL:https://www.rippeynews.com/event/city-council-meeting-66/
LOCATION:Rippey Community Center\, 224 Main St.\, Rippey\, IA
END:VEVENT
BEGIN:VEVENT
DTSTART;TZID=UTC:20221227T190000
DTEND;TZID=UTC:20221227T200000
DTSTAMP:20260424T155430
CREATED:20221208T173945Z
LAST-MODIFIED:20221208T173946Z
UID:7779-1672167600-1672171200@www.rippeynews.com
SUMMARY:Library Board Meeting
DESCRIPTION:
URL:https://www.rippeynews.com/event/library-board-meeting-58/
LOCATION:Rippey Public Library\, 224 Main St.\, Rippey\, IA
END:VEVENT
BEGIN:VEVENT
DTSTART;TZID=UTC:20221224T190000
DTEND;TZID=UTC:20221224T200000
DTSTAMP:20260424T155430
CREATED:20221217T153506Z
LAST-MODIFIED:20221217T153507Z
UID:7784-1671908400-1671912000@www.rippeynews.com
SUMMARY:Christmas Eve Service
DESCRIPTION:On Christmas day:  Sunday school – 10am. Worship services – 11am
URL:https://www.rippeynews.com/event/christmas-eve-service/
LOCATION:Rippey United Methodist Church\, 103 Main St.\, Rippey\, IA\, 50235
END:VEVENT
BEGIN:VEVENT
DTSTART;TZID=UTC:20221205T190000
DTEND;TZID=UTC:20221205T200000
DTSTAMP:20260424T155430
CREATED:20221128T165154Z
LAST-MODIFIED:20221128T165155Z
UID:7745-1670266800-1670270400@www.rippeynews.com
SUMMARY:City Council Meeting
DESCRIPTION:
URL:https://www.rippeynews.com/event/city-council-meeting-65/
LOCATION:Rippey Community Center\, 224 Main St.\, Rippey\, IA
END:VEVENT
BEGIN:VEVENT
DTSTART;TZID=UTC:20221204T190000
DTEND;TZID=UTC:20221204T200000
DTSTAMP:20260424T155430
CREATED:20221128T163226Z
LAST-MODIFIED:20221204T162006Z
UID:7736-1670180400-1670184000@www.rippeynews.com
SUMMARY:Friends Of Rippey Meeting
DESCRIPTION:Call to order \n\n\n\nMinutes of November 6\, 2022 \n\n\n\nTreasurer’s Report \n\n\n\nOld Business \n\n\n\nPancake breakfast held on December 3rdStreet globe replacement and street lamp\n\n\n\nNew Business \n\n\n\nBRR activitiesBaseball Commission schedule updateFire Department recruitment effortsLibrary newsDiscussion regarding sponsorship of EMS trainingRippey DAZE planning for July 2023Other\n\n\n\nNext meeting: Rippey Community Room \n\n\n\nJanuary 8\, 2023 ◆ 7:00 P.M.
URL:https://www.rippeynews.com/event/friends-of-rippey-meeting-5/
LOCATION:Rippey Community Center\, 224 Main St.\, Rippey\, IA
END:VEVENT
BEGIN:VEVENT
DTSTART;TZID=UTC:20221203T080000
DTEND;TZID=UTC:20221203T230000
DTSTAMP:20260424T155430
CREATED:20221101T165814Z
LAST-MODIFIED:20221128T165259Z
UID:7701-1670054400-1670108400@www.rippeynews.com
SUMMARY:Pancake Breakfast
DESCRIPTION:The Friends of Rippey\, along with the Rippey Mayor\, Dan Brubaker\, and the Rippey Fire Department will be hosting a pancake breakfast on December 3 beginning at 8:00 A.M. in the Rippey Community Room. Dan will be serving pancakes and sausages\, along with Friends of Rippey providing juice\, coffee\, milk\, and fruit. Santa Claus will be arriving on the back of the Rippey Fire Truck at 10:00 A.M. with a time to listen to children express their wishes. \n\n\n\nThe breakfast will be a freewill donation. Funds generated will be added to the fireworks display funds for the July 22 Rippey Daze. Following the Halloween meal only $9\,200 remains to secure the same company that was used for the Sesquicentennial Plus 1.  Many will remember the fireworks originating from Roger Norgren’s field following the baseball game. A game is being planned for the field  at this time. \n\n\n\nMark your calendars for the pancake breakfast and the Rippey Daze.
URL:https://www.rippeynews.com/event/community-meal-pancake-breakfast/
LOCATION:Rippey Community Center\, 224 Main St.\, Rippey\, IA
END:VEVENT
BEGIN:VEVENT
DTSTART;TZID=UTC:20221129T190000
DTEND;TZID=UTC:20221129T200000
DTSTAMP:20260424T155430
CREATED:20221104T182213Z
LAST-MODIFIED:20221104T182214Z
UID:7711-1669748400-1669752000@www.rippeynews.com
SUMMARY:Library Board Meeting
DESCRIPTION:
URL:https://www.rippeynews.com/event/library-board-meeting-57/
LOCATION:Rippey Public Library\, 224 Main St.\, Rippey\, IA
END:VEVENT
BEGIN:VEVENT
DTSTART;TZID=UTC:20221107T190000
DTEND;TZID=UTC:20221107T200000
DTSTAMP:20260424T155430
CREATED:20221011T155207Z
LAST-MODIFIED:20221011T155208Z
UID:7643-1667847600-1667851200@www.rippeynews.com
SUMMARY:City Council Meeting
DESCRIPTION:
URL:https://www.rippeynews.com/event/city-council-meeting-64/
LOCATION:Rippey Community Center\, 224 Main St.\, Rippey\, IA
END:VEVENT
BEGIN:VEVENT
DTSTART;TZID=UTC:20221103T180000
DTEND;TZID=UTC:20221103T200000
DTSTAMP:20260424T155430
CREATED:20221020T163348Z
LAST-MODIFIED:20221020T163350Z
UID:7650-1667498400-1667505600@www.rippeynews.com
SUMMARY:Lions Club Meeting
DESCRIPTION:Meal at 6 p.m. followed by the program at 7 p.m. presented by Phyllis Woodley\, Cheree Derry\, and Becky Wolf from the Greene County Public Health Department sharing about Healthy Rides medical transportation\, Lifeline emergency response system\, and adult vaccines and “Unlocking Your Brain” program.
URL:https://www.rippeynews.com/event/lions-club-meeting-46/
LOCATION:Rippey United Methodist Church\, 103 Main St.\, Rippey\, IA\, 50235
END:VEVENT
BEGIN:VEVENT
DTSTART;TZID=UTC:20221103T000000
DTEND;TZID=UTC:20221103T235959
DTSTAMP:20260424T155430
CREATED:20220912T155227Z
LAST-MODIFIED:20220912T155228Z
UID:7585-1667433600-1667519999@www.rippeynews.com
SUMMARY:Greene County Reads
DESCRIPTION:“The Lincoln Highway” a novel by Amor Towles. More information to come.
URL:https://www.rippeynews.com/event/greene-county-reads-5/
LOCATION:IA
END:VEVENT
BEGIN:VEVENT
DTSTART;TZID=UTC:20221030T170000
DTEND;TZID=UTC:20221030T190000
DTSTAMP:20260424T155430
CREATED:20220913T164856Z
LAST-MODIFIED:20221006T174940Z
UID:7594-1667149200-1667156400@www.rippeynews.com
SUMMARY:Trunk Or Treat & Fall Meal
DESCRIPTION:This event is a joint effort with the Rippey Library director and the Board\, and the Friends of Rippey. \n\n\n\nThe Rippey Lions Club are also arranging for old fashioned games for the children. \n\n\n\nThe meal begins at 6:00 P.M. It is a free will donation.
URL:https://www.rippeynews.com/event/trunk-or-treat-community-meal/
LOCATION:Rippey Community Center\, 224 Main St.\, Rippey\, IA
END:VEVENT
BEGIN:VEVENT
DTSTART;TZID=UTC:20221025T190000
DTEND;TZID=UTC:20221025T200000
DTSTAMP:20260424T155430
CREATED:20221011T155112Z
LAST-MODIFIED:20221011T155353Z
UID:7641-1666724400-1666728000@www.rippeynews.com
SUMMARY:Library Board Meeting
DESCRIPTION:
URL:https://www.rippeynews.com/event/library-board-meeting-56/
LOCATION:Rippey Public Library\, 224 Main St.\, Rippey\, IA
END:VEVENT
BEGIN:VEVENT
DTSTART;TZID=UTC:20221020T180000
DTEND;TZID=UTC:20221020T200000
DTSTAMP:20260424T155430
CREATED:20221020T163138Z
LAST-MODIFIED:20221020T163429Z
UID:7648-1666288800-1666296000@www.rippeynews.com
SUMMARY:Lions Club Meeting
DESCRIPTION:Meal at 6 p.m. followed by the program at 7 p.m. presented by Matt Wetrich\, Executive Director of Jefferson Matters: A Main Street & Chamber Community.
URL:https://www.rippeynews.com/event/lions-club-meeting-45/
LOCATION:Rippey United Methodist Church\, 103 Main St.\, Rippey\, IA\, 50235
END:VEVENT
BEGIN:VEVENT
DTSTART;TZID=UTC:20221009T190000
DTEND;TZID=UTC:20221009T200000
DTSTAMP:20260424T155430
CREATED:20220913T164722Z
LAST-MODIFIED:20220924T161617Z
UID:7592-1665342000-1665345600@www.rippeynews.com
SUMMARY:Friends of Rippey Meeting
DESCRIPTION:Items for discussion and implementation: \n\n\n\nStreet light globe replacement \n\n\n\nBasketball hoop replaced at former skating rink \n\n\n\nBaseball Commission schedule for 2023 \n\n\n\nFall meal/Trunk and Treat \n\n\n\nPlan for Christmas meal \n\n\n\nUpdate for Fire Dept recruitment \n\n\n\nOther \n\n\n\nWe will be reaching out to LOCALS to ask for their assistance with the upcoming meals. \n\n\n\nPlease say YES when contacted. \n\n\n\n-Mary Weaver
URL:https://www.rippeynews.com/event/friends-of-rippey-meeting-4/
LOCATION:Rippey Community Center\, 224 Main St.\, Rippey\, IA
END:VEVENT
BEGIN:VEVENT
DTSTART;TZID=UTC:20221003T190000
DTEND;TZID=UTC:20221003T200000
DTSTAMP:20260424T155430
CREATED:20220906T175335Z
LAST-MODIFIED:20220906T175336Z
UID:7575-1664823600-1664827200@www.rippeynews.com
SUMMARY:City Council Meeting
DESCRIPTION:
URL:https://www.rippeynews.com/event/city-council-meeting-62/
LOCATION:Rippey Community Center\, 224 Main St.\, Rippey\, IA
END:VEVENT
BEGIN:VEVENT
DTSTART;TZID=UTC:20220927T190000
DTEND;TZID=UTC:20220927T200000
DTSTAMP:20260424T155430
CREATED:20220906T175230Z
LAST-MODIFIED:20220906T175406Z
UID:7573-1664305200-1664308800@www.rippeynews.com
SUMMARY:Library Board Meeting
DESCRIPTION:
URL:https://www.rippeynews.com/event/library-board-meeting-55/
LOCATION:Rippey Public Library\, 224 Main St.\, Rippey\, IA
END:VEVENT
BEGIN:VEVENT
DTSTART;TZID=UTC:20220909T123000
DTEND;TZID=UTC:20220909T133000
DTSTAMP:20260424T155430
CREATED:20220812T152117Z
LAST-MODIFIED:20220812T152118Z
UID:7550-1662726600-1662730200@www.rippeynews.com
SUMMARY:Greene County Reads
DESCRIPTION:Iowa-based novel selected for annual Greene County Reads discussion
URL:https://www.rippeynews.com/event/greene-county-reads-4/
LOCATION:IA
END:VEVENT
BEGIN:VEVENT
DTSTART;TZID=UTC:20220905T190000
DTEND;TZID=UTC:20220905T200000
DTSTAMP:20260424T155430
CREATED:20220807T172846Z
LAST-MODIFIED:20220807T173204Z
UID:7539-1662404400-1662408000@www.rippeynews.com
SUMMARY:City Council Meeting
DESCRIPTION:
URL:https://www.rippeynews.com/event/city-council-meeting-63/
LOCATION:Rippey Community Center\, 224 Main St.\, Rippey\, IA
END:VEVENT
BEGIN:VEVENT
DTSTART;TZID=UTC:20220830T190000
DTEND;TZID=UTC:20220830T200000
DTSTAMP:20260424T155430
CREATED:20220807T173058Z
LAST-MODIFIED:20220807T173130Z
UID:7541-1661886000-1661889600@www.rippeynews.com
SUMMARY:Library Board Meeting
DESCRIPTION:
URL:https://www.rippeynews.com/event/library-board-meeting-54/
LOCATION:Rippey Public Library\, 224 Main St.\, Rippey\, IA
END:VEVENT
BEGIN:VEVENT
DTSTART;TZID=UTC:20220810T140000
DTEND;TZID=UTC:20220810T170000
DTSTAMP:20260424T155430
CREATED:20220807T183637Z
LAST-MODIFIED:20220807T183638Z
UID:7546-1660140000-1660150800@www.rippeynews.com
SUMMARY:Board Games & Popcorn
DESCRIPTION:
URL:https://www.rippeynews.com/event/board-games-popcorn/
LOCATION:Rippey Public Library\, 224 Main St.\, Rippey\, IA
END:VEVENT
BEGIN:VEVENT
DTSTART;TZID=UTC:20220801T190000
DTEND;TZID=UTC:20220801T200000
DTSTAMP:20260424T155430
CREATED:20220707T163118Z
LAST-MODIFIED:20220707T163118Z
UID:7456-1659380400-1659384000@www.rippeynews.com
SUMMARY:City Council Meeting
DESCRIPTION:
URL:https://www.rippeynews.com/event/city-council-meeting-61/
LOCATION:Rippey Community Center\, 224 Main St.\, Rippey\, IA
END:VEVENT
BEGIN:VEVENT
DTSTART;VALUE=DATE:20220730
DTEND;VALUE=DATE:20220731
DTSTAMP:20260424T155430
CREATED:20220328T163045Z
LAST-MODIFIED:20220719T161153Z
UID:7138-1659139200-1659225599@www.rippeynews.com
SUMMARY:Rippey Fun DAZE
DESCRIPTION:The Rippey Fun DAZE will be July 30. 2022 sponsored by the Rippey Lions Club. The day will continue a tradition of summer celebrations revived with the Rippey 150th+1 in 2021. The day will consist of activities and fun for all ages will begin around noon with a car show\, bouncy houses for kids\, a baseball game in the late afternoon at Walt Anderson Field\, a vendor fair\, a silent auction and the opportunity for class and family gatherings during the day. For more information\, contact Greg Jacobs\, Lions Club President\, 712-830-4270 or Nancy Hanaman\, Lions Club Secretary at 515-436-7684.
URL:https://www.rippeynews.com/event/rippey-daze/
LOCATION:IA
END:VEVENT
BEGIN:VEVENT
DTSTART;TZID=UTC:20220726T190000
DTEND;TZID=UTC:20220726T200000
DTSTAMP:20260424T155430
CREATED:20220707T162955Z
LAST-MODIFIED:20220807T173258Z
UID:7454-1658862000-1658865600@www.rippeynews.com
SUMMARY:Library Board Meeting
DESCRIPTION:
URL:https://www.rippeynews.com/event/library-board-meeting-53/
LOCATION:Rippey Public Library\, 224 Main St.\, Rippey\, IA
END:VEVENT
BEGIN:VEVENT
DTSTART;TZID=UTC:20220628T190000
DTEND;TZID=UTC:20220628T200000
DTSTAMP:20260424T155430
CREATED:20220601T171052Z
LAST-MODIFIED:20220601T171052Z
UID:7391-1656442800-1656446400@www.rippeynews.com
SUMMARY:Library Board Meeting
DESCRIPTION:
URL:https://www.rippeynews.com/event/library-board-meeting-52/
LOCATION:Rippey Public Library\, 224 Main St.\, Rippey\, IA
END:VEVENT
BEGIN:VEVENT
DTSTART;TZID=UTC:20220607T183000
DTEND;TZID=UTC:20220607T200000
DTSTAMP:20260424T155430
CREATED:20220525T172348Z
LAST-MODIFIED:20220525T172348Z
UID:7359-1654626600-1654632000@www.rippeynews.com
SUMMARY:Rippey Music Recital
DESCRIPTION:Student piano and violin performances and light supper to follow. All are welcome! \nStudents of Janice Johnston: Ethan Hooper\, Daniel Cerveny\, Ada Weaver\, Connor\, Carilyn\, John\, and Kathryn Kenyon
URL:https://www.rippeynews.com/event/rippey-music-recital/
LOCATION:Rippey Community Center\, 224 Main St.\, Rippey\, IA
END:VEVENT
END:VCALENDAR