BEGIN:VCALENDAR
VERSION:2.0
PRODID:-//Rippey News - ECPv6.13.2.1//NONSGML v1.0//EN
CALSCALE:GREGORIAN
METHOD:PUBLISH
X-WR-CALNAME:Rippey News
X-ORIGINAL-URL:https://www.rippeynews.com
X-WR-CALDESC:Events for Rippey News
REFRESH-INTERVAL;VALUE=DURATION:PT1H
X-Robots-Tag:noindex
X-PUBLISHED-TTL:PT1H
BEGIN:VTIMEZONE
TZID:UTC
BEGIN:STANDARD
TZOFFSETFROM:+0000
TZOFFSETTO:+0000
TZNAME:UTC
DTSTART:20210101T000000
END:STANDARD
END:VTIMEZONE
BEGIN:VEVENT
DTSTART;TZID=UTC:20210902T190000
DTEND;TZID=UTC:20210902T200000
DTSTAMP:20260425T163131
CREATED:20210610T154744Z
LAST-MODIFIED:20210827T172926Z
UID:6468-1630609200-1630612800@www.rippeynews.com
SUMMARY:Lions Club Meeting
DESCRIPTION:The Rippey Lions Club will meet for the first fall meeting at Dale and Nancy Hanaman ‘s home\, 1956 U Ave. Members are asked to bring meat to grill for themselves and their guests and a dish to share. Greg Jacobs\, President\, will lead the meeting and share the program\, Living in Bahrain\, about his experiences living and teaching in that country in Department of Defense schools.
URL:https://www.rippeynews.com/event/lions-club-meeting-33/
LOCATION:Dale & Nancy Hanaman\, 1956 U Ave\, Rippey\, IA
ATTACH;FMTTYPE=image/jpeg:https://www.rippeynews.com/wp-content/uploads/2018/10/lions-e1539035287905.jpg
END:VEVENT
BEGIN:VEVENT
DTSTART;TZID=UTC:20210806T143000
DTEND;TZID=UTC:20210806T153000
DTSTAMP:20260425T163131
CREATED:20210610T154700Z
LAST-MODIFIED:20210610T154700Z
UID:6466-1628260200-1628263800@www.rippeynews.com
SUMMARY:Blank Park Zoo At The Library
DESCRIPTION:
URL:https://www.rippeynews.com/event/blank-park-zoo-at-the-library-2/
LOCATION:Rippey Public Library\, 224 Main St.\, Rippey\, IA
END:VEVENT
BEGIN:VEVENT
DTSTART;TZID=UTC:20210802T190000
DTEND;TZID=UTC:20210802T200000
DTSTAMP:20260425T163131
CREATED:20210707T192230Z
LAST-MODIFIED:20210707T192230Z
UID:6552-1627930800-1627934400@www.rippeynews.com
SUMMARY:City Council Meeting
DESCRIPTION:
URL:https://www.rippeynews.com/event/city-council-meeting-50/
LOCATION:Rippey Community Center\, 224 Main St.\, Rippey\, IA
END:VEVENT
BEGIN:VEVENT
DTSTART;VALUE=DATE:20210731
DTEND;VALUE=DATE:20210801
DTSTAMP:20260425T163131
CREATED:20190801T163623Z
LAST-MODIFIED:20201210T173757Z
UID:4360-1627689600-1627775999@www.rippeynews.com
SUMMARY:Rippey's Sesquicentennial
DESCRIPTION:http://www.rippeynews.com/rippey-sesquicentennial/
URL:https://www.rippeynews.com/event/rippeys-sesquicentennial/
LOCATION:IA
END:VEVENT
BEGIN:VEVENT
DTSTART;TZID=UTC:20210728T183000
DTEND;TZID=UTC:20210728T193000
DTSTAMP:20260425T163131
CREATED:20210713T155740Z
LAST-MODIFIED:20210713T155740Z
UID:6604-1627497000-1627500600@www.rippeynews.com
SUMMARY:Sesquicentennial Planning Meeting
DESCRIPTION:
URL:https://www.rippeynews.com/event/sesquicentennial-planning-meeting-13/
LOCATION:Rippey Community Center\, 224 Main St.\, Rippey\, IA
END:VEVENT
BEGIN:VEVENT
DTSTART;TZID=UTC:20210727T190000
DTEND;TZID=UTC:20210727T200000
DTSTAMP:20260425T163131
CREATED:20210708T193018Z
LAST-MODIFIED:20210723T124005Z
UID:6558-1627412400-1627416000@www.rippeynews.com
SUMMARY:Library Board Meeting
DESCRIPTION:
URL:https://www.rippeynews.com/event/library-board-meeting-45/
LOCATION:Rippey Public Library\, 224 Main St.\, Rippey\, IA
END:VEVENT
BEGIN:VEVENT
DTSTART;TZID=UTC:20210726T143000
DTEND;TZID=UTC:20210806T153000
DTSTAMP:20260425T163131
CREATED:20210709T162137Z
LAST-MODIFIED:20210709T162523Z
UID:6575-1627309800-1628263800@www.rippeynews.com
SUMMARY:Summer Reading Program At The Library
DESCRIPTION:Summer Reading Program\nAll school ages are welcome to attend. The theme this year is Tails and Tales.\nDates: July 26th\, July 29th\, Aug 2nd and Aug 5th\nTime: 2:30 – 3:30pm\n\n\nIt will wrap up on August 6th with a visit from the Blank Park Zoo.
URL:https://www.rippeynews.com/event/summer-reading-program-at-library/
LOCATION:Rippey Public Library\, 224 Main St.\, Rippey\, IA
END:VEVENT
BEGIN:VEVENT
DTSTART;TZID=UTC:20210725T183000
DTEND;TZID=UTC:20210725T193000
DTSTAMP:20260425T163131
CREATED:20210713T155506Z
LAST-MODIFIED:20210713T155506Z
UID:6602-1627237800-1627241400@www.rippeynews.com
SUMMARY:Sesquicentennial Planning Meeting
DESCRIPTION:
URL:https://www.rippeynews.com/event/sesquicentennial-planning-meeting-12/
LOCATION:Rippey Community Center\, 224 Main St.\, Rippey\, IA
END:VEVENT
BEGIN:VEVENT
DTSTART;TZID=UTC:20210718T183000
DTEND;TZID=UTC:20210718T193000
DTSTAMP:20260425T163131
CREATED:20210713T155427Z
LAST-MODIFIED:20210713T155427Z
UID:6600-1626633000-1626636600@www.rippeynews.com
SUMMARY:Sesquicentennial Planning Meeting
DESCRIPTION:
URL:https://www.rippeynews.com/event/sesquicentennial-planning-meeting-11/
LOCATION:Rippey Community Center\, 224 Main St.\, Rippey\, IA
END:VEVENT
BEGIN:VEVENT
DTSTART;TZID=UTC:20210711T183000
DTEND;TZID=UTC:20210711T193000
DTSTAMP:20260425T163131
CREATED:20210628T163916Z
LAST-MODIFIED:20210628T163916Z
UID:6538-1626028200-1626031800@www.rippeynews.com
SUMMARY:Sesquicentennial Planning Meeting
DESCRIPTION:
URL:https://www.rippeynews.com/event/sesquicentennial-planning-meeting-10/
LOCATION:Rippey Community Center\, 224 Main St.\, Rippey\, IA
END:VEVENT
BEGIN:VEVENT
DTSTART;TZID=UTC:20210709T110000
DTEND;TZID=UTC:20210709T130000
DTSTAMP:20260425T163131
CREATED:20210709T153700Z
LAST-MODIFIED:20210709T153852Z
UID:6560-1625828400-1625835600@www.rippeynews.com
SUMMARY:History  Chat At GC Fair
DESCRIPTION:Mary Weaver\, Roy Bardole and Nancy Hanaman will be guests for a History Chat at the Greene County Fair on Friday\, July 9th at 11am sharing Rippey history and the upcoming Rippey Sesquicentennial celebration on July 31st. Chuck Offenburger and Jerry Roberts will lead this and other History Chats on Friday and Saturday at the Fair.
URL:https://www.rippeynews.com/event/history-chat-at-gc-fair/
LOCATION:Greene County Fairgrounds\, Jefferson\, IA
END:VEVENT
BEGIN:VEVENT
DTSTART;TZID=UTC:20210705T190000
DTEND;TZID=UTC:20210705T200000
DTSTAMP:20260425T163131
CREATED:20210610T155011Z
LAST-MODIFIED:20210610T155011Z
UID:6473-1625511600-1625515200@www.rippeynews.com
SUMMARY:City Council Meeting
DESCRIPTION:
URL:https://www.rippeynews.com/event/city-council-meeting-49/
LOCATION:Rippey Community Center\, 224 Main St.\, Rippey\, IA
END:VEVENT
BEGIN:VEVENT
DTSTART;TZID=UTC:20210628T180000
DTEND;TZID=UTC:20210628T190000
DTSTAMP:20260425T163131
CREATED:20210525T154101Z
LAST-MODIFIED:20210525T154101Z
UID:6431-1624903200-1624906800@www.rippeynews.com
SUMMARY:Library Board Meeting
DESCRIPTION:
URL:https://www.rippeynews.com/event/library-board-meeting-44/
LOCATION:Rippey Public Library\, 224 Main St.\, Rippey\, IA
END:VEVENT
BEGIN:VEVENT
DTSTART;TZID=UTC:20210621T160000
DTEND;TZID=UTC:20210621T170000
DTSTAMP:20260425T163131
CREATED:20210601T163617Z
LAST-MODIFIED:20210601T163617Z
UID:6443-1624291200-1624294800@www.rippeynews.com
SUMMARY:Magician At The Library
DESCRIPTION:
URL:https://www.rippeynews.com/event/magician-at-the-library/
LOCATION:Rippey Public Library\, 224 Main St.\, Rippey\, IA
END:VEVENT
BEGIN:VEVENT
DTSTART;TZID=UTC:20210607T190000
DTEND;TZID=UTC:20210607T200000
DTSTAMP:20260425T163131
CREATED:20210506T150157Z
LAST-MODIFIED:20210506T150157Z
UID:6348-1623092400-1623096000@www.rippeynews.com
SUMMARY:City Council Meeting
DESCRIPTION:
URL:https://www.rippeynews.com/event/city-council-meeting-48/
LOCATION:Rippey Community Center\, 224 Main St.\, Rippey\, IA
END:VEVENT
BEGIN:VEVENT
DTSTART;TZID=UTC:20210606T183000
DTEND;TZID=UTC:20210606T193000
DTSTAMP:20260425T163131
CREATED:20210525T154641Z
LAST-MODIFIED:20210602T150428Z
UID:6436-1623004200-1623007800@www.rippeynews.com
SUMMARY:Sesquicentennial Planning Meeting
DESCRIPTION:
URL:https://www.rippeynews.com/event/sesquicentennial-planning-meeting-9/
LOCATION:Rippey Community Center\, 224 Main St.\, Rippey\, IA
END:VEVENT
BEGIN:VEVENT
DTSTART;TZID=UTC:20210531T110000
DTEND;TZID=UTC:20210531T170000
DTSTAMP:20260425T163131
CREATED:20210520T153517Z
LAST-MODIFIED:20210520T153628Z
UID:6405-1622458800-1622480400@www.rippeynews.com
SUMMARY:Memorial Day Services
DESCRIPTION:Welcome:  Mary Weaver \nPresentation of the Colors: Kincaid Martin Legion Post 583 \nPledge of Allegiance \nRemarks: Pastor Catherine Stokes \nReading of “In Flanders Field” by Wyant Jungck \nLaying of the Memorial wreath  by Sharon Ulrich \n21 Gun Salute: Legion Post 583 \nTaps played by Addie Burkett \nLunch to follow at the Rippey United Methodist Church
URL:https://www.rippeynews.com/event/memorial-day-services-2/
LOCATION:Rippey Cemetary\, Rippey
END:VEVENT
BEGIN:VEVENT
DTSTART;TZID=UTC:20210529T120000
DTEND;TZID=UTC:20210529T140000
DTSTAMP:20260425T163131
CREATED:20210518T160711Z
LAST-MODIFIED:20210518T160711Z
UID:6384-1622289600-1622296800@www.rippeynews.com
SUMMARY:Rippey Alumni Party
DESCRIPTION:The meal will be served by the Rippey Methodist Church kitchen crew. The meal is always delicious and will cost $12.00. Please pay at the door rather than sending money in advance. Reservations are necessary and should be made as early as possible.  Mary Ann Young Miller graciously volunteered (again) to take the reservations by phone (515) 465-2449.  There is an answering machine in case she is not home.  Her email is ptmilleria@q.com.
URL:https://www.rippeynews.com/event/rippey-alumni-party-3/
LOCATION:Rippey United Methodist Church\, 103 Main St.\, Rippey\, IA\, 50235
END:VEVENT
BEGIN:VEVENT
DTSTART;TZID=UTC:20210518T193000
DTEND;TZID=UTC:20210518T213000
DTSTAMP:20260425T163131
CREATED:20210518T190622Z
LAST-MODIFIED:20210518T190622Z
UID:6389-1621366200-1621373400@www.rippeynews.com
SUMMARY:Baseball Game
DESCRIPTION:More information to be announced!
URL:https://www.rippeynews.com/event/baseball-game-2/
LOCATION:Walt Anderson Field\, Rippey\, IA
END:VEVENT
BEGIN:VEVENT
DTSTART;TZID=UTC:20210515T153000
DTEND;TZID=UTC:20210515T200000
DTSTAMP:20260425T163131
CREATED:20210424T164148Z
LAST-MODIFIED:20210427T191627Z
UID:6225-1621092600-1621108800@www.rippeynews.com
SUMMARY:Rippey Ruckus Round 3
DESCRIPTION: 
URL:https://www.rippeynews.com/event/rippey-ruckus-round-3/
LOCATION:Walt Anderson Field\, Rippey\, IA
END:VEVENT
BEGIN:VEVENT
DTSTART;TZID=UTC:20210515T103000
DTEND;TZID=UTC:20210515T150000
DTSTAMP:20260425T163131
CREATED:20210424T163855Z
LAST-MODIFIED:20210427T191825Z
UID:6222-1621074600-1621090800@www.rippeynews.com
SUMMARY:Rippey Ruckus Round 2
DESCRIPTION:
URL:https://www.rippeynews.com/event/rippey-ruckus-round-2/
LOCATION:Walt Anderson Field\, Rippey\, IA
END:VEVENT
BEGIN:VEVENT
DTSTART;TZID=UTC:20210514T180000
DTEND;TZID=UTC:20210514T223000
DTSTAMP:20260425T163131
CREATED:20210424T163555Z
LAST-MODIFIED:20210427T191717Z
UID:6220-1621015200-1621031400@www.rippeynews.com
SUMMARY:Rippey Ruckus Round 1
DESCRIPTION:  \n\n 
URL:https://www.rippeynews.com/event/rippey-ruckus-round-1/
LOCATION:Walt Anderson Field\, Rippey\, IA
END:VEVENT
BEGIN:VEVENT
DTSTART;TZID=UTC:20210509T183000
DTEND;TZID=UTC:20210509T193000
DTSTAMP:20260425T163131
CREATED:20210427T160835Z
LAST-MODIFIED:20210427T160854Z
UID:6296-1620585000-1620588600@www.rippeynews.com
SUMMARY:Sesquicentennial Planning Meeting
DESCRIPTION:
URL:https://www.rippeynews.com/event/sesquicentennial-planning-meeting-8/
LOCATION:Rippey Community Center\, 224 Main St.\, Rippey\, IA
END:VEVENT
BEGIN:VEVENT
DTSTART;TZID=UTC:20210506T190000
DTEND;TZID=UTC:20210506T200000
DTSTAMP:20260425T163131
CREATED:20210506T150057Z
LAST-MODIFIED:20210506T150057Z
UID:6346-1620327600-1620331200@www.rippeynews.com
SUMMARY:Rippey Lions Club Meeting
DESCRIPTION:The Rippey Lions Club will hold a potluck meeting. The main dish will be furnished so those attending are asked to bring dessert\, salad or anything else. Rick Liebich\, President\, will lead the meeting. Plans for a June meeting\, Rippey’s 150th+1 in July\, and meeting dates beginning in September will be among topics to be discussed.
URL:https://www.rippeynews.com/event/rippey-lions-club-meeting/
LOCATION:Rippey United Methodist Church\, 103 Main St.\, Rippey\, IA\, 50235
END:VEVENT
BEGIN:VEVENT
DTSTART;TZID=UTC:20210503T190000
DTEND;TZID=UTC:20210503T200000
DTSTAMP:20260425T163131
CREATED:20210411T142857Z
LAST-MODIFIED:20210411T142857Z
UID:6168-1620068400-1620072000@www.rippeynews.com
SUMMARY:City Council Meeting
DESCRIPTION:
URL:https://www.rippeynews.com/event/city-council-meeting-47/
LOCATION:Rippey Community Center\, 224 Main St.\, Rippey\, IA
END:VEVENT
BEGIN:VEVENT
DTSTART;TZID=UTC:20210426T180000
DTEND;TZID=UTC:20210426T190000
DTSTAMP:20260425T163131
CREATED:20210405T173835Z
LAST-MODIFIED:20210405T173835Z
UID:6163-1619460000-1619463600@www.rippeynews.com
SUMMARY:Library Board Meeting
DESCRIPTION:
URL:https://www.rippeynews.com/event/library-board-meeting-43/
LOCATION:Rippey Public Library\, 224 Main St.\, Rippey\, IA
END:VEVENT
BEGIN:VEVENT
DTSTART;TZID=UTC:20210425T183000
DTEND;TZID=UTC:20210425T193000
DTSTAMP:20260425T163131
CREATED:20210422T154313Z
LAST-MODIFIED:20210422T154313Z
UID:6218-1619375400-1619379000@www.rippeynews.com
SUMMARY:Sesquicentennial Meeting
DESCRIPTION:
URL:https://www.rippeynews.com/event/sesquicentennial-meeting/
LOCATION:Rippey Community Center\, 224 Main St.\, Rippey\, IA
END:VEVENT
BEGIN:VEVENT
DTSTART;TZID=UTC:20210418T170000
DTEND;TZID=UTC:20210418T180000
DTSTAMP:20260425T163131
CREATED:20210413T163843Z
LAST-MODIFIED:20210413T163843Z
UID:6193-1618765200-1618768800@www.rippeynews.com
SUMMARY:Piano Concert
DESCRIPTION:
URL:https://www.rippeynews.com/event/piano-concert/
LOCATION:Rippey Community Center\, 224 Main St.\, Rippey\, IA
END:VEVENT
BEGIN:VEVENT
DTSTART;TZID=UTC:20210411T173000
DTEND;TZID=UTC:20210411T183000
DTSTAMP:20260425T163131
CREATED:20210316T162128Z
LAST-MODIFIED:20210316T162128Z
UID:6125-1618162200-1618165800@www.rippeynews.com
SUMMARY:Sesquicentennial Committee Planning Meeting
DESCRIPTION:
URL:https://www.rippeynews.com/event/sesquicentennial-committee-planning-meeting/
LOCATION:Rippey Community Center\, 224 Main St.\, Rippey\, IA
END:VEVENT
BEGIN:VEVENT
DTSTART;TZID=UTC:20210405T190000
DTEND;TZID=UTC:20210405T200000
DTSTAMP:20260425T163131
CREATED:20210309T170746Z
LAST-MODIFIED:20210309T170746Z
UID:6112-1617649200-1617652800@www.rippeynews.com
SUMMARY:City Council Meeting
DESCRIPTION:
URL:https://www.rippeynews.com/event/city-council-meeting-46/
LOCATION:Rippey Community Center\, 224 Main St.\, Rippey\, IA
END:VEVENT
END:VCALENDAR