BEGIN:VCALENDAR
VERSION:2.0
PRODID:-//Rippey News - ECPv6.13.2.1//NONSGML v1.0//EN
CALSCALE:GREGORIAN
METHOD:PUBLISH
X-ORIGINAL-URL:https://www.rippeynews.com
X-WR-CALDESC:Events for Rippey News
REFRESH-INTERVAL;VALUE=DURATION:PT1H
X-Robots-Tag:noindex
X-PUBLISHED-TTL:PT1H
BEGIN:VTIMEZONE
TZID:UTC
BEGIN:STANDARD
TZOFFSETFROM:+0000
TZOFFSETTO:+0000
TZNAME:UTC
DTSTART:20230101T000000
END:STANDARD
END:VTIMEZONE
BEGIN:VEVENT
DTSTART;TZID=UTC:20230302T183000
DTEND;TZID=UTC:20230302T200000
DTSTAMP:20260426T042118
CREATED:20230227T180224Z
LAST-MODIFIED:20230227T180225Z
UID:7973-1677781800-1677787200@www.rippeynews.com
SUMMARY:Lions Club Meeting & Potluck
DESCRIPTION:Volunteers who helped with the BRR Ride meal will be special guests. Rick Fazel will present the program.
URL:https://www.rippeynews.com/event/lions-club-meeting-potluck/
LOCATION:Rippey United Methodist Church\, 103 Main St.\, Rippey\, IA\, 50235
END:VEVENT
BEGIN:VEVENT
DTSTART;TZID=UTC:20230305T190000
DTEND;TZID=UTC:20230305T200000
DTSTAMP:20260426T042118
CREATED:20230221T174046Z
LAST-MODIFIED:20230302T193604Z
UID:7969-1678042800-1678046400@www.rippeynews.com
SUMMARY:Friends Of Rippey Meeting
DESCRIPTION:Call to Order: \n\n\n\nMinutes of February 5\, 2023: \n\n\n\nTreasurer’s Report: \n\n\n\nOld Business: \n\n\n\nSt. Patrick’s Day (March 17) Meal/pie auction (Set Up\, Auctioneer\, Pies Donated) \n\n\n\nEaster Egg Hunt/Easter Bunny/Meal and Set-Up \n\n\n\nGrant Update \n\n\n\nPainting of Community Room/Library Update \n\n\n\nPickleball Court Update \n\n\n\nBasketball Court Update \n\n\n\nOther grant reports \n\n\n\nNew Business: \n\n\n\nRaffle tickets \n\n\n\nRippey Fun Daze July 22\, 2023 \n\n\n\nReports from Committees: \n\n\n\nFire Department \n\n\n\nBaseball Commission \n\n\n\nLibrary \n\n\n\nOther committees \n\n\n\nContact Updates for July 22\, 2023: \n\n\n\nCrafts \n\n\n\nCar Show \n\n\n\nParade \n\n\n\nBouncy Houses \n\n\n\nBingo \n\n\n\nKiddie Tractor Pull \n\n\n\nBingo \n\n\n\nBand \n\n\n\nBaseball \n\n\n\nFireworks \n\n\n\nPortable toilets \n\n\n\nOther business to conduct: \n\n\n\nNext Meeting: April 2\, 2023 : \n\n\n\nOther: \n\n\n\nAdjourn.
URL:https://www.rippeynews.com/event/friends-of-rippey-meeting-8/
LOCATION:Rippey Community Center\, 224 Main St.\, Rippey\, IA
END:VEVENT
BEGIN:VEVENT
DTSTART;TZID=UTC:20230306T190000
DTEND;TZID=UTC:20230306T200000
DTSTAMP:20260426T042118
CREATED:20230207T185738Z
LAST-MODIFIED:20230207T185849Z
UID:7926-1678129200-1678132800@www.rippeynews.com
SUMMARY:City Council Meeting
DESCRIPTION:
URL:https://www.rippeynews.com/event/7926/
LOCATION:Rippey Community Center\, 224 Main St.\, Rippey\, IA
END:VEVENT
BEGIN:VEVENT
DTSTART;TZID=UTC:20230307T110000
DTEND;TZID=UTC:20230307T123000
DTSTAMP:20260426T042118
CREATED:20230227T180607Z
LAST-MODIFIED:20230227T180608Z
UID:7975-1678186800-1678192200@www.rippeynews.com
SUMMARY:Tuesday Morning Soup
DESCRIPTION:Tuesday fellowship (10am) followed by a soup event. First Tuesdays of each month. Everyone is welcome to attend.
URL:https://www.rippeynews.com/event/tuesday-morning-soup/
LOCATION:Rippey United Methodist Church\, 103 Main St.\, Rippey\, IA\, 50235
END:VEVENT
BEGIN:VEVENT
DTSTART;TZID=UTC:20230316T183000
DTEND;TZID=UTC:20230316T200000
DTSTAMP:20260426T042118
CREATED:20230315T183923Z
LAST-MODIFIED:20230315T183924Z
UID:8006-1678991400-1678996800@www.rippeynews.com
SUMMARY:Lions Club Meeting
DESCRIPTION:A meal will be served. Following the business meeting\, Alan Robinson\, Grand Jct.\, will present the program. He is a board member of the Highway 144 Corridor Housing Initiative for the eastern part of Greene County\, towns of Rippey\, Grand Junction\, Paton and Dana. Application forms are available at the Rippey Public Library\, Peoples Bank and Rolling Hills Bank.
URL:https://www.rippeynews.com/event/lions-club-meeting-49/
LOCATION:Rippey United Methodist Church\, 103 Main St.\, Rippey\, IA\, 50235
END:VEVENT
BEGIN:VEVENT
DTSTART;TZID=UTC:20230317T170000
DTEND;TZID=UTC:20230317T200000
DTSTAMP:20260426T042118
CREATED:20230202T190544Z
LAST-MODIFIED:20230208T160645Z
UID:7902-1679072400-1679083200@www.rippeynews.com
SUMMARY:Irish Stew Meal\, Pie Auction & Bingo
DESCRIPTION:
URL:https://www.rippeynews.com/event/irish-stew-meal-pie-auction/
LOCATION:Rippey Community Center\, 224 Main St.\, Rippey\, IA
END:VEVENT
END:VCALENDAR