BEGIN:VCALENDAR
VERSION:2.0
PRODID:-//Rippey News - ECPv6.13.2.1//NONSGML v1.0//EN
CALSCALE:GREGORIAN
METHOD:PUBLISH
X-WR-CALNAME:Rippey News
X-ORIGINAL-URL:https://www.rippeynews.com
X-WR-CALDESC:Events for Rippey News
REFRESH-INTERVAL;VALUE=DURATION:PT1H
X-Robots-Tag:noindex
X-PUBLISHED-TTL:PT1H
BEGIN:VTIMEZONE
TZID:UTC
BEGIN:STANDARD
TZOFFSETFROM:+0000
TZOFFSETTO:+0000
TZNAME:UTC
DTSTART:20250101T000000
END:STANDARD
END:VTIMEZONE
BEGIN:VEVENT
DTSTART;TZID=UTC:20250904T183000
DTEND;TZID=UTC:20250904T200000
DTSTAMP:20260424T043334
CREATED:20250902T173118Z
LAST-MODIFIED:20250902T173118Z
UID:9435-1757010600-1757016000@www.rippeynews.com
SUMMARY:Lions Club Meeting
DESCRIPTION:
URL:https://www.rippeynews.com/event/lions-club-meeting-69/
LOCATION:Rippey United Methodist Church\, 103 Main St.\, Rippey\, IA\, 50235
END:VEVENT
BEGIN:VEVENT
DTSTART;TZID=UTC:20250918T183000
DTEND;TZID=UTC:20250918T200000
DTSTAMP:20260424T043334
CREATED:20250915T234114Z
LAST-MODIFIED:20250915T234115Z
UID:9444-1758220200-1758225600@www.rippeynews.com
SUMMARY:Lions Club Meeting
DESCRIPTION:
URL:https://www.rippeynews.com/event/lions-club-meeting-70/
LOCATION:Rippey United Methodist Church\, 103 Main St.\, Rippey\, IA\, 50235
END:VEVENT
END:VCALENDAR