BEGIN:VCALENDAR
VERSION:2.0
PRODID:-//Rippey News - ECPv6.13.2.1//NONSGML v1.0//EN
CALSCALE:GREGORIAN
METHOD:PUBLISH
X-WR-CALNAME:Rippey News
X-ORIGINAL-URL:https://www.rippeynews.com
X-WR-CALDESC:Events for Rippey News
REFRESH-INTERVAL;VALUE=DURATION:PT1H
X-Robots-Tag:noindex
X-PUBLISHED-TTL:PT1H
BEGIN:VTIMEZONE
TZID:UTC
BEGIN:STANDARD
TZOFFSETFROM:+0000
TZOFFSETTO:+0000
TZNAME:UTC
DTSTART:20250101T000000
END:STANDARD
END:VTIMEZONE
BEGIN:VEVENT
DTSTART;TZID=UTC:20251005T173000
DTEND;TZID=UTC:20251005T183000
DTSTAMP:20260424T025840
CREATED:20250923T183953Z
LAST-MODIFIED:20250923T183954Z
UID:9452-1759685400-1759689000@www.rippeynews.com
SUMMARY:Friends of Rippey Meeting
DESCRIPTION:Friends of Rippey meeting
URL:https://www.rippeynews.com/event/friends-of-rippey-meeting-21/
LOCATION:Rippey Community Center\, 224 Main St.\, Rippey\, IA
END:VEVENT
BEGIN:VEVENT
DTSTART;TZID=UTC:20251010T000000
DTEND;TZID=UTC:20251012T235959
DTSTAMP:20260424T025840
CREATED:20251009T030454Z
LAST-MODIFIED:20251009T030642Z
UID:9469-1760054400-1760313599@www.rippeynews.com
SUMMARY:Boys of Summer
DESCRIPTION:Last chance to catch the Boys of Summer at Walt Anderson Field. \n\n\n\nhttps://www.facebook.com/share/p/1BtZubYXgi
URL:https://www.rippeynews.com/event/boys-of-summer/
LOCATION:Walt Anderson Field\, Rippey\, IA
END:VEVENT
BEGIN:VEVENT
DTSTART;TZID=UTC:20251016T183000
DTEND;TZID=UTC:20251016T200000
DTSTAMP:20260424T025840
CREATED:20251008T171537Z
LAST-MODIFIED:20251008T171605Z
UID:9466-1760639400-1760644800@www.rippeynews.com
SUMMARY:Lions Club Meeting
DESCRIPTION:Lions Club Meeting
URL:https://www.rippeynews.com/event/lions-club-meeting-71/
LOCATION:Rippey United Methodist Church\, 103 Main St.\, Rippey\, IA\, 50235
END:VEVENT
BEGIN:VEVENT
DTSTART;TZID=UTC:20251025T170000
DTEND;TZID=UTC:20251025T200000
DTSTAMP:20260424T025840
CREATED:20250923T183631Z
LAST-MODIFIED:20251003T190555Z
UID:9449-1761411600-1761422400@www.rippeynews.com
SUMMARY:Trunk Or Treat
DESCRIPTION:
URL:https://www.rippeynews.com/event/trunk-or-treat-3/
LOCATION:Rippey\, IA
END:VEVENT
END:VCALENDAR