BEGIN:VCALENDAR
VERSION:2.0
PRODID:-//Rippey News - ECPv6.13.2.1//NONSGML v1.0//EN
CALSCALE:GREGORIAN
METHOD:PUBLISH
X-WR-CALNAME:Rippey News
X-ORIGINAL-URL:https://www.rippeynews.com
X-WR-CALDESC:Events for Rippey News
REFRESH-INTERVAL;VALUE=DURATION:PT1H
X-Robots-Tag:noindex
X-PUBLISHED-TTL:PT1H
BEGIN:VTIMEZONE
TZID:UTC
BEGIN:STANDARD
TZOFFSETFROM:+0000
TZOFFSETTO:+0000
TZNAME:UTC
DTSTART:20250101T000000
END:STANDARD
END:VTIMEZONE
BEGIN:VEVENT
DTSTART;TZID=UTC:20251204T183000
DTEND;TZID=UTC:20251204T200000
DTSTAMP:20260423T232822
CREATED:20251202T183138Z
LAST-MODIFIED:20251202T183139Z
UID:9539-1764873000-1764878400@www.rippeynews.com
SUMMARY:Lions Club Meeting
DESCRIPTION:
URL:https://www.rippeynews.com/event/lions-club-meeting-74/
LOCATION:Rippey United Methodist Church\, 103 Main St.\, Rippey\, IA\, 50235
END:VEVENT
BEGIN:VEVENT
DTSTART;TZID=UTC:20251207T173000
DTEND;TZID=UTC:20251207T183000
DTSTAMP:20260423T232822
CREATED:20251118T202142Z
LAST-MODIFIED:20251118T202143Z
UID:9519-1765128600-1765132200@www.rippeynews.com
SUMMARY:Friends Of Rippey Meeting
DESCRIPTION:Friends Of Rippey Meeting
URL:https://www.rippeynews.com/event/friends-of-rippey-meeting-22/
LOCATION:Rippey Community Center\, 224 Main St.\, Rippey\, IA
END:VEVENT
BEGIN:VEVENT
DTSTART;TZID=UTC:20251213T100000
DTEND;TZID=UTC:20251213T120000
DTSTAMP:20260423T232822
CREATED:20251118T202555Z
LAST-MODIFIED:20251208T194939Z
UID:9521-1765620000-1765627200@www.rippeynews.com
SUMMARY:Brunch With Santa
DESCRIPTION:
URL:https://www.rippeynews.com/event/brunch-with-santa/
LOCATION:Rippey Community Center\, 224 Main St.\, Rippey\, IA
END:VEVENT
END:VCALENDAR