BEGIN:VCALENDAR
VERSION:2.0
PRODID:-//Rippey News - ECPv6.13.2.1//NONSGML v1.0//EN
CALSCALE:GREGORIAN
METHOD:PUBLISH
X-ORIGINAL-URL:https://www.rippeynews.com
X-WR-CALDESC:Events for Rippey News
REFRESH-INTERVAL;VALUE=DURATION:PT1H
X-Robots-Tag:noindex
X-PUBLISHED-TTL:PT1H
BEGIN:VTIMEZONE
TZID:UTC
BEGIN:STANDARD
TZOFFSETFROM:+0000
TZOFFSETTO:+0000
TZNAME:UTC
DTSTART:20260101T000000
END:STANDARD
END:VTIMEZONE
BEGIN:VEVENT
DTSTART;TZID=UTC:20260305T183000
DTEND;TZID=UTC:20260305T200000
DTSTAMP:20260423T174937
CREATED:20260303T211106Z
LAST-MODIFIED:20260303T211107Z
UID:9645-1772735400-1772740800@www.rippeynews.com
SUMMARY:Lions Club Meeting
DESCRIPTION:
URL:https://www.rippeynews.com/event/lions-club-meeting-75/
LOCATION:Rippey United Methodist Church\, 103 Main St.\, Rippey\, IA\, 50235
END:VEVENT
BEGIN:VEVENT
DTSTART;TZID=UTC:20260308T173000
DTEND;TZID=UTC:20260308T183000
DTSTAMP:20260423T174937
CREATED:20260223T203844Z
LAST-MODIFIED:20260303T211605Z
UID:9641-1772991000-1772994600@www.rippeynews.com
SUMMARY:Friends Of Rippey Meeting
DESCRIPTION:
URL:https://www.rippeynews.com/event/friends-of-rippey-meeting-24/
LOCATION:IA
END:VEVENT
BEGIN:VEVENT
DTSTART;TZID=UTC:20260318T183000
DTEND;TZID=UTC:20260318T200000
DTSTAMP:20260423T174937
CREATED:20260316T190104Z
LAST-MODIFIED:20260316T190105Z
UID:9659-1773858600-1773864000@www.rippeynews.com
SUMMARY:Lions Club Meeting
DESCRIPTION:
URL:https://www.rippeynews.com/event/lions-club-meeting-76/
LOCATION:IA
END:VEVENT
BEGIN:VEVENT
DTSTART;TZID=UTC:20260328T100000
DTEND;TZID=UTC:20260328T123000
DTSTAMP:20260423T174937
CREATED:20260112T180045Z
LAST-MODIFIED:20260316T190418Z
UID:9605-1774692000-1774701000@www.rippeynews.com
SUMMARY:Easter Egg Hunt
DESCRIPTION:
URL:https://www.rippeynews.com/event/easter-egg-hunt-3/
LOCATION:Rippey Community Center\, 224 Main St.\, Rippey\, IA
END:VEVENT
END:VCALENDAR